BEGIN:VCALENDAR
VERSION:2.0
PRODID:-//Cedar Lane Unitarian Universalist Congregation - ECPv6.15.20//NONSGML v1.0//EN
CALSCALE:GREGORIAN
METHOD:PUBLISH
X-WR-CALNAME:Cedar Lane Unitarian Universalist Congregation
X-ORIGINAL-URL:https://cedarlane.org
X-WR-CALDESC:Events for Cedar Lane Unitarian Universalist Congregation
REFRESH-INTERVAL;VALUE=DURATION:PT1H
X-Robots-Tag:noindex
X-PUBLISHED-TTL:PT1H
BEGIN:VTIMEZONE
TZID:America/New_York
BEGIN:DAYLIGHT
TZOFFSETFROM:-0500
TZOFFSETTO:-0400
TZNAME:EDT
DTSTART:20240310T070000
END:DAYLIGHT
BEGIN:STANDARD
TZOFFSETFROM:-0400
TZOFFSETTO:-0500
TZNAME:EST
DTSTART:20241103T060000
END:STANDARD
BEGIN:DAYLIGHT
TZOFFSETFROM:-0500
TZOFFSETTO:-0400
TZNAME:EDT
DTSTART:20250309T070000
END:DAYLIGHT
BEGIN:STANDARD
TZOFFSETFROM:-0400
TZOFFSETTO:-0500
TZNAME:EST
DTSTART:20251102T060000
END:STANDARD
BEGIN:DAYLIGHT
TZOFFSETFROM:-0500
TZOFFSETTO:-0400
TZNAME:EDT
DTSTART:20260308T070000
END:DAYLIGHT
BEGIN:STANDARD
TZOFFSETFROM:-0400
TZOFFSETTO:-0500
TZNAME:EST
DTSTART:20261101T060000
END:STANDARD
END:VTIMEZONE
BEGIN:VEVENT
DTSTART;TZID=America/New_York:20251124T100000
DTEND;TZID=America/New_York:20251124T120000
DTSTAMP:20260425T122526
CREATED:20250709T163356Z
LAST-MODIFIED:20251101T214305Z
UID:10015498-1763978400-1763985600@cedarlane.org
SUMMARY:Science and Religion
DESCRIPTION:
URL:https://cedarlane.org/calendar/science-religion-discussion/2025-11-24/
CATEGORIES:Learn and Grow
ATTACH;FMTTYPE=image/webp:https://cedarlane.org/wp-content/uploads/2025/10/science.webp
END:VEVENT
BEGIN:VEVENT
DTSTART;TZID=America/New_York:20251124T193000
DTEND;TZID=America/New_York:20251124T203000
DTSTAMP:20260425T122526
CREATED:20250828T202129Z
LAST-MODIFIED:20251101T214304Z
UID:10014231-1764012600-1764016200@cedarlane.org
SUMMARY:Meditation
DESCRIPTION:This online meditation class focuses on finding peace of mind and stress reduction through the teachings of the Buddha on mindfulness and compassion. All levels are welcome to our drop in class. \n\n	\n		\n			\n				\n					Join via Zoom\n				\n			\n		\n	\n\n 
URL:https://cedarlane.org/calendar/meditation-26/2025-11-24/
CATEGORIES:Healing,Spirituality
ATTACH;FMTTYPE=image/webp:https://cedarlane.org/wp-content/uploads/2025/10/meditation.webp
ORGANIZER;CN="Carole Rogentine":MAILTO:meditation@cedarlane.org
LOCATION:https://cedarlane.org/calendar/meditation-26/2025-11-24/
END:VEVENT
END:VCALENDAR