BEGIN:VCALENDAR
VERSION:2.0
PRODID:-//Cedar Lane Unitarian Universalist Congregation - ECPv6.15.20//NONSGML v1.0//EN
CALSCALE:GREGORIAN
METHOD:PUBLISH
X-WR-CALNAME:Cedar Lane Unitarian Universalist Congregation
X-ORIGINAL-URL:https://cedarlane.org
X-WR-CALDESC:Events for Cedar Lane Unitarian Universalist Congregation
REFRESH-INTERVAL;VALUE=DURATION:PT1H
X-Robots-Tag:noindex
X-PUBLISHED-TTL:PT1H
BEGIN:VTIMEZONE
TZID:America/New_York
BEGIN:DAYLIGHT
TZOFFSETFROM:-0500
TZOFFSETTO:-0400
TZNAME:EDT
DTSTART:20250309T070000
END:DAYLIGHT
BEGIN:STANDARD
TZOFFSETFROM:-0400
TZOFFSETTO:-0500
TZNAME:EST
DTSTART:20251102T060000
END:STANDARD
BEGIN:DAYLIGHT
TZOFFSETFROM:-0500
TZOFFSETTO:-0400
TZNAME:EDT
DTSTART:20260308T070000
END:DAYLIGHT
BEGIN:STANDARD
TZOFFSETFROM:-0400
TZOFFSETTO:-0500
TZNAME:EST
DTSTART:20261101T060000
END:STANDARD
BEGIN:DAYLIGHT
TZOFFSETFROM:-0500
TZOFFSETTO:-0400
TZNAME:EDT
DTSTART:20270314T070000
END:DAYLIGHT
BEGIN:STANDARD
TZOFFSETFROM:-0400
TZOFFSETTO:-0500
TZNAME:EST
DTSTART:20271107T060000
END:STANDARD
END:VTIMEZONE
BEGIN:VEVENT
DTSTART;TZID=America/New_York:20260114T160000
DTEND;TZID=America/New_York:20260114T173000
DTSTAMP:20260425T122532
CREATED:20250709T163033Z
LAST-MODIFIED:20251101T214336Z
UID:10016071-1768406400-1768411800@cedarlane.org
SUMMARY:Caring Ministry Team Meeting
DESCRIPTION:We gather on the 2nd Wednesday of each month to coordinate the activities of the caring team. If you would like to talk to someone from the caring team\, please reach out.
URL:https://cedarlane.org/calendar/caring-ministry/2026-01-14/
CATEGORIES:Healing,Planning and Coordination
ATTACH;FMTTYPE=image/webp:https://cedarlane.org/wp-content/uploads/2025/10/caringteam.webp
ORGANIZER;CN="Betsy Binkes and Kathleen Holmay":MAILTO:caringteam@cedarlane.org
END:VEVENT
BEGIN:VEVENT
DTSTART;TZID=America/New_York:20260114T184500
DTEND;TZID=America/New_York:20260114T203000
DTSTAMP:20260425T122532
CREATED:20251011T231107Z
LAST-MODIFIED:20260415T144537Z
UID:10016343-1768416300-1768422600@cedarlane.org
SUMMARY:Shepherd's Table Veggie Chopping
DESCRIPTION:We meet to chop vegetables at Shepherd’s Table monthly on the 2nd Tuesday evening and the following Wednesday evening. Join us for this hands-on volunteer activity that helps feed our neighbors.
URL:https://cedarlane.org/calendar/shepherds-table-veggies2/2026-01-14/
LOCATION:Shepherd’s Table\, 8106 Georgia Ave\, Silver Spring\, 20910\, United States
CATEGORIES:Fun,In the Spotlight,Volunteer Opportunity
ATTACH;FMTTYPE=image/webp:https://cedarlane.org/wp-content/uploads/2025/10/veggie-chopping.webp
ORGANIZER;CN="Anne Fretz":MAILTO:veggiechoppers@cedarlane.org
END:VEVENT
BEGIN:VEVENT
DTSTART;TZID=America/New_York:20260114T190000
DTEND;TZID=America/New_York:20260114T203000
DTSTAMP:20260425T122532
CREATED:20250728T205232Z
LAST-MODIFIED:20251101T214305Z
UID:10000622-1768417200-1768422600@cedarlane.org
SUMMARY:Ecosystems Study Group
DESCRIPTION:What are the root causes of climate change\, biodiversity loss\, ocean acidification\, and other symptoms of our “overshoot” of Earth’s carrying capacity? What are the best ways to address our predicament? What is our moral and ethical response? ESG was founded in 2017 to explore these questions and more using a “systems thinking” approach. Our goal is to educate ourselves\, activist groups\, and the general public. We have a very active Google Group that allows us to share a wide variety of information\, and we meet twice per month to discuss what we’ve learned. We also host a number of speakers at events which we open to the wider public. Past speakers include Nate Hagens\, Charlie Hall\, Richard Heinberg\, Alice Friedemann\, Chris Clugston\, Jack Alpert\, John Seager\, Terry Spahr\, and Gaya Herrington.
URL:https://cedarlane.org/calendar/ecosystems-study-group/2026-01-14/
CATEGORIES:Activism & Justice,Learn and Grow,Nature
ATTACH;FMTTYPE=image/webp:https://cedarlane.org/wp-content/uploads/2025/10/ecosystems.webp
ORGANIZER;CN="Jim Laurenson":MAILTO:ecosystemsstudygroup@gmail.com
END:VEVENT
BEGIN:VEVENT
DTSTART;TZID=America/New_York:20260114T193000
DTEND;TZID=America/New_York:20260114T213000
DTSTAMP:20260425T122532
CREATED:20250825T185252Z
LAST-MODIFIED:20251112T052706Z
UID:10001830-1768419000-1768426200@cedarlane.org
SUMMARY:Adult Choir Rehearsal
DESCRIPTION:Join the Cedar Lane choir for the 2025-26 season! \nThere’s always a place for you in the choir. Young\, old\, new\, experienced\, and lesser experienced all welcome! Individual training can be provided. Come share the joy of singing with your fellow Cedar Lane members and friends to provide regular music for worship services and other events throughout the church year. Rehearsals meet on Wednesdays at 7:30pm in the choir loft (upstairs from the sanctuary). \nFor more information\, please contact Michael Holmes\, director of Music and Arts\, at mholmes@cedarlane.org.
URL:https://cedarlane.org/calendar/adult-choir-rehearsal/2026-01-14/
LOCATION:Sanctuary\, 9601 Cedar Ln\, Bethesda\, MD\, 20814\, United States
CATEGORIES:Music
ATTACH;FMTTYPE=image/webp:https://cedarlane.org/wp-content/uploads/2025/10/choir.webp
ORGANIZER;CN="Michael Holmes":MAILTO:mholmes@cedarlane.org
END:VEVENT
END:VCALENDAR