BEGIN:VCALENDAR
VERSION:2.0
PRODID:-//Cedar Lane Unitarian Universalist Congregation - ECPv6.15.20//NONSGML v1.0//EN
CALSCALE:GREGORIAN
METHOD:PUBLISH
X-WR-CALNAME:Cedar Lane Unitarian Universalist Congregation
X-ORIGINAL-URL:https://cedarlane.org
X-WR-CALDESC:Events for Cedar Lane Unitarian Universalist Congregation
REFRESH-INTERVAL;VALUE=DURATION:PT1H
X-Robots-Tag:noindex
X-PUBLISHED-TTL:PT1H
BEGIN:VTIMEZONE
TZID:America/New_York
BEGIN:DAYLIGHT
TZOFFSETFROM:-0500
TZOFFSETTO:-0400
TZNAME:EDT
DTSTART:20250309T070000
END:DAYLIGHT
BEGIN:STANDARD
TZOFFSETFROM:-0400
TZOFFSETTO:-0500
TZNAME:EST
DTSTART:20251102T060000
END:STANDARD
BEGIN:DAYLIGHT
TZOFFSETFROM:-0500
TZOFFSETTO:-0400
TZNAME:EDT
DTSTART:20260308T070000
END:DAYLIGHT
BEGIN:STANDARD
TZOFFSETFROM:-0400
TZOFFSETTO:-0500
TZNAME:EST
DTSTART:20261101T060000
END:STANDARD
BEGIN:DAYLIGHT
TZOFFSETFROM:-0500
TZOFFSETTO:-0400
TZNAME:EDT
DTSTART:20270314T070000
END:DAYLIGHT
BEGIN:STANDARD
TZOFFSETFROM:-0400
TZOFFSETTO:-0500
TZNAME:EST
DTSTART:20271107T060000
END:STANDARD
END:VTIMEZONE
BEGIN:VEVENT
DTSTART;TZID=America/New_York:20260121T180000
DTEND;TZID=America/New_York:20260121T193000
DTSTAMP:20260425T123843
CREATED:20250821T164743Z
LAST-MODIFIED:20260415T144725Z
UID:10015944-1769018400-1769023800@cedarlane.org
SUMMARY:Welcome Wednesday
DESCRIPTION:Come as you are and enjoy good food\, conversation\, and community activities with friends old and new. We meet on the 3rd Wednesday of each month to nourish body and spirit\, and build lasting connections. \nWhen RSVP’ing\, let us know if you can volunteer to bring a dish to share. \nThen stay with us at 7pm (or just come at 7pm) for our drop-in Newcomers Soul Circle. \nGet more info and let us know you’re coming – or just show up! \n\n	\n		\n			\n				\n					RSVP
URL:https://cedarlane.org/calendar/welcome-wednesday-4/2026-01-21/
LOCATION:Fellowship Hall\, 9601 Cedar Ln\, Bethesda\, MD\, 20814\, United States
CATEGORIES:In the Spotlight,Newcomers,Volunteer Opportunity
ATTACH;FMTTYPE=image/webp:https://cedarlane.org/wp-content/uploads/2025/10/welcome-wednesday.webp
ORGANIZER;CN="Nicolle Singer":MAILTO:nsinger@cedarlane.org
END:VEVENT
BEGIN:VEVENT
DTSTART;TZID=America/New_York:20260121T190000
DTEND;TZID=America/New_York:20260121T210000
DTSTAMP:20260425T123843
CREATED:20251031T201525Z
LAST-MODIFIED:20251112T050343Z
UID:10017734-1769022000-1769029200@cedarlane.org
SUMMARY:Newcomers Soul Circle
DESCRIPTION:The Newcomers Soul Circle is facilitated by Rev. Dayna Edwards for people who started attending in 2024 or 2025. Soul Circles meet once per month and are a great way to get connected and enjoy spiritual exploration with a small group. Come early to attend the Welcome Wednesday potluck before the meeting.
URL:https://cedarlane.org/calendar/newcomers-circle/2026-01-21/
LOCATION:Library\, 9601 Cedar Ln\, Bethesda\, MD\, 20814\, United States
CATEGORIES:Newcomers
ATTACH;FMTTYPE=image/webp:https://cedarlane.org/wp-content/uploads/2025/10/small-groups.webp
END:VEVENT
BEGIN:VEVENT
DTSTART;TZID=America/New_York:20260121T193000
DTEND;TZID=America/New_York:20260121T213000
DTSTAMP:20260425T123843
CREATED:20250825T185252Z
LAST-MODIFIED:20251112T052706Z
UID:10001831-1769023800-1769031000@cedarlane.org
SUMMARY:Adult Choir Rehearsal
DESCRIPTION:Join the Cedar Lane choir for the 2025-26 season! \nThere’s always a place for you in the choir. Young\, old\, new\, experienced\, and lesser experienced all welcome! Individual training can be provided. Come share the joy of singing with your fellow Cedar Lane members and friends to provide regular music for worship services and other events throughout the church year. Rehearsals meet on Wednesdays at 7:30pm in the choir loft (upstairs from the sanctuary). \nFor more information\, please contact Michael Holmes\, director of Music and Arts\, at mholmes@cedarlane.org.
URL:https://cedarlane.org/calendar/adult-choir-rehearsal/2026-01-21/
LOCATION:Sanctuary\, 9601 Cedar Ln\, Bethesda\, MD\, 20814\, United States
CATEGORIES:Music
ATTACH;FMTTYPE=image/webp:https://cedarlane.org/wp-content/uploads/2025/10/choir.webp
ORGANIZER;CN="Michael Holmes":MAILTO:mholmes@cedarlane.org
END:VEVENT
END:VCALENDAR