BEGIN:VCALENDAR
VERSION:2.0
PRODID:-//Cedar Lane Unitarian Universalist Congregation - ECPv6.15.20//NONSGML v1.0//EN
CALSCALE:GREGORIAN
METHOD:PUBLISH
X-WR-CALNAME:Cedar Lane Unitarian Universalist Congregation
X-ORIGINAL-URL:https://cedarlane.org
X-WR-CALDESC:Events for Cedar Lane Unitarian Universalist Congregation
REFRESH-INTERVAL;VALUE=DURATION:PT1H
X-Robots-Tag:noindex
X-PUBLISHED-TTL:PT1H
BEGIN:VTIMEZONE
TZID:America/New_York
BEGIN:DAYLIGHT
TZOFFSETFROM:-0500
TZOFFSETTO:-0400
TZNAME:EDT
DTSTART:20250309T070000
END:DAYLIGHT
BEGIN:STANDARD
TZOFFSETFROM:-0400
TZOFFSETTO:-0500
TZNAME:EST
DTSTART:20251102T060000
END:STANDARD
BEGIN:DAYLIGHT
TZOFFSETFROM:-0500
TZOFFSETTO:-0400
TZNAME:EDT
DTSTART:20260308T070000
END:DAYLIGHT
BEGIN:STANDARD
TZOFFSETFROM:-0400
TZOFFSETTO:-0500
TZNAME:EST
DTSTART:20261101T060000
END:STANDARD
BEGIN:DAYLIGHT
TZOFFSETFROM:-0500
TZOFFSETTO:-0400
TZNAME:EDT
DTSTART:20270314T070000
END:DAYLIGHT
BEGIN:STANDARD
TZOFFSETFROM:-0400
TZOFFSETTO:-0500
TZNAME:EST
DTSTART:20271107T060000
END:STANDARD
END:VTIMEZONE
BEGIN:VEVENT
DTSTART;TZID=America/New_York:20260405T090000
DTEND;TZID=America/New_York:20260405T100000
DTSTAMP:20260425T074841
CREATED:20251029T014624Z
LAST-MODIFIED:20260122T170419Z
UID:10017018-1775379600-1775383200@cedarlane.org
SUMMARY:JourneyWomen
DESCRIPTION:We experience silence and share what is important in our lives through readings from varied sources. We listen\, witness\, and offer nonverbal support. We light candles for our departed group members and other ancestors. Sometimes we speak into the silence and other times to the group with a spiritual or otherwise personal check-in. We sometimes use the monthly Soul Circles packet of resources as a springboard for our readings. Probably more often\, each of us brings poetry\, book excerpts\, a video clip\, or a photo whose meaning we want to explore.\n\n \n\nIn our reflective listening\, we privilege humility toward the natural world as much as we do human cultures.\n\nWe gather in person and online on the 1st and 3rd Sundays at 9:00 am Eastern. You are welcome to join us. Please contact us for zoom link info.
URL:https://cedarlane.org/calendar/journeywomen/2026-04-05/
LOCATION:Cedar Lane UU Congregation\, 9601 Cedar Ln\, Bethesda\, Maryland\, 20814
CATEGORIES:Spirituality,Women
ATTACH;FMTTYPE=image/webp:https://cedarlane.org/wp-content/uploads/2025/10/sarah-brown-cVt0u781VGo-unsplash.webp
END:VEVENT
BEGIN:VEVENT
DTSTART;TZID=America/New_York:20260405T090000
DTEND;TZID=America/New_York:20260405T103000
DTSTAMP:20260425T074841
CREATED:20251029T194321Z
LAST-MODIFIED:20251110T145939Z
UID:10016392-1775379600-1775385000@cedarlane.org
SUMMARY:Food and Diaper Drop-off
DESCRIPTION:You are invited to bring food and diapers and place them in the collection bin found in the chapel hallway. Volunteers collect these items on Sunday mornings and take them to our partner\, Mid-County United Ministries (MUM)\, to be distributed in the community. \nYour donations are greatly appreciated! \nCurrent Urgent Needs\n\nThree children need diapers sizes 3 and 5-6T pull-ups\n\nOn-going Needs\n\nHot/Cold Cereals\nCanned Fruits/Vegetables\nDry/Canned Beans\, Pastas\, Rice\nPasta Sauces\nCanned Meats/Tuna\nSoups/Stews/Chilies\nPeanut Butter/Jelly\nDiet Specific Foods\nToiletries\nDiapers and wipes\nFresh produce
URL:https://cedarlane.org/calendar/food-and-diaper-drop-off/2026-04-05/
LOCATION:Cedar Lane UU Congregation\, 9601 Cedar Ln\, Bethesda\, Maryland\, 20814
CATEGORIES:Activism & Justice,Volunteer Opportunity
ATTACH;FMTTYPE=image/webp:https://cedarlane.org/wp-content/uploads/2025/10/MUM.webp
ORGANIZER;CN="Roger DeLucia":MAILTO:mum@cedarlane.org
END:VEVENT
BEGIN:VEVENT
DTSTART;TZID=America/New_York:20260405T093000
DTEND;TZID=America/New_York:20260405T222000
DTSTAMP:20260425T074841
CREATED:20250822T182728Z
LAST-MODIFIED:20251110T141403Z
UID:10017486-1775381400-1775427600@cedarlane.org
SUMMARY:Quiet Callings
DESCRIPTION:Gather with us on Sunday mornings at 9:30 in the Chalice House for gentle music\, meditation\, and quiet reflection. This is a welcoming space for renewal\, sharing what’s on our hearts\, and finding connection\, healing\, and peace.
URL:https://cedarlane.org/calendar/quiet-callings/2026-04-05/
LOCATION:Chalice House\, 9601 Cedar Ln\, Bethesda\, MD\, 20814\, United States
CATEGORIES:Newcomers,Spirituality
ATTACH;FMTTYPE=image/png:https://cedarlane.org/wp-content/uploads/2025/08/Quiet-Callings-AM-1.png
GEO:39.013542080457;-77.088487850511
X-APPLE-STRUCTURED-LOCATION;VALUE=URI;X-ADDRESS=Chalice House 9601 Cedar Ln Bethesda MD 20814 United States;X-APPLE-RADIUS=500;X-TITLE=9601 Cedar Ln:geo:-77.088487850511,39.013542080457
END:VEVENT
BEGIN:VEVENT
DTSTART;TZID=America/New_York:20260405T103000
DTEND;TZID=America/New_York:20260405T123000
DTSTAMP:20260425T074841
CREATED:20260328T150942Z
LAST-MODIFIED:20260403T153805Z
UID:10000041-1775385000-1775392200@cedarlane.org
SUMMARY:Easter Sunday\, Egg Hunt\, Crafts and Celebration!
DESCRIPTION:Join us for a morning of celebration\, rebirth and renewal! We’ll start together in the sanctuary\, then send the children outside for easter egg hunts\, crafts\, and games. \nAfterwards\, we’ll have a potluck brunch together. \n\n	\n		\n			\n				\n					Volunteer to help
URL:https://cedarlane.org/calendar/sunday-worship-easter26/
LOCATION:Sanctuary\, 9601 Cedar Ln\, Bethesda\, MD\, 20814\, United States
CATEGORIES:After the Service,Families,Fun,In the Spotlight,Livestream Event,Newcomers,Spirituality,Volunteer Opportunity,Youth
ATTACH;FMTTYPE=image/webp:https://cedarlane.org/wp-content/uploads/2025/11/easter.webp
END:VEVENT
BEGIN:VEVENT
DTSTART;TZID=America/New_York:20260405T120000
DTEND;TZID=America/New_York:20260405T130000
DTSTAMP:20260425T074841
CREATED:20251104T163418Z
LAST-MODIFIED:20251110T140623Z
UID:10017805-1775390400-1775394000@cedarlane.org
SUMMARY:Newcomers Circle
DESCRIPTION:Join us after worship in this informal space to meet others\, ask questions\, and get a sense of our community. This is a great opportunity to meet other newcomers and explore how to get more connected in the Cedar Lane community.
URL:https://cedarlane.org/calendar/newcomers-circle-2/2026-04-05/
LOCATION:Library\, 9601 Cedar Ln\, Bethesda\, MD\, 20814\, United States
CATEGORIES:After the Service,Path to Membership
ATTACH;FMTTYPE=image/webp:https://cedarlane.org/wp-content/uploads/2025/10/Newcomer-Circle.webp
ORGANIZER;CN="Nicolle Singer":MAILTO:nsinger@cedarlane.org
END:VEVENT
BEGIN:VEVENT
DTSTART;TZID=America/New_York:20260405T173000
DTEND;TZID=America/New_York:20260405T190000
DTSTAMP:20260425T074841
CREATED:20250915T143439Z
LAST-MODIFIED:20251101T214303Z
UID:10014515-1775410200-1775415600@cedarlane.org
SUMMARY:High-Schoolers Hang Out
DESCRIPTION:Join fellow teens on Sunday Evenings in room 2 for this weekly get-together — Enjoy food\, music (choir & instrumental breakout groups)\, games\, crafts\, & space to chill with friends.
URL:https://cedarlane.org/calendar/high-schoolers-hang-out/2026-04-05/
LOCATION:Cedar Lane UU Congregation\, 9601 Cedar Ln\, Bethesda\, Maryland\, 20814
CATEGORIES:Newcomers,Youth
ATTACH;FMTTYPE=image/webp:https://cedarlane.org/wp-content/uploads/2025/10/hangout.webp
ORGANIZER;CN="Regina Dull":MAILTO:youthhangouts@cedarlane.org
END:VEVENT
END:VCALENDAR