BEGIN:VCALENDAR
VERSION:2.0
PRODID:-//Cedar Lane Unitarian Universalist Congregation - ECPv6.15.20//NONSGML v1.0//EN
CALSCALE:GREGORIAN
METHOD:PUBLISH
X-WR-CALNAME:Cedar Lane Unitarian Universalist Congregation
X-ORIGINAL-URL:https://cedarlane.org
X-WR-CALDESC:Events for Cedar Lane Unitarian Universalist Congregation
REFRESH-INTERVAL;VALUE=DURATION:PT1H
X-Robots-Tag:noindex
X-PUBLISHED-TTL:PT1H
BEGIN:VTIMEZONE
TZID:America/New_York
BEGIN:DAYLIGHT
TZOFFSETFROM:-0500
TZOFFSETTO:-0400
TZNAME:EDT
DTSTART:20250309T070000
END:DAYLIGHT
BEGIN:STANDARD
TZOFFSETFROM:-0400
TZOFFSETTO:-0500
TZNAME:EST
DTSTART:20251102T060000
END:STANDARD
BEGIN:DAYLIGHT
TZOFFSETFROM:-0500
TZOFFSETTO:-0400
TZNAME:EDT
DTSTART:20260308T070000
END:DAYLIGHT
BEGIN:STANDARD
TZOFFSETFROM:-0400
TZOFFSETTO:-0500
TZNAME:EST
DTSTART:20261101T060000
END:STANDARD
BEGIN:DAYLIGHT
TZOFFSETFROM:-0500
TZOFFSETTO:-0400
TZNAME:EDT
DTSTART:20270314T070000
END:DAYLIGHT
BEGIN:STANDARD
TZOFFSETFROM:-0400
TZOFFSETTO:-0500
TZNAME:EST
DTSTART:20271107T060000
END:STANDARD
END:VTIMEZONE
BEGIN:VEVENT
DTSTART;TZID=America/New_York:20260108T113000
DTEND;TZID=America/New_York:20260108T140000
DTSTAMP:20260425T150920
CREATED:20251223T190613Z
LAST-MODIFIED:20251223T190840Z
UID:8549-1767871800-1767880800@cedarlane.org
SUMMARY:Alliance Luncheon - The Pacific Islands: History and Current Significance
DESCRIPTION:Chinese aggression in the Pacific and climate change have thrust the often-neglected Pacific Islands into the news lately. Don Bliss\, a former Peace Corps volunteer lawyer in Micronesia\, discusses the three geographic and ethnic cultures of Oceania–Micronesia\, Polynesia\, and Melanesia. He will explore the great migration story of their settlement\, the influence of the European explorers and colonialists\, and the special relationship today between the United States and Micronesia. He will also comment on the work of the Peace Corps in the islands. \nJoin us for a monthly luncheon on 2nd Thursdays from 11:30 AM-2 pm in the Fellowship Hall.
URL:https://cedarlane.org/calendar/alliance-luncheon-2/
LOCATION:Fellowship Hall\, 9601 Cedar Ln\, Bethesda\, MD\, 20814\, United States
CATEGORIES:Fun
ATTACH;FMTTYPE=image/webp:https://cedarlane.org/wp-content/uploads/2025/12/Screenshot-2025-12-23-at-1.05.13-PM.webp
END:VEVENT
END:VCALENDAR