BEGIN:VCALENDAR
VERSION:2.0
PRODID:-//Cedar Lane Unitarian Universalist Congregation - ECPv6.15.20//NONSGML v1.0//EN
CALSCALE:GREGORIAN
METHOD:PUBLISH
X-WR-CALNAME:Cedar Lane Unitarian Universalist Congregation
X-ORIGINAL-URL:https://cedarlane.org
X-WR-CALDESC:Events for Cedar Lane Unitarian Universalist Congregation
REFRESH-INTERVAL;VALUE=DURATION:PT1H
X-Robots-Tag:noindex
X-PUBLISHED-TTL:PT1H
BEGIN:VTIMEZONE
TZID:America/New_York
BEGIN:DAYLIGHT
TZOFFSETFROM:-0500
TZOFFSETTO:-0400
TZNAME:EDT
DTSTART:20240310T070000
END:DAYLIGHT
BEGIN:STANDARD
TZOFFSETFROM:-0400
TZOFFSETTO:-0500
TZNAME:EST
DTSTART:20241103T060000
END:STANDARD
BEGIN:DAYLIGHT
TZOFFSETFROM:-0500
TZOFFSETTO:-0400
TZNAME:EDT
DTSTART:20250309T070000
END:DAYLIGHT
BEGIN:STANDARD
TZOFFSETFROM:-0400
TZOFFSETTO:-0500
TZNAME:EST
DTSTART:20251102T060000
END:STANDARD
BEGIN:DAYLIGHT
TZOFFSETFROM:-0500
TZOFFSETTO:-0400
TZNAME:EDT
DTSTART:20260308T070000
END:DAYLIGHT
BEGIN:STANDARD
TZOFFSETFROM:-0400
TZOFFSETTO:-0500
TZNAME:EST
DTSTART:20261101T060000
END:STANDARD
END:VTIMEZONE
BEGIN:VEVENT
DTSTART;TZID=America/New_York:20250818T083000
DTEND;TZID=America/New_York:20250818T123000
DTSTAMP:20260424T194835
CREATED:20250813T183003Z
LAST-MODIFIED:20251101T214305Z
UID:10001060-1755505800-1755520200@cedarlane.org
SUMMARY:Arts-Based Summer Camp at Cedar Lane
DESCRIPTION:Cultivate Creativity\, Compassion\, and Community\nA Thoughtfully Curated Arts-Based Summer Camp Experience at Cedar Lane Unitarian Universalist Congregation\nAges 6–12 | August 18-22 | 8:30 AM – 12:30 PM in the Chalice House \nThis summer\, offer your child more than just entertainment—give them an enriching\, heart-opening experience that nurtures both creative expression and ethical awareness. At Cedar Lane\, our Arts-Based Summer Camp provides a vibrant\, inclusive setting where children ages 6 to 12 are invited to explore their creativity while building meaningful connections rooted in empathy\, self-discovery\, and community. \nThoughtfully designed by experienced educators\, artists\, and spiritual leaders\, our one-week\, half-day camp weaves together the arts\, nature\, and Unitarian Universalist values to create a rich\, holistic experience. Campers engage daily in hands-on activities such as collaborative murals\, improvisational theater\, global music\, storytelling\, and movement—all within a nurturing and socially conscious environment. \nSign up at Tinyurl.com/Arts-BasedSummerCampCL
URL:https://cedarlane.org/calendar/arts-based-summer-camp-at-cedar-lane/2025-08-18/
LOCATION:Chalice House\, 9601 Cedar Ln\, Bethesda\, MD\, 20814\, United States
CATEGORIES:Families,Fun,Youth
ORGANIZER;CN="Rev. Dayna Edwards":MAILTO:dedwards@cedarlane.org
GEO:39.013542080457;-77.088487850511
X-APPLE-STRUCTURED-LOCATION;VALUE=URI;X-ADDRESS=Chalice House 9601 Cedar Ln Bethesda MD 20814 United States;X-APPLE-RADIUS=500;X-TITLE=9601 Cedar Ln:geo:-77.088487850511,39.013542080457
END:VEVENT
END:VCALENDAR