BEGIN:VCALENDAR
VERSION:2.0
PRODID:-//Cedar Lane Unitarian Universalist Congregation - ECPv6.15.20//NONSGML v1.0//EN
CALSCALE:GREGORIAN
METHOD:PUBLISH
X-WR-CALNAME:Cedar Lane Unitarian Universalist Congregation
X-ORIGINAL-URL:https://cedarlane.org
X-WR-CALDESC:Events for Cedar Lane Unitarian Universalist Congregation
REFRESH-INTERVAL;VALUE=DURATION:PT1H
X-Robots-Tag:noindex
X-PUBLISHED-TTL:PT1H
BEGIN:VTIMEZONE
TZID:America/New_York
BEGIN:DAYLIGHT
TZOFFSETFROM:-0500
TZOFFSETTO:-0400
TZNAME:EDT
DTSTART:20250309T070000
END:DAYLIGHT
BEGIN:STANDARD
TZOFFSETFROM:-0400
TZOFFSETTO:-0500
TZNAME:EST
DTSTART:20251102T060000
END:STANDARD
BEGIN:DAYLIGHT
TZOFFSETFROM:-0500
TZOFFSETTO:-0400
TZNAME:EDT
DTSTART:20260308T070000
END:DAYLIGHT
BEGIN:STANDARD
TZOFFSETFROM:-0400
TZOFFSETTO:-0500
TZNAME:EST
DTSTART:20261101T060000
END:STANDARD
BEGIN:DAYLIGHT
TZOFFSETFROM:-0500
TZOFFSETTO:-0400
TZNAME:EDT
DTSTART:20270314T070000
END:DAYLIGHT
BEGIN:STANDARD
TZOFFSETFROM:-0400
TZOFFSETTO:-0500
TZNAME:EST
DTSTART:20271107T060000
END:STANDARD
END:VTIMEZONE
BEGIN:VEVENT
DTSTART;TZID=America/New_York:20260405T090000
DTEND;TZID=America/New_York:20260405T103000
DTSTAMP:20260425T123143
CREATED:20251029T194321Z
LAST-MODIFIED:20251110T145939Z
UID:10016392-1775379600-1775385000@cedarlane.org
SUMMARY:Food and Diaper Drop-off
DESCRIPTION:You are invited to bring food and diapers and place them in the collection bin found in the chapel hallway. Volunteers collect these items on Sunday mornings and take them to our partner\, Mid-County United Ministries (MUM)\, to be distributed in the community. \nYour donations are greatly appreciated! \nCurrent Urgent Needs\n\nThree children need diapers sizes 3 and 5-6T pull-ups\n\nOn-going Needs\n\nHot/Cold Cereals\nCanned Fruits/Vegetables\nDry/Canned Beans\, Pastas\, Rice\nPasta Sauces\nCanned Meats/Tuna\nSoups/Stews/Chilies\nPeanut Butter/Jelly\nDiet Specific Foods\nToiletries\nDiapers and wipes\nFresh produce
URL:https://cedarlane.org/calendar/food-and-diaper-drop-off/2026-04-05/
LOCATION:Cedar Lane UU Congregation\, 9601 Cedar Ln\, Bethesda\, Maryland\, 20814
CATEGORIES:Activism & Justice,Volunteer Opportunity
ATTACH;FMTTYPE=image/webp:https://cedarlane.org/wp-content/uploads/2025/10/MUM.webp
ORGANIZER;CN="Roger DeLucia":MAILTO:mum@cedarlane.org
END:VEVENT
BEGIN:VEVENT
DTSTART;TZID=America/New_York:20260407T190000
DTEND;TZID=America/New_York:20260407T200000
DTSTAMP:20260425T123143
CREATED:20250709T162955Z
LAST-MODIFIED:20251101T214337Z
UID:10016137-1775588400-1775592000@cedarlane.org
SUMMARY:Environmental Justice Ministry Team
DESCRIPTION:We meet online on the first Tuesday of each month. \nTo get connected to this group\, contact a coordinator.
URL:https://cedarlane.org/calendar/environmental-justice-meeting/2026-04-07/
CATEGORIES:Activism & Justice,Planning and Coordination
ATTACH;FMTTYPE=image/webp:https://cedarlane.org/wp-content/uploads/2025/10/EJM.webp
ORGANIZER;CN="Kathleen Holmay and Nancy Wilkerson":MAILTO:EJMT@cedarlane.org
LOCATION:https://cedarlane.org/calendar/environmental-justice-meeting/2026-04-07/
END:VEVENT
BEGIN:VEVENT
DTSTART;TZID=America/New_York:20260407T190000
DTEND;TZID=America/New_York:20260407T203000
DTSTAMP:20260425T123143
CREATED:20260407T013321Z
LAST-MODIFIED:20260407T022626Z
UID:10018071-1775588400-1775593800@cedarlane.org
SUMMARY:LGBTQ+ and Gender Justice Team Meeting
DESCRIPTION:Monthly meeting of the LGBTQ+ and Gender Justice Ministry Team.\n\nWe challenge harmful\, unfair and limiting stereotypes based on gender. We advocate for justice and equity for LGBTQ+ people and for reproductive rights by educating ourselves and the congregation on relevant issues; collaborating with groups that support/promote the pursuit of justice and equity for these individuals and communities; following the lead of LGBTQ+\, gender minority\, and women-led groups we partner with; and integrating intersectional perspectives throughout all of our endeavors.\n\nTo participate\, contact us at lgbtqgenderjustice@cedarlane.org
URL:https://cedarlane.org/calendar/lgbtq-and-gender-justice/2026-04-07/
CATEGORIES:Activism & Justice,LGBTQIA+
ATTACH;FMTTYPE=image/webp:https://cedarlane.org/wp-content/uploads/2026/04/LGBTQGenderJustice-2.webp
LOCATION:https://cedarlane.org/calendar/lgbtq-and-gender-justice/2026-04-07/
END:VEVENT
BEGIN:VEVENT
DTSTART;TZID=America/New_York:20260408T190000
DTEND;TZID=America/New_York:20260408T203000
DTSTAMP:20260425T123144
CREATED:20250728T205232Z
LAST-MODIFIED:20251101T214305Z
UID:10000625-1775674800-1775680200@cedarlane.org
SUMMARY:Ecosystems Study Group
DESCRIPTION:What are the root causes of climate change\, biodiversity loss\, ocean acidification\, and other symptoms of our “overshoot” of Earth’s carrying capacity? What are the best ways to address our predicament? What is our moral and ethical response? ESG was founded in 2017 to explore these questions and more using a “systems thinking” approach. Our goal is to educate ourselves\, activist groups\, and the general public. We have a very active Google Group that allows us to share a wide variety of information\, and we meet twice per month to discuss what we’ve learned. We also host a number of speakers at events which we open to the wider public. Past speakers include Nate Hagens\, Charlie Hall\, Richard Heinberg\, Alice Friedemann\, Chris Clugston\, Jack Alpert\, John Seager\, Terry Spahr\, and Gaya Herrington.
URL:https://cedarlane.org/calendar/ecosystems-study-group/2026-04-08/
CATEGORIES:Activism & Justice,Learn and Grow,Nature
ATTACH;FMTTYPE=image/webp:https://cedarlane.org/wp-content/uploads/2025/10/ecosystems.webp
ORGANIZER;CN="Jim Laurenson":MAILTO:ecosystemsstudygroup@gmail.com
END:VEVENT
END:VCALENDAR