BEGIN:VCALENDAR
VERSION:2.0
PRODID:-//Cedar Lane Unitarian Universalist Congregation - ECPv6.15.20//NONSGML v1.0//EN
CALSCALE:GREGORIAN
METHOD:PUBLISH
X-WR-CALNAME:Cedar Lane Unitarian Universalist Congregation
X-ORIGINAL-URL:https://cedarlane.org
X-WR-CALDESC:Events for Cedar Lane Unitarian Universalist Congregation
REFRESH-INTERVAL;VALUE=DURATION:PT1H
X-Robots-Tag:noindex
X-PUBLISHED-TTL:PT1H
BEGIN:VTIMEZONE
TZID:America/New_York
BEGIN:DAYLIGHT
TZOFFSETFROM:-0500
TZOFFSETTO:-0400
TZNAME:EDT
DTSTART:20250309T070000
END:DAYLIGHT
BEGIN:STANDARD
TZOFFSETFROM:-0400
TZOFFSETTO:-0500
TZNAME:EST
DTSTART:20251102T060000
END:STANDARD
BEGIN:DAYLIGHT
TZOFFSETFROM:-0500
TZOFFSETTO:-0400
TZNAME:EDT
DTSTART:20260308T070000
END:DAYLIGHT
BEGIN:STANDARD
TZOFFSETFROM:-0400
TZOFFSETTO:-0500
TZNAME:EST
DTSTART:20261101T060000
END:STANDARD
BEGIN:DAYLIGHT
TZOFFSETFROM:-0500
TZOFFSETTO:-0400
TZNAME:EDT
DTSTART:20270314T070000
END:DAYLIGHT
BEGIN:STANDARD
TZOFFSETFROM:-0400
TZOFFSETTO:-0500
TZNAME:EST
DTSTART:20271107T060000
END:STANDARD
END:VTIMEZONE
BEGIN:VEVENT
DTSTART;TZID=America/New_York:20260322T120000
DTEND;TZID=America/New_York:20260322T133000
DTSTAMP:20260424T044540
CREATED:20260318T163628Z
LAST-MODIFIED:20260318T195531Z
UID:10018023-1774180800-1774186200@cedarlane.org
SUMMARY:Celebration Sunday!
DESCRIPTION:Join us after the service for a meal and to celebrate our successful Rooted and Rising annual fund campaign for the coming congregational year\, July 1\, 2026-June 30\, 2027. \nOur goal is two-fold this year: \n\nTo raise $1 Million to help sustain the operations of our congregation in its 75th year and to plant the seeds which will flourish in the next 75 years!\n100% participation from members and pledging friends. Your pledge of financial support (no matter how large or small) is greatly appreciated and sorely needed!\n\nDuring the worship service this week\, we will participate in a ritual of collective generosity. Don’t miss this opportunity to feel the support of this beloved congregation as we come together to demonstrate the importance of our collective commitment to the mission and future of Cedar Lane. \nBe sure to look for and participate in collectively creating a special art project celebrating Rooted and Rising! \n\n	\n		\n			\n				\n					RSVP for the Luncheon
URL:https://cedarlane.org/calendar/celebrationsun2026/
LOCATION:Cedar Lane UU Congregation\, 9601 Cedar Ln\, Bethesda\, Maryland\, 20814
CATEGORIES:After the Service,Fun,In the Spotlight,Newcomers,Stewardship
ATTACH;FMTTYPE=image/webp:https://cedarlane.org/wp-content/uploads/2026/03/RootedRising-BlackBG-FulllColor-scaled-e1773852130251.webp
END:VEVENT
END:VCALENDAR