BEGIN:VCALENDAR
VERSION:2.0
PRODID:-//Cedar Lane Unitarian Universalist Congregation - ECPv6.15.20//NONSGML v1.0//EN
CALSCALE:GREGORIAN
METHOD:PUBLISH
X-WR-CALNAME:Cedar Lane Unitarian Universalist Congregation
X-ORIGINAL-URL:https://cedarlane.org
X-WR-CALDESC:Events for Cedar Lane Unitarian Universalist Congregation
REFRESH-INTERVAL;VALUE=DURATION:PT1H
X-Robots-Tag:noindex
X-PUBLISHED-TTL:PT1H
BEGIN:VTIMEZONE
TZID:America/New_York
BEGIN:DAYLIGHT
TZOFFSETFROM:-0500
TZOFFSETTO:-0400
TZNAME:EDT
DTSTART:20260308T070000
END:DAYLIGHT
BEGIN:STANDARD
TZOFFSETFROM:-0400
TZOFFSETTO:-0500
TZNAME:EST
DTSTART:20261101T060000
END:STANDARD
BEGIN:DAYLIGHT
TZOFFSETFROM:-0500
TZOFFSETTO:-0400
TZNAME:EDT
DTSTART:20270314T070000
END:DAYLIGHT
BEGIN:STANDARD
TZOFFSETFROM:-0400
TZOFFSETTO:-0500
TZNAME:EST
DTSTART:20271107T060000
END:STANDARD
BEGIN:DAYLIGHT
TZOFFSETFROM:-0500
TZOFFSETTO:-0400
TZNAME:EDT
DTSTART:20280312T070000
END:DAYLIGHT
BEGIN:STANDARD
TZOFFSETFROM:-0400
TZOFFSETTO:-0500
TZNAME:EST
DTSTART:20281105T060000
END:STANDARD
BEGIN:DAYLIGHT
TZOFFSETFROM:-0500
TZOFFSETTO:-0400
TZNAME:EDT
DTSTART:20290311T070000
END:DAYLIGHT
BEGIN:STANDARD
TZOFFSETFROM:-0400
TZOFFSETTO:-0500
TZNAME:EST
DTSTART:20291104T060000
END:STANDARD
END:VTIMEZONE
BEGIN:VEVENT
DTSTART;TZID=America/New_York:20270801T120000
DTEND;TZID=America/New_York:20270801T130000
DTSTAMP:20260424T032432
CREATED:20251104T163418Z
LAST-MODIFIED:20251110T140623Z
UID:10017821-1817121600-1817125200@cedarlane.org
SUMMARY:Newcomers Circle
DESCRIPTION:Join us after worship in this informal space to meet others\, ask questions\, and get a sense of our community. This is a great opportunity to meet other newcomers and explore how to get more connected in the Cedar Lane community.
URL:https://cedarlane.org/calendar/newcomers-circle-2/2027-08-01/
LOCATION:Library\, 9601 Cedar Ln\, Bethesda\, MD\, 20814\, United States
CATEGORIES:After the Service,Path to Membership
ATTACH;FMTTYPE=image/webp:https://cedarlane.org/wp-content/uploads/2025/10/Newcomer-Circle.webp
ORGANIZER;CN="Nicolle Singer":MAILTO:nsinger@cedarlane.org
END:VEVENT
BEGIN:VEVENT
DTSTART;TZID=America/New_York:20270815T120000
DTEND;TZID=America/New_York:20270815T130000
DTSTAMP:20260424T032432
CREATED:20250709T163151Z
LAST-MODIFIED:20251116T145317Z
UID:10015901-1818331200-1818334800@cedarlane.org
SUMMARY:Member Engagement and Connection Conversations
DESCRIPTION:
URL:https://cedarlane.org/calendar/member-connection/2027-08-15/
LOCATION:MD
CATEGORIES:After the Service,Newcomers
ATTACH;FMTTYPE=image/webp:https://cedarlane.org/wp-content/uploads/2025/10/newcomers.webp
END:VEVENT
BEGIN:VEVENT
DTSTART;TZID=America/New_York:20270905T120000
DTEND;TZID=America/New_York:20270905T130000
DTSTAMP:20260424T032432
CREATED:20251104T163418Z
LAST-MODIFIED:20251110T140623Z
UID:10017822-1820145600-1820149200@cedarlane.org
SUMMARY:Newcomers Circle
DESCRIPTION:Join us after worship in this informal space to meet others\, ask questions\, and get a sense of our community. This is a great opportunity to meet other newcomers and explore how to get more connected in the Cedar Lane community.
URL:https://cedarlane.org/calendar/newcomers-circle-2/2027-09-05/
LOCATION:Library\, 9601 Cedar Ln\, Bethesda\, MD\, 20814\, United States
CATEGORIES:After the Service,Path to Membership
ATTACH;FMTTYPE=image/webp:https://cedarlane.org/wp-content/uploads/2025/10/Newcomer-Circle.webp
ORGANIZER;CN="Nicolle Singer":MAILTO:nsinger@cedarlane.org
END:VEVENT
BEGIN:VEVENT
DTSTART;TZID=America/New_York:20270919T120000
DTEND;TZID=America/New_York:20270919T130000
DTSTAMP:20260424T032432
CREATED:20250709T163151Z
LAST-MODIFIED:20251116T145317Z
UID:10015902-1821355200-1821358800@cedarlane.org
SUMMARY:Member Engagement and Connection Conversations
DESCRIPTION:
URL:https://cedarlane.org/calendar/member-connection/2027-09-19/
LOCATION:MD
CATEGORIES:After the Service,Newcomers
ATTACH;FMTTYPE=image/webp:https://cedarlane.org/wp-content/uploads/2025/10/newcomers.webp
END:VEVENT
BEGIN:VEVENT
DTSTART;TZID=America/New_York:20271003T120000
DTEND;TZID=America/New_York:20271003T130000
DTSTAMP:20260424T032432
CREATED:20251104T163418Z
LAST-MODIFIED:20251110T140623Z
UID:10017823-1822564800-1822568400@cedarlane.org
SUMMARY:Newcomers Circle
DESCRIPTION:Join us after worship in this informal space to meet others\, ask questions\, and get a sense of our community. This is a great opportunity to meet other newcomers and explore how to get more connected in the Cedar Lane community.
URL:https://cedarlane.org/calendar/newcomers-circle-2/2027-10-03/
LOCATION:Library\, 9601 Cedar Ln\, Bethesda\, MD\, 20814\, United States
CATEGORIES:After the Service,Path to Membership
ATTACH;FMTTYPE=image/webp:https://cedarlane.org/wp-content/uploads/2025/10/Newcomer-Circle.webp
ORGANIZER;CN="Nicolle Singer":MAILTO:nsinger@cedarlane.org
END:VEVENT
BEGIN:VEVENT
DTSTART;TZID=America/New_York:20271017T120000
DTEND;TZID=America/New_York:20271017T130000
DTSTAMP:20260424T032432
CREATED:20250709T163151Z
LAST-MODIFIED:20251116T145317Z
UID:10015903-1823774400-1823778000@cedarlane.org
SUMMARY:Member Engagement and Connection Conversations
DESCRIPTION:
URL:https://cedarlane.org/calendar/member-connection/2027-10-17/
LOCATION:MD
CATEGORIES:After the Service,Newcomers
ATTACH;FMTTYPE=image/webp:https://cedarlane.org/wp-content/uploads/2025/10/newcomers.webp
END:VEVENT
BEGIN:VEVENT
DTSTART;TZID=America/New_York:20271107T120000
DTEND;TZID=America/New_York:20271107T130000
DTSTAMP:20260424T032432
CREATED:20251104T163418Z
LAST-MODIFIED:20251110T140623Z
UID:10017824-1825588800-1825592400@cedarlane.org
SUMMARY:Newcomers Circle
DESCRIPTION:Join us after worship in this informal space to meet others\, ask questions\, and get a sense of our community. This is a great opportunity to meet other newcomers and explore how to get more connected in the Cedar Lane community.
URL:https://cedarlane.org/calendar/newcomers-circle-2/2027-11-07/
LOCATION:Library\, 9601 Cedar Ln\, Bethesda\, MD\, 20814\, United States
CATEGORIES:After the Service,Path to Membership
ATTACH;FMTTYPE=image/webp:https://cedarlane.org/wp-content/uploads/2025/10/Newcomer-Circle.webp
ORGANIZER;CN="Nicolle Singer":MAILTO:nsinger@cedarlane.org
END:VEVENT
BEGIN:VEVENT
DTSTART;TZID=America/New_York:20271121T120000
DTEND;TZID=America/New_York:20271121T130000
DTSTAMP:20260424T032432
CREATED:20250709T163151Z
LAST-MODIFIED:20251116T145317Z
UID:10015904-1826798400-1826802000@cedarlane.org
SUMMARY:Member Engagement and Connection Conversations
DESCRIPTION:
URL:https://cedarlane.org/calendar/member-connection/2027-11-21/
LOCATION:MD
CATEGORIES:After the Service,Newcomers
ATTACH;FMTTYPE=image/webp:https://cedarlane.org/wp-content/uploads/2025/10/newcomers.webp
END:VEVENT
BEGIN:VEVENT
DTSTART;TZID=America/New_York:20271205T120000
DTEND;TZID=America/New_York:20271205T130000
DTSTAMP:20260424T032432
CREATED:20251104T163418Z
LAST-MODIFIED:20251110T140623Z
UID:10017825-1828008000-1828011600@cedarlane.org
SUMMARY:Newcomers Circle
DESCRIPTION:Join us after worship in this informal space to meet others\, ask questions\, and get a sense of our community. This is a great opportunity to meet other newcomers and explore how to get more connected in the Cedar Lane community.
URL:https://cedarlane.org/calendar/newcomers-circle-2/2027-12-05/
LOCATION:Library\, 9601 Cedar Ln\, Bethesda\, MD\, 20814\, United States
CATEGORIES:After the Service,Path to Membership
ATTACH;FMTTYPE=image/webp:https://cedarlane.org/wp-content/uploads/2025/10/Newcomer-Circle.webp
ORGANIZER;CN="Nicolle Singer":MAILTO:nsinger@cedarlane.org
END:VEVENT
BEGIN:VEVENT
DTSTART;TZID=America/New_York:20271219T120000
DTEND;TZID=America/New_York:20271219T130000
DTSTAMP:20260424T032432
CREATED:20250709T163151Z
LAST-MODIFIED:20251116T145317Z
UID:10015905-1829217600-1829221200@cedarlane.org
SUMMARY:Member Engagement and Connection Conversations
DESCRIPTION:
URL:https://cedarlane.org/calendar/member-connection/2027-12-19/
LOCATION:MD
CATEGORIES:After the Service,Newcomers
ATTACH;FMTTYPE=image/webp:https://cedarlane.org/wp-content/uploads/2025/10/newcomers.webp
END:VEVENT
BEGIN:VEVENT
DTSTART;TZID=America/New_York:20280102T120000
DTEND;TZID=America/New_York:20280102T130000
DTSTAMP:20260424T032432
CREATED:20251104T163418Z
LAST-MODIFIED:20251110T140623Z
UID:10017826-1830427200-1830430800@cedarlane.org
SUMMARY:Newcomers Circle
DESCRIPTION:Join us after worship in this informal space to meet others\, ask questions\, and get a sense of our community. This is a great opportunity to meet other newcomers and explore how to get more connected in the Cedar Lane community.
URL:https://cedarlane.org/calendar/newcomers-circle-2/2028-01-02/
LOCATION:Library\, 9601 Cedar Ln\, Bethesda\, MD\, 20814\, United States
CATEGORIES:After the Service,Path to Membership
ATTACH;FMTTYPE=image/webp:https://cedarlane.org/wp-content/uploads/2025/10/Newcomer-Circle.webp
ORGANIZER;CN="Nicolle Singer":MAILTO:nsinger@cedarlane.org
END:VEVENT
BEGIN:VEVENT
DTSTART;TZID=America/New_York:20280116T120000
DTEND;TZID=America/New_York:20280116T130000
DTSTAMP:20260424T032432
CREATED:20250709T163151Z
LAST-MODIFIED:20251116T145317Z
UID:10015906-1831636800-1831640400@cedarlane.org
SUMMARY:Member Engagement and Connection Conversations
DESCRIPTION:
URL:https://cedarlane.org/calendar/member-connection/2028-01-16/
LOCATION:MD
CATEGORIES:After the Service,Newcomers
ATTACH;FMTTYPE=image/webp:https://cedarlane.org/wp-content/uploads/2025/10/newcomers.webp
END:VEVENT
BEGIN:VEVENT
DTSTART;TZID=America/New_York:20280206T120000
DTEND;TZID=America/New_York:20280206T130000
DTSTAMP:20260424T032432
CREATED:20251104T163418Z
LAST-MODIFIED:20251110T140623Z
UID:10017827-1833451200-1833454800@cedarlane.org
SUMMARY:Newcomers Circle
DESCRIPTION:Join us after worship in this informal space to meet others\, ask questions\, and get a sense of our community. This is a great opportunity to meet other newcomers and explore how to get more connected in the Cedar Lane community.
URL:https://cedarlane.org/calendar/newcomers-circle-2/2028-02-06/
LOCATION:Library\, 9601 Cedar Ln\, Bethesda\, MD\, 20814\, United States
CATEGORIES:After the Service,Path to Membership
ATTACH;FMTTYPE=image/webp:https://cedarlane.org/wp-content/uploads/2025/10/Newcomer-Circle.webp
ORGANIZER;CN="Nicolle Singer":MAILTO:nsinger@cedarlane.org
END:VEVENT
BEGIN:VEVENT
DTSTART;TZID=America/New_York:20280220T120000
DTEND;TZID=America/New_York:20280220T130000
DTSTAMP:20260424T032432
CREATED:20250709T163151Z
LAST-MODIFIED:20251116T145317Z
UID:10015907-1834660800-1834664400@cedarlane.org
SUMMARY:Member Engagement and Connection Conversations
DESCRIPTION:
URL:https://cedarlane.org/calendar/member-connection/2028-02-20/
LOCATION:MD
CATEGORIES:After the Service,Newcomers
ATTACH;FMTTYPE=image/webp:https://cedarlane.org/wp-content/uploads/2025/10/newcomers.webp
END:VEVENT
BEGIN:VEVENT
DTSTART;TZID=America/New_York:20280305T120000
DTEND;TZID=America/New_York:20280305T130000
DTSTAMP:20260424T032432
CREATED:20251104T163418Z
LAST-MODIFIED:20251110T140623Z
UID:10017828-1835870400-1835874000@cedarlane.org
SUMMARY:Newcomers Circle
DESCRIPTION:Join us after worship in this informal space to meet others\, ask questions\, and get a sense of our community. This is a great opportunity to meet other newcomers and explore how to get more connected in the Cedar Lane community.
URL:https://cedarlane.org/calendar/newcomers-circle-2/2028-03-05/
LOCATION:Library\, 9601 Cedar Ln\, Bethesda\, MD\, 20814\, United States
CATEGORIES:After the Service,Path to Membership
ATTACH;FMTTYPE=image/webp:https://cedarlane.org/wp-content/uploads/2025/10/Newcomer-Circle.webp
ORGANIZER;CN="Nicolle Singer":MAILTO:nsinger@cedarlane.org
END:VEVENT
BEGIN:VEVENT
DTSTART;TZID=America/New_York:20280319T120000
DTEND;TZID=America/New_York:20280319T130000
DTSTAMP:20260424T032432
CREATED:20250709T163151Z
LAST-MODIFIED:20251116T145317Z
UID:10015908-1837080000-1837083600@cedarlane.org
SUMMARY:Member Engagement and Connection Conversations
DESCRIPTION:
URL:https://cedarlane.org/calendar/member-connection/2028-03-19/
LOCATION:MD
CATEGORIES:After the Service,Newcomers
ATTACH;FMTTYPE=image/webp:https://cedarlane.org/wp-content/uploads/2025/10/newcomers.webp
END:VEVENT
BEGIN:VEVENT
DTSTART;TZID=America/New_York:20280402T120000
DTEND;TZID=America/New_York:20280402T130000
DTSTAMP:20260424T032432
CREATED:20251104T163418Z
LAST-MODIFIED:20251110T140623Z
UID:10017829-1838289600-1838293200@cedarlane.org
SUMMARY:Newcomers Circle
DESCRIPTION:Join us after worship in this informal space to meet others\, ask questions\, and get a sense of our community. This is a great opportunity to meet other newcomers and explore how to get more connected in the Cedar Lane community.
URL:https://cedarlane.org/calendar/newcomers-circle-2/2028-04-02/
LOCATION:Library\, 9601 Cedar Ln\, Bethesda\, MD\, 20814\, United States
CATEGORIES:After the Service,Path to Membership
ATTACH;FMTTYPE=image/webp:https://cedarlane.org/wp-content/uploads/2025/10/Newcomer-Circle.webp
ORGANIZER;CN="Nicolle Singer":MAILTO:nsinger@cedarlane.org
END:VEVENT
BEGIN:VEVENT
DTSTART;TZID=America/New_York:20280416T120000
DTEND;TZID=America/New_York:20280416T130000
DTSTAMP:20260424T032432
CREATED:20250709T163151Z
LAST-MODIFIED:20251116T145317Z
UID:10015909-1839499200-1839502800@cedarlane.org
SUMMARY:Member Engagement and Connection Conversations
DESCRIPTION:
URL:https://cedarlane.org/calendar/member-connection/2028-04-16/
LOCATION:MD
CATEGORIES:After the Service,Newcomers
ATTACH;FMTTYPE=image/webp:https://cedarlane.org/wp-content/uploads/2025/10/newcomers.webp
END:VEVENT
BEGIN:VEVENT
DTSTART;TZID=America/New_York:20280507T120000
DTEND;TZID=America/New_York:20280507T130000
DTSTAMP:20260424T032432
CREATED:20251104T163418Z
LAST-MODIFIED:20251110T140623Z
UID:10017830-1841313600-1841317200@cedarlane.org
SUMMARY:Newcomers Circle
DESCRIPTION:Join us after worship in this informal space to meet others\, ask questions\, and get a sense of our community. This is a great opportunity to meet other newcomers and explore how to get more connected in the Cedar Lane community.
URL:https://cedarlane.org/calendar/newcomers-circle-2/2028-05-07/
LOCATION:Library\, 9601 Cedar Ln\, Bethesda\, MD\, 20814\, United States
CATEGORIES:After the Service,Path to Membership
ATTACH;FMTTYPE=image/webp:https://cedarlane.org/wp-content/uploads/2025/10/Newcomer-Circle.webp
ORGANIZER;CN="Nicolle Singer":MAILTO:nsinger@cedarlane.org
END:VEVENT
BEGIN:VEVENT
DTSTART;TZID=America/New_York:20280521T120000
DTEND;TZID=America/New_York:20280521T130000
DTSTAMP:20260424T032432
CREATED:20250709T163151Z
LAST-MODIFIED:20251116T145317Z
UID:10015910-1842523200-1842526800@cedarlane.org
SUMMARY:Member Engagement and Connection Conversations
DESCRIPTION:
URL:https://cedarlane.org/calendar/member-connection/2028-05-21/
LOCATION:MD
CATEGORIES:After the Service,Newcomers
ATTACH;FMTTYPE=image/webp:https://cedarlane.org/wp-content/uploads/2025/10/newcomers.webp
END:VEVENT
BEGIN:VEVENT
DTSTART;TZID=America/New_York:20280604T120000
DTEND;TZID=America/New_York:20280604T130000
DTSTAMP:20260424T032432
CREATED:20251104T163418Z
LAST-MODIFIED:20251110T140623Z
UID:10017831-1843732800-1843736400@cedarlane.org
SUMMARY:Newcomers Circle
DESCRIPTION:Join us after worship in this informal space to meet others\, ask questions\, and get a sense of our community. This is a great opportunity to meet other newcomers and explore how to get more connected in the Cedar Lane community.
URL:https://cedarlane.org/calendar/newcomers-circle-2/2028-06-04/
LOCATION:Library\, 9601 Cedar Ln\, Bethesda\, MD\, 20814\, United States
CATEGORIES:After the Service,Path to Membership
ATTACH;FMTTYPE=image/webp:https://cedarlane.org/wp-content/uploads/2025/10/Newcomer-Circle.webp
ORGANIZER;CN="Nicolle Singer":MAILTO:nsinger@cedarlane.org
END:VEVENT
BEGIN:VEVENT
DTSTART;TZID=America/New_York:20280618T120000
DTEND;TZID=America/New_York:20280618T130000
DTSTAMP:20260424T032432
CREATED:20250709T163151Z
LAST-MODIFIED:20251116T145317Z
UID:10015911-1844942400-1844946000@cedarlane.org
SUMMARY:Member Engagement and Connection Conversations
DESCRIPTION:
URL:https://cedarlane.org/calendar/member-connection/2028-06-18/
LOCATION:MD
CATEGORIES:After the Service,Newcomers
ATTACH;FMTTYPE=image/webp:https://cedarlane.org/wp-content/uploads/2025/10/newcomers.webp
END:VEVENT
BEGIN:VEVENT
DTSTART;TZID=America/New_York:20280702T120000
DTEND;TZID=America/New_York:20280702T130000
DTSTAMP:20260424T032432
CREATED:20251104T163418Z
LAST-MODIFIED:20251110T140623Z
UID:10017832-1846152000-1846155600@cedarlane.org
SUMMARY:Newcomers Circle
DESCRIPTION:Join us after worship in this informal space to meet others\, ask questions\, and get a sense of our community. This is a great opportunity to meet other newcomers and explore how to get more connected in the Cedar Lane community.
URL:https://cedarlane.org/calendar/newcomers-circle-2/2028-07-02/
LOCATION:Library\, 9601 Cedar Ln\, Bethesda\, MD\, 20814\, United States
CATEGORIES:After the Service,Path to Membership
ATTACH;FMTTYPE=image/webp:https://cedarlane.org/wp-content/uploads/2025/10/Newcomer-Circle.webp
ORGANIZER;CN="Nicolle Singer":MAILTO:nsinger@cedarlane.org
END:VEVENT
BEGIN:VEVENT
DTSTART;TZID=America/New_York:20280716T120000
DTEND;TZID=America/New_York:20280716T130000
DTSTAMP:20260424T032432
CREATED:20250709T163151Z
LAST-MODIFIED:20251116T145317Z
UID:10015912-1847361600-1847365200@cedarlane.org
SUMMARY:Member Engagement and Connection Conversations
DESCRIPTION:
URL:https://cedarlane.org/calendar/member-connection/2028-07-16/
LOCATION:MD
CATEGORIES:After the Service,Newcomers
ATTACH;FMTTYPE=image/webp:https://cedarlane.org/wp-content/uploads/2025/10/newcomers.webp
END:VEVENT
BEGIN:VEVENT
DTSTART;TZID=America/New_York:20280806T120000
DTEND;TZID=America/New_York:20280806T130000
DTSTAMP:20260424T032432
CREATED:20251104T163418Z
LAST-MODIFIED:20251110T140623Z
UID:10017833-1849176000-1849179600@cedarlane.org
SUMMARY:Newcomers Circle
DESCRIPTION:Join us after worship in this informal space to meet others\, ask questions\, and get a sense of our community. This is a great opportunity to meet other newcomers and explore how to get more connected in the Cedar Lane community.
URL:https://cedarlane.org/calendar/newcomers-circle-2/2028-08-06/
LOCATION:Library\, 9601 Cedar Ln\, Bethesda\, MD\, 20814\, United States
CATEGORIES:After the Service,Path to Membership
ATTACH;FMTTYPE=image/webp:https://cedarlane.org/wp-content/uploads/2025/10/Newcomer-Circle.webp
ORGANIZER;CN="Nicolle Singer":MAILTO:nsinger@cedarlane.org
END:VEVENT
BEGIN:VEVENT
DTSTART;TZID=America/New_York:20280820T120000
DTEND;TZID=America/New_York:20280820T130000
DTSTAMP:20260424T032432
CREATED:20250709T163151Z
LAST-MODIFIED:20251116T145317Z
UID:10015913-1850385600-1850389200@cedarlane.org
SUMMARY:Member Engagement and Connection Conversations
DESCRIPTION:
URL:https://cedarlane.org/calendar/member-connection/2028-08-20/
LOCATION:MD
CATEGORIES:After the Service,Newcomers
ATTACH;FMTTYPE=image/webp:https://cedarlane.org/wp-content/uploads/2025/10/newcomers.webp
END:VEVENT
BEGIN:VEVENT
DTSTART;TZID=America/New_York:20280903T120000
DTEND;TZID=America/New_York:20280903T130000
DTSTAMP:20260424T032432
CREATED:20251104T163418Z
LAST-MODIFIED:20251110T140623Z
UID:10017834-1851595200-1851598800@cedarlane.org
SUMMARY:Newcomers Circle
DESCRIPTION:Join us after worship in this informal space to meet others\, ask questions\, and get a sense of our community. This is a great opportunity to meet other newcomers and explore how to get more connected in the Cedar Lane community.
URL:https://cedarlane.org/calendar/newcomers-circle-2/2028-09-03/
LOCATION:Library\, 9601 Cedar Ln\, Bethesda\, MD\, 20814\, United States
CATEGORIES:After the Service,Path to Membership
ATTACH;FMTTYPE=image/webp:https://cedarlane.org/wp-content/uploads/2025/10/Newcomer-Circle.webp
ORGANIZER;CN="Nicolle Singer":MAILTO:nsinger@cedarlane.org
END:VEVENT
BEGIN:VEVENT
DTSTART;TZID=America/New_York:20280917T120000
DTEND;TZID=America/New_York:20280917T130000
DTSTAMP:20260424T032432
CREATED:20250709T163151Z
LAST-MODIFIED:20251116T145317Z
UID:10015914-1852804800-1852808400@cedarlane.org
SUMMARY:Member Engagement and Connection Conversations
DESCRIPTION:
URL:https://cedarlane.org/calendar/member-connection/2028-09-17/
LOCATION:MD
CATEGORIES:After the Service,Newcomers
ATTACH;FMTTYPE=image/webp:https://cedarlane.org/wp-content/uploads/2025/10/newcomers.webp
END:VEVENT
BEGIN:VEVENT
DTSTART;TZID=America/New_York:20281001T120000
DTEND;TZID=America/New_York:20281001T130000
DTSTAMP:20260424T032432
CREATED:20251104T163418Z
LAST-MODIFIED:20251110T140623Z
UID:10017835-1854014400-1854018000@cedarlane.org
SUMMARY:Newcomers Circle
DESCRIPTION:Join us after worship in this informal space to meet others\, ask questions\, and get a sense of our community. This is a great opportunity to meet other newcomers and explore how to get more connected in the Cedar Lane community.
URL:https://cedarlane.org/calendar/newcomers-circle-2/2028-10-01/
LOCATION:Library\, 9601 Cedar Ln\, Bethesda\, MD\, 20814\, United States
CATEGORIES:After the Service,Path to Membership
ATTACH;FMTTYPE=image/webp:https://cedarlane.org/wp-content/uploads/2025/10/Newcomer-Circle.webp
ORGANIZER;CN="Nicolle Singer":MAILTO:nsinger@cedarlane.org
END:VEVENT
BEGIN:VEVENT
DTSTART;TZID=America/New_York:20281015T120000
DTEND;TZID=America/New_York:20281015T130000
DTSTAMP:20260424T032432
CREATED:20250709T163151Z
LAST-MODIFIED:20251116T145317Z
UID:10015915-1855224000-1855227600@cedarlane.org
SUMMARY:Member Engagement and Connection Conversations
DESCRIPTION:
URL:https://cedarlane.org/calendar/member-connection/2028-10-15/
LOCATION:MD
CATEGORIES:After the Service,Newcomers
ATTACH;FMTTYPE=image/webp:https://cedarlane.org/wp-content/uploads/2025/10/newcomers.webp
END:VEVENT
END:VCALENDAR