BEGIN:VCALENDAR
VERSION:2.0
PRODID:-//Cedar Lane Unitarian Universalist Congregation - ECPv6.15.20//NONSGML v1.0//EN
CALSCALE:GREGORIAN
METHOD:PUBLISH
X-WR-CALNAME:Cedar Lane Unitarian Universalist Congregation
X-ORIGINAL-URL:https://cedarlane.org
X-WR-CALDESC:Events for Cedar Lane Unitarian Universalist Congregation
REFRESH-INTERVAL;VALUE=DURATION:PT1H
X-Robots-Tag:noindex
X-PUBLISHED-TTL:PT1H
BEGIN:VTIMEZONE
TZID:America/New_York
BEGIN:DAYLIGHT
TZOFFSETFROM:-0500
TZOFFSETTO:-0400
TZNAME:EDT
DTSTART:20250309T070000
END:DAYLIGHT
BEGIN:STANDARD
TZOFFSETFROM:-0400
TZOFFSETTO:-0500
TZNAME:EST
DTSTART:20251102T060000
END:STANDARD
BEGIN:DAYLIGHT
TZOFFSETFROM:-0500
TZOFFSETTO:-0400
TZNAME:EDT
DTSTART:20260308T070000
END:DAYLIGHT
BEGIN:STANDARD
TZOFFSETFROM:-0400
TZOFFSETTO:-0500
TZNAME:EST
DTSTART:20261101T060000
END:STANDARD
BEGIN:DAYLIGHT
TZOFFSETFROM:-0500
TZOFFSETTO:-0400
TZNAME:EDT
DTSTART:20270314T070000
END:DAYLIGHT
BEGIN:STANDARD
TZOFFSETFROM:-0400
TZOFFSETTO:-0500
TZNAME:EST
DTSTART:20271107T060000
END:STANDARD
END:VTIMEZONE
BEGIN:VEVENT
DTSTART;TZID=America/New_York:20260118T120000
DTEND;TZID=America/New_York:20260118T130000
DTSTAMP:20260424T062342
CREATED:20250709T163151Z
LAST-MODIFIED:20251116T145317Z
UID:10015882-1768737600-1768741200@cedarlane.org
SUMMARY:Member Engagement and Connection Conversations
DESCRIPTION:
URL:https://cedarlane.org/calendar/member-connection/2026-01-18/
LOCATION:MD
CATEGORIES:After the Service,Newcomers
ATTACH;FMTTYPE=image/webp:https://cedarlane.org/wp-content/uploads/2025/10/newcomers.webp
END:VEVENT
BEGIN:VEVENT
DTSTART;TZID=America/New_York:20260118T121500
DTEND;TZID=America/New_York:20260118T131500
DTSTAMP:20260424T062342
CREATED:20251007T133152Z
LAST-MODIFIED:20251116T145507Z
UID:10015220-1768738500-1768742100@cedarlane.org
SUMMARY:Federal Worker Support Group
DESCRIPTION:Drop in for a confidential\, in-person support circle for federal employees\, contractors\, and former feds/contractors. We’ll share\, listen\, and support one another through the shutdown’s impacts.
URL:https://cedarlane.org/calendar/federal-worker-support-group-third/2026-01-18/
LOCATION:Rm 5-6 (Lower Level)\, 9601 Cedar Ln\, Bethesda\, MD\, 20814\, United States
CATEGORIES:After the Service,Healing
ATTACH;FMTTYPE=image/webp:https://cedarlane.org/wp-content/uploads/2025/10/Fed-support-groups-slide-1.webp
ORGANIZER;CN="Rev. Abhi Janamanchi":MAILTO:ajanamanchi@cedarlane.org
END:VEVENT
BEGIN:VEVENT
DTSTART;TZID=America/New_York:20260118T150000
DTEND;TZID=America/New_York:20260118T170000
DTSTAMP:20260424T062342
CREATED:20260110T164550Z
LAST-MODIFIED:20260113T232914Z
UID:10017913-1768748400-1768755600@cedarlane.org
SUMMARY:The Beloved Community: A Shared Calling
DESCRIPTION:Join us with special guest\, Senator Chris Van Hollen\, for this interfaith service bringing together faith leaders and artists from many traditions – Christian\, Jewish\, Muslim\, Hindu\, Unitarian Universalist\, and Zoroastrian – to honor Dr. King’s vision of the Beloved Community.\n\nThrough music\, dance\, prayer\, reflection\, and Dr. King’s own words\, we gather across traditions to affirm justice\, dignity\, and peace.\n\n\nParticipants are welcome to bring donations such as maseca (corn flour)\, cooking oil\, 2 lb bags of rice\, 2 lb bags of beans\, and diapers (sizes 5 and 6). Notes of encouragement will be included with each bag.\n\nWe will be collecting donations of maseca\, oil\, rice\, beans\, and diapers before and after service on January 11 and January 18 to support the youth day of service on January 19.\n\nYou are welcome to join us!
URL:https://cedarlane.org/calendar/beloved-community-interfaith-mlk-service/
LOCATION:Cedar Lane UU Congregation\, 9601 Cedar Ln\, Bethesda\, Maryland\, 20814
CATEGORIES:After the Service,In the Spotlight,Livestream Event,Newcomers,Spirituality,Youth
ATTACH;FMTTYPE=image/webp:https://cedarlane.org/wp-content/uploads/2026/01/2026.01.18-Interfaith-Service-Image-Flyer-simple-1920x1080-1.webp
END:VEVENT
BEGIN:VEVENT
DTSTART;TZID=America/New_York:20260201T120000
DTEND;TZID=America/New_York:20260201T130000
DTSTAMP:20260424T062342
CREATED:20251104T163418Z
LAST-MODIFIED:20251110T140623Z
UID:10017803-1769947200-1769950800@cedarlane.org
SUMMARY:Newcomers Circle
DESCRIPTION:Join us after worship in this informal space to meet others\, ask questions\, and get a sense of our community. This is a great opportunity to meet other newcomers and explore how to get more connected in the Cedar Lane community.
URL:https://cedarlane.org/calendar/newcomers-circle-2/2026-02-01/
LOCATION:Library\, 9601 Cedar Ln\, Bethesda\, MD\, 20814\, United States
CATEGORIES:After the Service,Path to Membership
ATTACH;FMTTYPE=image/webp:https://cedarlane.org/wp-content/uploads/2025/10/Newcomer-Circle.webp
ORGANIZER;CN="Nicolle Singer":MAILTO:nsinger@cedarlane.org
END:VEVENT
BEGIN:VEVENT
DTSTART;TZID=America/New_York:20260201T121500
DTEND;TZID=America/New_York:20260201T131500
DTSTAMP:20260424T062342
CREATED:20251009T132639Z
LAST-MODIFIED:20251112T053140Z
UID:10015099-1769948100-1769951700@cedarlane.org
SUMMARY:Federal Worker Support Group
DESCRIPTION:Drop in for a confidential\, in-person support circle for federal employees\, contractors\, and former feds/contractors. We’ll share\, listen\, and support one another through the shutdown’s impacts.
URL:https://cedarlane.org/calendar/federal-worker-support-group-first/2026-02-01/
LOCATION:Rm 5-6 (Lower Level)\, 9601 Cedar Ln\, Bethesda\, MD\, 20814\, United States
CATEGORIES:After the Service,Healing
ATTACH;FMTTYPE=image/webp:https://cedarlane.org/wp-content/uploads/2025/10/Fed-support-groups-slide-1.webp
ORGANIZER;CN="Rev. Abhi Janamanchi":MAILTO:ajanamanchi@cedarlane.org
END:VEVENT
BEGIN:VEVENT
DTSTART;TZID=America/New_York:20260215T120000
DTEND;TZID=America/New_York:20260215T130000
DTSTAMP:20260424T062342
CREATED:20250709T163151Z
LAST-MODIFIED:20251116T145317Z
UID:10015883-1771156800-1771160400@cedarlane.org
SUMMARY:Member Engagement and Connection Conversations
DESCRIPTION:
URL:https://cedarlane.org/calendar/member-connection/2026-02-15/
LOCATION:MD
CATEGORIES:After the Service,Newcomers
ATTACH;FMTTYPE=image/webp:https://cedarlane.org/wp-content/uploads/2025/10/newcomers.webp
END:VEVENT
BEGIN:VEVENT
DTSTART;TZID=America/New_York:20260215T121500
DTEND;TZID=America/New_York:20260215T131500
DTSTAMP:20260424T062342
CREATED:20251007T133152Z
LAST-MODIFIED:20251116T145507Z
UID:10015221-1771157700-1771161300@cedarlane.org
SUMMARY:Federal Worker Support Group
DESCRIPTION:Drop in for a confidential\, in-person support circle for federal employees\, contractors\, and former feds/contractors. We’ll share\, listen\, and support one another through the shutdown’s impacts.
URL:https://cedarlane.org/calendar/federal-worker-support-group-third/2026-02-15/
LOCATION:Rm 5-6 (Lower Level)\, 9601 Cedar Ln\, Bethesda\, MD\, 20814\, United States
CATEGORIES:After the Service,Healing
ATTACH;FMTTYPE=image/webp:https://cedarlane.org/wp-content/uploads/2025/10/Fed-support-groups-slide-1.webp
ORGANIZER;CN="Rev. Abhi Janamanchi":MAILTO:ajanamanchi@cedarlane.org
END:VEVENT
BEGIN:VEVENT
DTSTART;TZID=America/New_York:20260301T120000
DTEND;TZID=America/New_York:20260301T130000
DTSTAMP:20260424T062342
CREATED:20251104T163418Z
LAST-MODIFIED:20251110T140623Z
UID:10017804-1772366400-1772370000@cedarlane.org
SUMMARY:Newcomers Circle
DESCRIPTION:Join us after worship in this informal space to meet others\, ask questions\, and get a sense of our community. This is a great opportunity to meet other newcomers and explore how to get more connected in the Cedar Lane community.
URL:https://cedarlane.org/calendar/newcomers-circle-2/2026-03-01/
LOCATION:Library\, 9601 Cedar Ln\, Bethesda\, MD\, 20814\, United States
CATEGORIES:After the Service,Path to Membership
ATTACH;FMTTYPE=image/webp:https://cedarlane.org/wp-content/uploads/2025/10/Newcomer-Circle.webp
ORGANIZER;CN="Nicolle Singer":MAILTO:nsinger@cedarlane.org
END:VEVENT
BEGIN:VEVENT
DTSTART;TZID=America/New_York:20260301T121500
DTEND;TZID=America/New_York:20260301T131500
DTSTAMP:20260424T062342
CREATED:20251009T132639Z
LAST-MODIFIED:20251112T053140Z
UID:10015100-1772367300-1772370900@cedarlane.org
SUMMARY:Federal Worker Support Group
DESCRIPTION:Drop in for a confidential\, in-person support circle for federal employees\, contractors\, and former feds/contractors. We’ll share\, listen\, and support one another through the shutdown’s impacts.
URL:https://cedarlane.org/calendar/federal-worker-support-group-first/2026-03-01/
LOCATION:Rm 5-6 (Lower Level)\, 9601 Cedar Ln\, Bethesda\, MD\, 20814\, United States
CATEGORIES:After the Service,Healing
ATTACH;FMTTYPE=image/webp:https://cedarlane.org/wp-content/uploads/2025/10/Fed-support-groups-slide-1.webp
ORGANIZER;CN="Rev. Abhi Janamanchi":MAILTO:ajanamanchi@cedarlane.org
END:VEVENT
BEGIN:VEVENT
DTSTART;TZID=America/New_York:20260315T120000
DTEND;TZID=America/New_York:20260315T130000
DTSTAMP:20260424T062342
CREATED:20250709T163151Z
LAST-MODIFIED:20251116T145317Z
UID:10015884-1773576000-1773579600@cedarlane.org
SUMMARY:Member Engagement and Connection Conversations
DESCRIPTION:
URL:https://cedarlane.org/calendar/member-connection/2026-03-15/
LOCATION:MD
CATEGORIES:After the Service,Newcomers
ATTACH;FMTTYPE=image/webp:https://cedarlane.org/wp-content/uploads/2025/10/newcomers.webp
END:VEVENT
BEGIN:VEVENT
DTSTART;TZID=America/New_York:20260322T120000
DTEND;TZID=America/New_York:20260322T133000
DTSTAMP:20260424T062342
CREATED:20260318T163628Z
LAST-MODIFIED:20260318T195531Z
UID:10018023-1774180800-1774186200@cedarlane.org
SUMMARY:Celebration Sunday!
DESCRIPTION:Join us after the service for a meal and to celebrate our successful Rooted and Rising annual fund campaign for the coming congregational year\, July 1\, 2026-June 30\, 2027. \nOur goal is two-fold this year: \n\nTo raise $1 Million to help sustain the operations of our congregation in its 75th year and to plant the seeds which will flourish in the next 75 years!\n100% participation from members and pledging friends. Your pledge of financial support (no matter how large or small) is greatly appreciated and sorely needed!\n\nDuring the worship service this week\, we will participate in a ritual of collective generosity. Don’t miss this opportunity to feel the support of this beloved congregation as we come together to demonstrate the importance of our collective commitment to the mission and future of Cedar Lane. \nBe sure to look for and participate in collectively creating a special art project celebrating Rooted and Rising! \n\n	\n		\n			\n				\n					RSVP for the Luncheon
URL:https://cedarlane.org/calendar/celebrationsun2026/
LOCATION:Cedar Lane UU Congregation\, 9601 Cedar Ln\, Bethesda\, Maryland\, 20814
CATEGORIES:After the Service,Fun,In the Spotlight,Newcomers,Stewardship
ATTACH;FMTTYPE=image/webp:https://cedarlane.org/wp-content/uploads/2026/03/RootedRising-BlackBG-FulllColor-scaled-e1773852130251.webp
END:VEVENT
BEGIN:VEVENT
DTSTART;TZID=America/New_York:20260405T103000
DTEND;TZID=America/New_York:20260405T123000
DTSTAMP:20260424T062342
CREATED:20260328T150942Z
LAST-MODIFIED:20260403T153805Z
UID:10000041-1775385000-1775392200@cedarlane.org
SUMMARY:Easter Sunday\, Egg Hunt\, Crafts and Celebration!
DESCRIPTION:Join us for a morning of celebration\, rebirth and renewal! We’ll start together in the sanctuary\, then send the children outside for easter egg hunts\, crafts\, and games. \nAfterwards\, we’ll have a potluck brunch together. \n\n	\n		\n			\n				\n					Volunteer to help
URL:https://cedarlane.org/calendar/sunday-worship-easter26/
LOCATION:Sanctuary\, 9601 Cedar Ln\, Bethesda\, MD\, 20814\, United States
CATEGORIES:After the Service,Families,Fun,In the Spotlight,Livestream Event,Newcomers,Spirituality,Volunteer Opportunity,Youth
ATTACH;FMTTYPE=image/webp:https://cedarlane.org/wp-content/uploads/2025/11/easter.webp
END:VEVENT
BEGIN:VEVENT
DTSTART;TZID=America/New_York:20260405T120000
DTEND;TZID=America/New_York:20260405T130000
DTSTAMP:20260424T062342
CREATED:20251104T163418Z
LAST-MODIFIED:20251110T140623Z
UID:10017805-1775390400-1775394000@cedarlane.org
SUMMARY:Newcomers Circle
DESCRIPTION:Join us after worship in this informal space to meet others\, ask questions\, and get a sense of our community. This is a great opportunity to meet other newcomers and explore how to get more connected in the Cedar Lane community.
URL:https://cedarlane.org/calendar/newcomers-circle-2/2026-04-05/
LOCATION:Library\, 9601 Cedar Ln\, Bethesda\, MD\, 20814\, United States
CATEGORIES:After the Service,Path to Membership
ATTACH;FMTTYPE=image/webp:https://cedarlane.org/wp-content/uploads/2025/10/Newcomer-Circle.webp
ORGANIZER;CN="Nicolle Singer":MAILTO:nsinger@cedarlane.org
END:VEVENT
BEGIN:VEVENT
DTSTART;TZID=America/New_York:20260412T103000
DTEND;TZID=America/New_York:20260412T130000
DTSTAMP:20260424T062342
CREATED:20260325T193225Z
LAST-MODIFIED:20260328T165534Z
UID:10018024-1775989800-1775998800@cedarlane.org
SUMMARY:Holi at Cedar Lane
DESCRIPTION:The Festival of Colors\nJoin us for a joyful Holi celebration. Our Spirit Experience will include uplifting\, energizing music by Ram Viswanathan and Ashwin Baliga\, inviting us into movement and renewal. \nAt 12:15 PM\, we’ll continue the celebration outdoors with playing colors. All ages are welcome as we gather in laughter\, connection\, and shared joy. \nBring a change of clothes and a towel\, and come ready to celebrate and get messy! \nInvite friends and neighbors! \n\n	\n		\n			\n				\n					RSVP TODAY
URL:https://cedarlane.org/calendar/holi-at-cedar-lane/
LOCATION:Cedar Lane UU Congregation\, 9601 Cedar Ln\, Bethesda\, Maryland\, 20814
CATEGORIES:After the Service,Families,Fun,In the Spotlight,Livestream Event,Newcomers,Spirituality,Youth
ATTACH;FMTTYPE=image/webp:https://cedarlane.org/wp-content/uploads/2026/03/Screenshot-2026-03-25-at-3.28.30-PM.webp
END:VEVENT
BEGIN:VEVENT
DTSTART;TZID=America/New_York:20260419T120000
DTEND;TZID=America/New_York:20260419T130000
DTSTAMP:20260424T062342
CREATED:20250709T163151Z
LAST-MODIFIED:20251116T145317Z
UID:10015885-1776600000-1776603600@cedarlane.org
SUMMARY:Member Engagement and Connection Conversations
DESCRIPTION:
URL:https://cedarlane.org/calendar/member-connection/2026-04-19/
LOCATION:MD
CATEGORIES:After the Service,Newcomers
ATTACH;FMTTYPE=image/webp:https://cedarlane.org/wp-content/uploads/2025/10/newcomers.webp
END:VEVENT
BEGIN:VEVENT
DTSTART;TZID=America/New_York:20260503T120000
DTEND;TZID=America/New_York:20260503T130000
DTSTAMP:20260424T062342
CREATED:20251104T163418Z
LAST-MODIFIED:20251110T140623Z
UID:10017806-1777809600-1777813200@cedarlane.org
SUMMARY:Newcomers Circle
DESCRIPTION:Join us after worship in this informal space to meet others\, ask questions\, and get a sense of our community. This is a great opportunity to meet other newcomers and explore how to get more connected in the Cedar Lane community.
URL:https://cedarlane.org/calendar/newcomers-circle-2/2026-05-03/
LOCATION:Library\, 9601 Cedar Ln\, Bethesda\, MD\, 20814\, United States
CATEGORIES:After the Service,Path to Membership
ATTACH;FMTTYPE=image/webp:https://cedarlane.org/wp-content/uploads/2025/10/Newcomer-Circle.webp
ORGANIZER;CN="Nicolle Singer":MAILTO:nsinger@cedarlane.org
END:VEVENT
BEGIN:VEVENT
DTSTART;TZID=America/New_York:20260517T120000
DTEND;TZID=America/New_York:20260517T130000
DTSTAMP:20260424T062342
CREATED:20250709T163151Z
LAST-MODIFIED:20251116T145317Z
UID:10015886-1779019200-1779022800@cedarlane.org
SUMMARY:Member Engagement and Connection Conversations
DESCRIPTION:
URL:https://cedarlane.org/calendar/member-connection/2026-05-17/
LOCATION:MD
CATEGORIES:After the Service,Newcomers
ATTACH;FMTTYPE=image/webp:https://cedarlane.org/wp-content/uploads/2025/10/newcomers.webp
END:VEVENT
BEGIN:VEVENT
DTSTART;TZID=America/New_York:20260607T120000
DTEND;TZID=America/New_York:20260607T130000
DTSTAMP:20260424T062342
CREATED:20251104T163418Z
LAST-MODIFIED:20251110T140623Z
UID:10017807-1780833600-1780837200@cedarlane.org
SUMMARY:Newcomers Circle
DESCRIPTION:Join us after worship in this informal space to meet others\, ask questions\, and get a sense of our community. This is a great opportunity to meet other newcomers and explore how to get more connected in the Cedar Lane community.
URL:https://cedarlane.org/calendar/newcomers-circle-2/2026-06-07/
LOCATION:Library\, 9601 Cedar Ln\, Bethesda\, MD\, 20814\, United States
CATEGORIES:After the Service,Path to Membership
ATTACH;FMTTYPE=image/webp:https://cedarlane.org/wp-content/uploads/2025/10/Newcomer-Circle.webp
ORGANIZER;CN="Nicolle Singer":MAILTO:nsinger@cedarlane.org
END:VEVENT
BEGIN:VEVENT
DTSTART;TZID=America/New_York:20260621T120000
DTEND;TZID=America/New_York:20260621T130000
DTSTAMP:20260424T062342
CREATED:20250709T163151Z
LAST-MODIFIED:20251116T145317Z
UID:10015887-1782043200-1782046800@cedarlane.org
SUMMARY:Member Engagement and Connection Conversations
DESCRIPTION:
URL:https://cedarlane.org/calendar/member-connection/2026-06-21/
LOCATION:MD
CATEGORIES:After the Service,Newcomers
ATTACH;FMTTYPE=image/webp:https://cedarlane.org/wp-content/uploads/2025/10/newcomers.webp
END:VEVENT
BEGIN:VEVENT
DTSTART;TZID=America/New_York:20260705T120000
DTEND;TZID=America/New_York:20260705T130000
DTSTAMP:20260424T062342
CREATED:20251104T163418Z
LAST-MODIFIED:20251110T140623Z
UID:10017808-1783252800-1783256400@cedarlane.org
SUMMARY:Newcomers Circle
DESCRIPTION:Join us after worship in this informal space to meet others\, ask questions\, and get a sense of our community. This is a great opportunity to meet other newcomers and explore how to get more connected in the Cedar Lane community.
URL:https://cedarlane.org/calendar/newcomers-circle-2/2026-07-05/
LOCATION:Library\, 9601 Cedar Ln\, Bethesda\, MD\, 20814\, United States
CATEGORIES:After the Service,Path to Membership
ATTACH;FMTTYPE=image/webp:https://cedarlane.org/wp-content/uploads/2025/10/Newcomer-Circle.webp
ORGANIZER;CN="Nicolle Singer":MAILTO:nsinger@cedarlane.org
END:VEVENT
BEGIN:VEVENT
DTSTART;TZID=America/New_York:20260719T120000
DTEND;TZID=America/New_York:20260719T130000
DTSTAMP:20260424T062342
CREATED:20250709T163151Z
LAST-MODIFIED:20251116T145317Z
UID:10015888-1784462400-1784466000@cedarlane.org
SUMMARY:Member Engagement and Connection Conversations
DESCRIPTION:
URL:https://cedarlane.org/calendar/member-connection/2026-07-19/
LOCATION:MD
CATEGORIES:After the Service,Newcomers
ATTACH;FMTTYPE=image/webp:https://cedarlane.org/wp-content/uploads/2025/10/newcomers.webp
END:VEVENT
BEGIN:VEVENT
DTSTART;TZID=America/New_York:20260802T120000
DTEND;TZID=America/New_York:20260802T130000
DTSTAMP:20260424T062342
CREATED:20251104T163418Z
LAST-MODIFIED:20251110T140623Z
UID:10017809-1785672000-1785675600@cedarlane.org
SUMMARY:Newcomers Circle
DESCRIPTION:Join us after worship in this informal space to meet others\, ask questions\, and get a sense of our community. This is a great opportunity to meet other newcomers and explore how to get more connected in the Cedar Lane community.
URL:https://cedarlane.org/calendar/newcomers-circle-2/2026-08-02/
LOCATION:Library\, 9601 Cedar Ln\, Bethesda\, MD\, 20814\, United States
CATEGORIES:After the Service,Path to Membership
ATTACH;FMTTYPE=image/webp:https://cedarlane.org/wp-content/uploads/2025/10/Newcomer-Circle.webp
ORGANIZER;CN="Nicolle Singer":MAILTO:nsinger@cedarlane.org
END:VEVENT
BEGIN:VEVENT
DTSTART;TZID=America/New_York:20260816T120000
DTEND;TZID=America/New_York:20260816T130000
DTSTAMP:20260424T062342
CREATED:20250709T163151Z
LAST-MODIFIED:20251116T145317Z
UID:10015889-1786881600-1786885200@cedarlane.org
SUMMARY:Member Engagement and Connection Conversations
DESCRIPTION:
URL:https://cedarlane.org/calendar/member-connection/2026-08-16/
LOCATION:MD
CATEGORIES:After the Service,Newcomers
ATTACH;FMTTYPE=image/webp:https://cedarlane.org/wp-content/uploads/2025/10/newcomers.webp
END:VEVENT
BEGIN:VEVENT
DTSTART;TZID=America/New_York:20260906T120000
DTEND;TZID=America/New_York:20260906T130000
DTSTAMP:20260424T062342
CREATED:20251104T163418Z
LAST-MODIFIED:20251110T140623Z
UID:10017810-1788696000-1788699600@cedarlane.org
SUMMARY:Newcomers Circle
DESCRIPTION:Join us after worship in this informal space to meet others\, ask questions\, and get a sense of our community. This is a great opportunity to meet other newcomers and explore how to get more connected in the Cedar Lane community.
URL:https://cedarlane.org/calendar/newcomers-circle-2/2026-09-06/
LOCATION:Library\, 9601 Cedar Ln\, Bethesda\, MD\, 20814\, United States
CATEGORIES:After the Service,Path to Membership
ATTACH;FMTTYPE=image/webp:https://cedarlane.org/wp-content/uploads/2025/10/Newcomer-Circle.webp
ORGANIZER;CN="Nicolle Singer":MAILTO:nsinger@cedarlane.org
END:VEVENT
BEGIN:VEVENT
DTSTART;TZID=America/New_York:20260920T120000
DTEND;TZID=America/New_York:20260920T130000
DTSTAMP:20260424T062342
CREATED:20250709T163151Z
LAST-MODIFIED:20251116T145317Z
UID:10015890-1789905600-1789909200@cedarlane.org
SUMMARY:Member Engagement and Connection Conversations
DESCRIPTION:
URL:https://cedarlane.org/calendar/member-connection/2026-09-20/
LOCATION:MD
CATEGORIES:After the Service,Newcomers
ATTACH;FMTTYPE=image/webp:https://cedarlane.org/wp-content/uploads/2025/10/newcomers.webp
END:VEVENT
BEGIN:VEVENT
DTSTART;TZID=America/New_York:20261004T120000
DTEND;TZID=America/New_York:20261004T130000
DTSTAMP:20260424T062342
CREATED:20251104T163418Z
LAST-MODIFIED:20251110T140623Z
UID:10017811-1791115200-1791118800@cedarlane.org
SUMMARY:Newcomers Circle
DESCRIPTION:Join us after worship in this informal space to meet others\, ask questions\, and get a sense of our community. This is a great opportunity to meet other newcomers and explore how to get more connected in the Cedar Lane community.
URL:https://cedarlane.org/calendar/newcomers-circle-2/2026-10-04/
LOCATION:Library\, 9601 Cedar Ln\, Bethesda\, MD\, 20814\, United States
CATEGORIES:After the Service,Path to Membership
ATTACH;FMTTYPE=image/webp:https://cedarlane.org/wp-content/uploads/2025/10/Newcomer-Circle.webp
ORGANIZER;CN="Nicolle Singer":MAILTO:nsinger@cedarlane.org
END:VEVENT
BEGIN:VEVENT
DTSTART;TZID=America/New_York:20261018T120000
DTEND;TZID=America/New_York:20261018T130000
DTSTAMP:20260424T062342
CREATED:20250709T163151Z
LAST-MODIFIED:20251116T145317Z
UID:10015891-1792324800-1792328400@cedarlane.org
SUMMARY:Member Engagement and Connection Conversations
DESCRIPTION:
URL:https://cedarlane.org/calendar/member-connection/2026-10-18/
LOCATION:MD
CATEGORIES:After the Service,Newcomers
ATTACH;FMTTYPE=image/webp:https://cedarlane.org/wp-content/uploads/2025/10/newcomers.webp
END:VEVENT
BEGIN:VEVENT
DTSTART;TZID=America/New_York:20261101T120000
DTEND;TZID=America/New_York:20261101T130000
DTSTAMP:20260424T062342
CREATED:20251104T163418Z
LAST-MODIFIED:20251110T140623Z
UID:10017812-1793534400-1793538000@cedarlane.org
SUMMARY:Newcomers Circle
DESCRIPTION:Join us after worship in this informal space to meet others\, ask questions\, and get a sense of our community. This is a great opportunity to meet other newcomers and explore how to get more connected in the Cedar Lane community.
URL:https://cedarlane.org/calendar/newcomers-circle-2/2026-11-01/
LOCATION:Library\, 9601 Cedar Ln\, Bethesda\, MD\, 20814\, United States
CATEGORIES:After the Service,Path to Membership
ATTACH;FMTTYPE=image/webp:https://cedarlane.org/wp-content/uploads/2025/10/Newcomer-Circle.webp
ORGANIZER;CN="Nicolle Singer":MAILTO:nsinger@cedarlane.org
END:VEVENT
BEGIN:VEVENT
DTSTART;TZID=America/New_York:20261115T120000
DTEND;TZID=America/New_York:20261115T130000
DTSTAMP:20260424T062342
CREATED:20250709T163151Z
LAST-MODIFIED:20251116T145317Z
UID:10015892-1794744000-1794747600@cedarlane.org
SUMMARY:Member Engagement and Connection Conversations
DESCRIPTION:
URL:https://cedarlane.org/calendar/member-connection/2026-11-15/
LOCATION:MD
CATEGORIES:After the Service,Newcomers
ATTACH;FMTTYPE=image/webp:https://cedarlane.org/wp-content/uploads/2025/10/newcomers.webp
END:VEVENT
BEGIN:VEVENT
DTSTART;TZID=America/New_York:20261206T120000
DTEND;TZID=America/New_York:20261206T130000
DTSTAMP:20260424T062342
CREATED:20251104T163418Z
LAST-MODIFIED:20251110T140623Z
UID:10017813-1796558400-1796562000@cedarlane.org
SUMMARY:Newcomers Circle
DESCRIPTION:Join us after worship in this informal space to meet others\, ask questions\, and get a sense of our community. This is a great opportunity to meet other newcomers and explore how to get more connected in the Cedar Lane community.
URL:https://cedarlane.org/calendar/newcomers-circle-2/2026-12-06/
LOCATION:Library\, 9601 Cedar Ln\, Bethesda\, MD\, 20814\, United States
CATEGORIES:After the Service,Path to Membership
ATTACH;FMTTYPE=image/webp:https://cedarlane.org/wp-content/uploads/2025/10/Newcomer-Circle.webp
ORGANIZER;CN="Nicolle Singer":MAILTO:nsinger@cedarlane.org
END:VEVENT
END:VCALENDAR