BEGIN:VCALENDAR
VERSION:2.0
PRODID:-//Cedar Lane Unitarian Universalist Congregation - ECPv6.15.20//NONSGML v1.0//EN
CALSCALE:GREGORIAN
METHOD:PUBLISH
X-WR-CALNAME:Cedar Lane Unitarian Universalist Congregation
X-ORIGINAL-URL:https://cedarlane.org
X-WR-CALDESC:Events for Cedar Lane Unitarian Universalist Congregation
REFRESH-INTERVAL;VALUE=DURATION:PT1H
X-Robots-Tag:noindex
X-PUBLISHED-TTL:PT1H
BEGIN:VTIMEZONE
TZID:America/New_York
BEGIN:DAYLIGHT
TZOFFSETFROM:-0500
TZOFFSETTO:-0400
TZNAME:EDT
DTSTART:20240310T070000
END:DAYLIGHT
BEGIN:STANDARD
TZOFFSETFROM:-0400
TZOFFSETTO:-0500
TZNAME:EST
DTSTART:20241103T060000
END:STANDARD
BEGIN:DAYLIGHT
TZOFFSETFROM:-0500
TZOFFSETTO:-0400
TZNAME:EDT
DTSTART:20250309T070000
END:DAYLIGHT
BEGIN:STANDARD
TZOFFSETFROM:-0400
TZOFFSETTO:-0500
TZNAME:EST
DTSTART:20251102T060000
END:STANDARD
BEGIN:DAYLIGHT
TZOFFSETFROM:-0500
TZOFFSETTO:-0400
TZNAME:EDT
DTSTART:20260308T070000
END:DAYLIGHT
BEGIN:STANDARD
TZOFFSETFROM:-0400
TZOFFSETTO:-0500
TZNAME:EST
DTSTART:20261101T060000
END:STANDARD
BEGIN:DAYLIGHT
TZOFFSETFROM:-0500
TZOFFSETTO:-0400
TZNAME:EDT
DTSTART:20270314T070000
END:DAYLIGHT
BEGIN:STANDARD
TZOFFSETFROM:-0400
TZOFFSETTO:-0500
TZNAME:EST
DTSTART:20271107T060000
END:STANDARD
END:VTIMEZONE
BEGIN:VEVENT
DTSTART;TZID=America/New_York:20260411T083000
DTEND;TZID=America/New_York:20260411T103000
DTSTAMP:20260425T081329
CREATED:20250709T163048Z
LAST-MODIFIED:20251101T214306Z
UID:10015306-1775896200-1775903400@cedarlane.org
SUMMARY:Men's Group (online)
DESCRIPTION:The Men’s Group meeting twice a month on the 2nd and 4th Saturday mornings alternating online (2nd Saturday) and in-person (4th Saturday).
URL:https://cedarlane.org/calendar/mens-group-2nd/2026-04-11/
LOCATION:https://cedarlane.org/calendar/mens-group-2nd/2026-04-11/
CATEGORIES:Connect & Engage,Healing,Men
ATTACH;FMTTYPE=image/jpeg:https://cedarlane.org/wp-content/uploads/2025/05/2017cedarlane-3709.jpg
END:VEVENT
BEGIN:VEVENT
DTSTART;TZID=America/New_York:20260328T083000
DTEND;TZID=America/New_York:20260328T103000
DTSTAMP:20260425T081329
CREATED:20250709T163222Z
LAST-MODIFIED:20251101T214306Z
UID:10015367-1774686600-1774693800@cedarlane.org
SUMMARY:Men's Group (in person)
DESCRIPTION:The Men’s Group meeting twice a month on the 2nd and 4th Saturday mornings alternating online (2nd Saturday) and in-person (4th Saturday).
URL:https://cedarlane.org/calendar/mens-group/2026-03-28/
LOCATION:Maryland
CATEGORIES:Connect & Engage,Healing,Men
ATTACH;FMTTYPE=image/jpeg:https://cedarlane.org/wp-content/uploads/2025/05/2017cedarlane-3709.jpg
END:VEVENT
BEGIN:VEVENT
DTSTART;TZID=America/New_York:20260321T083000
DTEND;TZID=America/New_York:20260321T110000
DTSTAMP:20260425T081329
CREATED:20251223T191800Z
LAST-MODIFIED:20251223T194446Z
UID:10017902-1774081800-1774090800@cedarlane.org
SUMMARY:Beginners Bridge Club
DESCRIPTION:A beginners bridge club is forming at Cedar Lane! Instruction will be provided. Learn how to play and enjoy community fellowship. Light\, non-greasy snacks are welcome.\nLet us know you are coming here! \nFor questions or to RSVP\, contact Doug Mader at beginnersbridge@cedarlane.org
URL:https://cedarlane.org/calendar/beginners-bridge-club-3/2026-03-21/
LOCATION:Cedar Lane UU Congregation\, 9601 Cedar Ln\, Bethesda\, Maryland\, 20814
CATEGORIES:Connect & Engage,Fun
ATTACH;FMTTYPE=image/webp:https://cedarlane.org/wp-content/uploads/2025/10/alessandro-bogliari-43LcbfI-tok-unsplash.webp
ORGANIZER;CN="Doug Mader":MAILTO:beginnersbridge@cedarlane.org
END:VEVENT
BEGIN:VEVENT
DTSTART;TZID=America/New_York:20260314T083000
DTEND;TZID=America/New_York:20260314T103000
DTSTAMP:20260425T081329
CREATED:20250709T163048Z
LAST-MODIFIED:20251101T214306Z
UID:10015305-1773477000-1773484200@cedarlane.org
SUMMARY:Men's Group (online)
DESCRIPTION:The Men’s Group meeting twice a month on the 2nd and 4th Saturday mornings alternating online (2nd Saturday) and in-person (4th Saturday).
URL:https://cedarlane.org/calendar/mens-group-2nd/2026-03-14/
LOCATION:https://cedarlane.org/calendar/mens-group-2nd/2026-03-14/
CATEGORIES:Connect & Engage,Healing,Men
ATTACH;FMTTYPE=image/jpeg:https://cedarlane.org/wp-content/uploads/2025/05/2017cedarlane-3709.jpg
END:VEVENT
BEGIN:VEVENT
DTSTART;TZID=America/New_York:20260307T083000
DTEND;TZID=America/New_York:20260307T110000
DTSTAMP:20260425T081329
CREATED:20251223T191656Z
LAST-MODIFIED:20251223T194334Z
UID:10017214-1772872200-1772881200@cedarlane.org
SUMMARY:Beginners Bridge Club
DESCRIPTION:A beginners bridge club is forming at Cedar Lane! Instruction will be provided. Learn how to play and enjoy community fellowship. Light\, non-greasy snacks are welcome.\nLet us know you are coming here! \nFor questions or to RSVP\, contact Doug Mader at beginnersbridge@cedarlane.org
URL:https://cedarlane.org/calendar/beginners-bridge-club-2/2026-03-07/
LOCATION:Cedar Lane UU Congregation\, 9601 Cedar Ln\, Bethesda\, Maryland\, 20814
CATEGORIES:Connect & Engage,Fun
ATTACH;FMTTYPE=image/webp:https://cedarlane.org/wp-content/uploads/2025/10/alessandro-bogliari-43LcbfI-tok-unsplash.webp
ORGANIZER;CN="Doug Mader":MAILTO:beginnersbridge@cedarlane.org
END:VEVENT
BEGIN:VEVENT
DTSTART;TZID=America/New_York:20260228T083000
DTEND;TZID=America/New_York:20260228T103000
DTSTAMP:20260425T081329
CREATED:20250709T163222Z
LAST-MODIFIED:20251101T214306Z
UID:10015366-1772267400-1772274600@cedarlane.org
SUMMARY:Men's Group (in person)
DESCRIPTION:The Men’s Group meeting twice a month on the 2nd and 4th Saturday mornings alternating online (2nd Saturday) and in-person (4th Saturday).
URL:https://cedarlane.org/calendar/mens-group/2026-02-28/
LOCATION:Maryland
CATEGORIES:Connect & Engage,Healing,Men
ATTACH;FMTTYPE=image/jpeg:https://cedarlane.org/wp-content/uploads/2025/05/2017cedarlane-3709.jpg
END:VEVENT
BEGIN:VEVENT
DTSTART;TZID=America/New_York:20260221T083000
DTEND;TZID=America/New_York:20260221T110000
DTSTAMP:20260425T081329
CREATED:20251223T191800Z
LAST-MODIFIED:20251223T194446Z
UID:10017901-1771662600-1771671600@cedarlane.org
SUMMARY:Beginners Bridge Club
DESCRIPTION:A beginners bridge club is forming at Cedar Lane! Instruction will be provided. Learn how to play and enjoy community fellowship. Light\, non-greasy snacks are welcome.\nLet us know you are coming here! \nFor questions or to RSVP\, contact Doug Mader at beginnersbridge@cedarlane.org
URL:https://cedarlane.org/calendar/beginners-bridge-club-3/2026-02-21/
LOCATION:Cedar Lane UU Congregation\, 9601 Cedar Ln\, Bethesda\, Maryland\, 20814
CATEGORIES:Connect & Engage,Fun
ATTACH;FMTTYPE=image/webp:https://cedarlane.org/wp-content/uploads/2025/10/alessandro-bogliari-43LcbfI-tok-unsplash.webp
ORGANIZER;CN="Doug Mader":MAILTO:beginnersbridge@cedarlane.org
END:VEVENT
BEGIN:VEVENT
DTSTART;TZID=America/New_York:20260214T083000
DTEND;TZID=America/New_York:20260214T103000
DTSTAMP:20260425T081329
CREATED:20250709T163048Z
LAST-MODIFIED:20251101T214306Z
UID:10015304-1771057800-1771065000@cedarlane.org
SUMMARY:Men's Group (online)
DESCRIPTION:The Men’s Group meeting twice a month on the 2nd and 4th Saturday mornings alternating online (2nd Saturday) and in-person (4th Saturday).
URL:https://cedarlane.org/calendar/mens-group-2nd/2026-02-14/
LOCATION:https://cedarlane.org/calendar/mens-group-2nd/2026-02-14/
CATEGORIES:Connect & Engage,Healing,Men
ATTACH;FMTTYPE=image/jpeg:https://cedarlane.org/wp-content/uploads/2025/05/2017cedarlane-3709.jpg
END:VEVENT
BEGIN:VEVENT
DTSTART;TZID=America/New_York:20260207T083000
DTEND;TZID=America/New_York:20260207T110000
DTSTAMP:20260425T081329
CREATED:20251223T191656Z
LAST-MODIFIED:20251223T194334Z
UID:10017210-1770453000-1770462000@cedarlane.org
SUMMARY:Beginners Bridge Club
DESCRIPTION:A beginners bridge club is forming at Cedar Lane! Instruction will be provided. Learn how to play and enjoy community fellowship. Light\, non-greasy snacks are welcome.\nLet us know you are coming here! \nFor questions or to RSVP\, contact Doug Mader at beginnersbridge@cedarlane.org
URL:https://cedarlane.org/calendar/beginners-bridge-club-2/2026-02-07/
LOCATION:Cedar Lane UU Congregation\, 9601 Cedar Ln\, Bethesda\, Maryland\, 20814
CATEGORIES:Connect & Engage,Fun
ATTACH;FMTTYPE=image/webp:https://cedarlane.org/wp-content/uploads/2025/10/alessandro-bogliari-43LcbfI-tok-unsplash.webp
ORGANIZER;CN="Doug Mader":MAILTO:beginnersbridge@cedarlane.org
END:VEVENT
BEGIN:VEVENT
DTSTART;TZID=America/New_York:20260131T083000
DTEND;TZID=America/New_York:20260131T110000
DTSTAMP:20260425T081329
CREATED:20251223T191656Z
LAST-MODIFIED:20251223T194334Z
UID:10017209-1769848200-1769857200@cedarlane.org
SUMMARY:Beginners Bridge Club
DESCRIPTION:A beginners bridge club is forming at Cedar Lane! Instruction will be provided. Learn how to play and enjoy community fellowship. Light\, non-greasy snacks are welcome.\nLet us know you are coming here! \nFor questions or to RSVP\, contact Doug Mader at beginnersbridge@cedarlane.org
URL:https://cedarlane.org/calendar/beginners-bridge-club-2/2026-01-31/
LOCATION:Cedar Lane UU Congregation\, 9601 Cedar Ln\, Bethesda\, Maryland\, 20814
CATEGORIES:Connect & Engage,Fun
ATTACH;FMTTYPE=image/webp:https://cedarlane.org/wp-content/uploads/2025/10/alessandro-bogliari-43LcbfI-tok-unsplash.webp
ORGANIZER;CN="Doug Mader":MAILTO:beginnersbridge@cedarlane.org
END:VEVENT
BEGIN:VEVENT
DTSTART;TZID=America/New_York:20260124T083000
DTEND;TZID=America/New_York:20260124T103000
DTSTAMP:20260425T081329
CREATED:20250709T163222Z
LAST-MODIFIED:20251101T214306Z
UID:10015365-1769243400-1769250600@cedarlane.org
SUMMARY:Men's Group (in person)
DESCRIPTION:The Men’s Group meeting twice a month on the 2nd and 4th Saturday mornings alternating online (2nd Saturday) and in-person (4th Saturday).
URL:https://cedarlane.org/calendar/mens-group/2026-01-24/
LOCATION:Maryland
CATEGORIES:Connect & Engage,Healing,Men
ATTACH;FMTTYPE=image/jpeg:https://cedarlane.org/wp-content/uploads/2025/05/2017cedarlane-3709.jpg
END:VEVENT
BEGIN:VEVENT
DTSTART;TZID=America/New_York:20260117T083000
DTEND;TZID=America/New_York:20260117T110000
DTSTAMP:20260425T081329
CREATED:20251223T191800Z
LAST-MODIFIED:20251223T194446Z
UID:10017900-1768638600-1768647600@cedarlane.org
SUMMARY:Beginners Bridge Club
DESCRIPTION:A beginners bridge club is forming at Cedar Lane! Instruction will be provided. Learn how to play and enjoy community fellowship. Light\, non-greasy snacks are welcome.\nLet us know you are coming here! \nFor questions or to RSVP\, contact Doug Mader at beginnersbridge@cedarlane.org
URL:https://cedarlane.org/calendar/beginners-bridge-club-3/2026-01-17/
LOCATION:Cedar Lane UU Congregation\, 9601 Cedar Ln\, Bethesda\, Maryland\, 20814
CATEGORIES:Connect & Engage,Fun
ATTACH;FMTTYPE=image/webp:https://cedarlane.org/wp-content/uploads/2025/10/alessandro-bogliari-43LcbfI-tok-unsplash.webp
ORGANIZER;CN="Doug Mader":MAILTO:beginnersbridge@cedarlane.org
END:VEVENT
BEGIN:VEVENT
DTSTART;TZID=America/New_York:20260110T083000
DTEND;TZID=America/New_York:20260110T103000
DTSTAMP:20260425T081329
CREATED:20250709T163048Z
LAST-MODIFIED:20251101T214306Z
UID:10015303-1768033800-1768041000@cedarlane.org
SUMMARY:Men's Group (online)
DESCRIPTION:The Men’s Group meeting twice a month on the 2nd and 4th Saturday mornings alternating online (2nd Saturday) and in-person (4th Saturday).
URL:https://cedarlane.org/calendar/mens-group-2nd/2026-01-10/
LOCATION:https://cedarlane.org/calendar/mens-group-2nd/2026-01-10/
CATEGORIES:Connect & Engage,Healing,Men
ATTACH;FMTTYPE=image/jpeg:https://cedarlane.org/wp-content/uploads/2025/05/2017cedarlane-3709.jpg
END:VEVENT
BEGIN:VEVENT
DTSTART;TZID=America/New_York:20260103T083000
DTEND;TZID=America/New_York:20260103T110000
DTSTAMP:20260425T081330
CREATED:20251223T191656Z
LAST-MODIFIED:20251223T194334Z
UID:10017205-1767429000-1767438000@cedarlane.org
SUMMARY:Beginners Bridge Club
DESCRIPTION:A beginners bridge club is forming at Cedar Lane! Instruction will be provided. Learn how to play and enjoy community fellowship. Light\, non-greasy snacks are welcome.\nLet us know you are coming here! \nFor questions or to RSVP\, contact Doug Mader at beginnersbridge@cedarlane.org
URL:https://cedarlane.org/calendar/beginners-bridge-club-2/2026-01-03/
LOCATION:Cedar Lane UU Congregation\, 9601 Cedar Ln\, Bethesda\, Maryland\, 20814
CATEGORIES:Connect & Engage,Fun
ATTACH;FMTTYPE=image/webp:https://cedarlane.org/wp-content/uploads/2025/10/alessandro-bogliari-43LcbfI-tok-unsplash.webp
ORGANIZER;CN="Doug Mader":MAILTO:beginnersbridge@cedarlane.org
END:VEVENT
BEGIN:VEVENT
DTSTART;TZID=America/New_York:20251231T180000
DTEND;TZID=America/New_York:20251231T210000
DTSTAMP:20260425T081330
CREATED:20251218T164129Z
LAST-MODIFIED:20251218T164129Z
UID:10017883-1767204000-1767214800@cedarlane.org
SUMMARY:New Year's Eve Labyrinth Walk
DESCRIPTION:Walking the labyrinth is a wonderful way to reflect on the current year and prepare for next year. \nThis is a free event and donations are warmly accepted. \nMay this season invite us to slow down\, make things with our hands\, show up for one another\, sing when we can\, sit in stillness when we need to\, and remember how good it is to be part of a community that carries these days together.
URL:https://cedarlane.org/calendar/nye-labyrinth/
LOCATION:Cedar Lane UU Congregation\, 9601 Cedar Ln\, Bethesda\, Maryland\, 20814
CATEGORIES:Families,Holiday Celebrations,In the Spotlight,Newcomers,Spirituality
ATTACH;FMTTYPE=image/webp:https://cedarlane.org/wp-content/uploads/2025/10/labyrinth-1.webp
END:VEVENT
BEGIN:VEVENT
DTSTART;TZID=America/New_York:20251228T103000
DTEND;TZID=America/New_York:20251228T113000
DTSTAMP:20260425T081330
CREATED:20251217T185134Z
LAST-MODIFIED:20251218T162826Z
UID:10000027-1766917800-1766921400@cedarlane.org
SUMMARY:PJs and Poetry
DESCRIPTION:A gentle post-holiday service of rest and renewal with Rev. Dayna Edwards. Wear your pajamas and bring a short favorite poem to share as we create this simple\, heartfelt worship together. \nYou are welcome to join us online or in-person.
URL:https://cedarlane.org/calendar/sunday-worship-service-5/
LOCATION:Sanctuary\, 9601 Cedar Ln\, Bethesda\, MD\, 20814\, United States
CATEGORIES:Holiday Celebrations,In the Spotlight,Livestream Event,Newcomers,Spirituality,Youth
ATTACH;FMTTYPE=image/webp:https://cedarlane.org/wp-content/uploads/2025/12/PJs-and-Poetry.webp
ORGANIZER;CN="Rev. Dayna Edwards":MAILTO:dedwards@cedarlane.org
END:VEVENT
BEGIN:VEVENT
DTSTART;TZID=America/New_York:20251227T083000
DTEND;TZID=America/New_York:20251227T103000
DTSTAMP:20260425T081330
CREATED:20250709T163222Z
LAST-MODIFIED:20251101T214306Z
UID:10015364-1766824200-1766831400@cedarlane.org
SUMMARY:Men's Group (in person)
DESCRIPTION:The Men’s Group meeting twice a month on the 2nd and 4th Saturday mornings alternating online (2nd Saturday) and in-person (4th Saturday).
URL:https://cedarlane.org/calendar/mens-group/2025-12-27/
LOCATION:Maryland
CATEGORIES:Connect & Engage,Healing,Men
ATTACH;FMTTYPE=image/jpeg:https://cedarlane.org/wp-content/uploads/2025/05/2017cedarlane-3709.jpg
END:VEVENT
BEGIN:VEVENT
DTSTART;TZID=America/New_York:20251224T203000
DTEND;TZID=America/New_York:20251224T213000
DTSTAMP:20260425T081330
CREATED:20251211T164433Z
LAST-MODIFIED:20251218T162827Z
UID:10017873-1766608200-1766611800@cedarlane.org
SUMMARY:Candlelight Lessons and Carols
DESCRIPTION:A beautiful tradition with lessons\, carols\, candlelight\, our Adult Choir\, and guest musicians. We’ll hear both ancient and modern tellings of the nativity story. \nJoin us in-person or online at the link below.
URL:https://cedarlane.org/calendar/christmas-even-candlelight-lessons-carols/
LOCATION:Cedar Lane UU Congregation\, 9601 Cedar Ln\, Bethesda\, Maryland\, 20814
CATEGORIES:Connect & Engage,Holiday Celebrations,In the Spotlight,Newcomers
ATTACH;FMTTYPE=image/webp:https://cedarlane.org/wp-content/uploads/2025/12/Xmas830.webp
END:VEVENT
BEGIN:VEVENT
DTSTART;TZID=America/New_York:20251224T180000
DTEND;TZID=America/New_York:20251224T190000
DTSTAMP:20260425T081330
CREATED:20251211T163940Z
LAST-MODIFIED:20251218T162827Z
UID:10017872-1766599200-1766602800@cedarlane.org
SUMMARY:Celebration of Light and Hope
DESCRIPTION:A warm Christmas Eve gathering with story\, song\, carols\, and candlelight rekindling the spirit of joy\, peace\, and hope. We’ll also honor babies and children born or adopted this year. To include a child’s name\, please email Nicolle  with their full name and their parents’ names. You/they don’t need to be present to be recognized.
URL:https://cedarlane.org/calendar/a-christmas-eve-celebration-of-light-and-hope/
LOCATION:Cedar Lane UU Congregation\, 9601 Cedar Ln\, Bethesda\, Maryland\, 20814
CATEGORIES:Families,Holiday Celebrations,In the Spotlight,Newcomers
ATTACH;FMTTYPE=image/webp:https://cedarlane.org/wp-content/uploads/2025/12/Xmas600.webp
END:VEVENT
BEGIN:VEVENT
DTSTART;TZID=America/New_York:20251224T160000
DTEND;TZID=America/New_York:20251224T170000
DTSTAMP:20260425T081330
CREATED:20251211T163251Z
LAST-MODIFIED:20251218T162827Z
UID:10017871-1766592000-1766595600@cedarlane.org
SUMMARY:Christmas Stories and Songs
DESCRIPTION:A joyful\, family-friendly Christmas Eve service with beloved Cedar Lane stories (including Rev. Ken MacLean’s Clausen tales)\, carols\, our Children’s Choir\, and participatory worship\, especially welcoming for families with young children and all who are young at heart.
URL:https://cedarlane.org/calendar/christmas-eve-at-cedar-lane-christmas-stories-songs/
LOCATION:Cedar Lane UU Congregation\, 9601 Cedar Ln\, Bethesda\, Maryland\, 20814
CATEGORIES:Families,Holiday Celebrations,In the Spotlight,Music,Newcomers
ATTACH;FMTTYPE=image/webp:https://cedarlane.org/wp-content/uploads/2025/12/Xmas400.webp
END:VEVENT
BEGIN:VEVENT
DTSTART;TZID=America/New_York:20251221T120000
DTEND;TZID=America/New_York:20251221T130000
DTSTAMP:20260425T081330
CREATED:20251218T160730Z
LAST-MODIFIED:20251218T162827Z
UID:10017882-1766318400-1766322000@cedarlane.org
SUMMARY:Cookie Exchange with a Visit from Santa
DESCRIPTION:This Sunday\, December 21\, the holiday joy continues after service with a merry cookie exchange you won’t want to miss! \nHere’s how the magic works: bring one dozen of your favorite homemade cookies\, enjoy sampling a delightful variety\, and head home with a whole new dozen lovingly made by others in our community. \n\n	\n		\n			\n				\n					Sign Up for the Cookie Swap\n				\n			\n		\n	\n\nWhy take part? It’s festive\, delicious\, and a wonderful way to connect across generations while filling your home with a box of holiday cheer. One dozen in\, one dozen out. Easy\, sweet\, and full of spirit. \nAnd there’s more. Santa himself will be visiting in the library after service for photos and smiles\, making this a perfect moment for families\, friends\, and a little seasonal sparkle. \nBring cookies\, bring your camera\, bring your holiday spirit\, and stay for the fun. \nWe can’t wait to celebrate with you!
URL:https://cedarlane.org/calendar/santa-cookies/
LOCATION:Cedar Lane UU Congregation\, 9601 Cedar Ln\, Bethesda\, Maryland\, 20814
CATEGORIES:Families,Fun,Holiday Celebrations,In the Spotlight,Newcomers,Youth
ATTACH;FMTTYPE=image/webp:https://cedarlane.org/wp-content/uploads/2025/12/santa-cookies.webp
END:VEVENT
BEGIN:VEVENT
DTSTART;TZID=America/New_York:20251221T103000
DTEND;TZID=America/New_York:20251221T113000
DTSTAMP:20260425T081330
CREATED:20251217T182841Z
LAST-MODIFIED:20251218T162827Z
UID:10000026-1766313000-1766316600@cedarlane.org
SUMMARY:Holidays and Holy Days: Choosing Hope
DESCRIPTION:We honor the wisdom of many traditions—Advent\, Bodhi Day\, Hanukkah\, and the Solstice—as we reflect on what it means to choose hope and live with courage in uncertain times. \nStay after for a visit from Santa! And a cookie exchange! \nJoin us on Sundays in person or online for inspiring music\, thoughtful reflections\, and a warm\, welcoming community. \nYou are welcome to join us!
URL:https://cedarlane.org/calendar/sunday-worship-service-4/
LOCATION:Sanctuary\, 9601 Cedar Ln\, Bethesda\, MD\, 20814\, United States
CATEGORIES:Holiday Celebrations,In the Spotlight,Livestream Event,Newcomers,Spirituality,Youth
ATTACH;FMTTYPE=image/webp:https://cedarlane.org/wp-content/uploads/2025/12/holidays-and-holy-days.webp
END:VEVENT
BEGIN:VEVENT
DTSTART;TZID=America/New_York:20251221T090000
DTEND;TZID=America/New_York:20251221T100000
DTSTAMP:20260425T081330
CREATED:20251217T181657Z
LAST-MODIFIED:20251218T162828Z
UID:10017134-1766307600-1766311200@cedarlane.org
SUMMARY:Winter Solstice with the JourneyWomen
DESCRIPTION:The Journeywomen invite interested women to join us as we gather in shared\, reverent space to observe the Winter Solstice during our regular meeting. \nFeel free to share your own short\, solstice-themed poem; choose one from our extras on hand; or simply contribute your presence. \nIn our reflective listening\, we privilege humility toward the natural world as much as we do human cultures. \n\nWe gather online on the 1st and 3rd Sundays at 9:00 am Eastern. You are welcome to join us. \nWe will gather in Room 3\, Lower Level.
URL:https://cedarlane.org/calendar/journeywomen-2-2/
LOCATION:Rm 3 (Lower Level)\, 9601 Cedar Ln\, Bethesda\, MD\, 20814\, United States
CATEGORIES:Holiday Celebrations,In the Spotlight,Spirituality,Women
ATTACH;FMTTYPE=image/webp:https://cedarlane.org/wp-content/uploads/2025/12/Solstice.webp
ORGANIZER;CN="JourneyWomen":MAILTO:journeywomen@cedarlane.org
END:VEVENT
BEGIN:VEVENT
DTSTART;TZID=America/New_York:20251213T083000
DTEND;TZID=America/New_York:20251213T103000
DTSTAMP:20260425T081330
CREATED:20250709T163048Z
LAST-MODIFIED:20251101T214306Z
UID:10015302-1765614600-1765621800@cedarlane.org
SUMMARY:Men's Group (online)
DESCRIPTION:The Men’s Group meeting twice a month on the 2nd and 4th Saturday mornings alternating online (2nd Saturday) and in-person (4th Saturday).
URL:https://cedarlane.org/calendar/mens-group-2nd/2025-12-13/
LOCATION:https://cedarlane.org/calendar/mens-group-2nd/2025-12-13/
CATEGORIES:Connect & Engage,Healing,Men
ATTACH;FMTTYPE=image/jpeg:https://cedarlane.org/wp-content/uploads/2025/05/2017cedarlane-3709.jpg
END:VEVENT
BEGIN:VEVENT
DTSTART;TZID=America/New_York:20251122T083000
DTEND;TZID=America/New_York:20251122T103000
DTSTAMP:20260425T081330
CREATED:20250709T163222Z
LAST-MODIFIED:20251101T214306Z
UID:10015363-1763800200-1763807400@cedarlane.org
SUMMARY:Men's Group (in person)
DESCRIPTION:The Men’s Group meeting twice a month on the 2nd and 4th Saturday mornings alternating online (2nd Saturday) and in-person (4th Saturday).
URL:https://cedarlane.org/calendar/mens-group/2025-11-22/
LOCATION:Maryland
CATEGORIES:Connect & Engage,Healing,Men
ATTACH;FMTTYPE=image/jpeg:https://cedarlane.org/wp-content/uploads/2025/05/2017cedarlane-3709.jpg
END:VEVENT
BEGIN:VEVENT
DTSTART;TZID=America/New_York:20251115T090000
DTEND;TZID=America/New_York:20251115T123000
DTSTAMP:20260425T081330
CREATED:20251029T223307Z
LAST-MODIFIED:20251112T050626Z
UID:10017458-1763197200-1763209800@cedarlane.org
SUMMARY:Building Spiritual Resilience Retreat
DESCRIPTION:Fortifying Ourselves for the Work Ahead\nJoin us for an interactive retreat experience to explore how we strengthen our spirits and deepen our connections as we live out our Unitarian Universalist values together. Through reflection\, music\, art\, dialogue\, and practice\, we’ll examine how mutual care\, collaboration\, and spiritual grounding sustain us in times of challenge and change. Come ready to engage your heart\, mind\, and imagination as we nurture the collective strength that empowers Cedar Lane’s ministry and mission. \nLunch provided and childcare available if requested by Saturday\, November 8. \n\n	\n		\n			\n				\n					Register Now
URL:https://cedarlane.org/calendar/building-spiritual-resilience-fortifying-ourselves-for-the-work-ahead/
LOCATION:Fellowship Hall\, 9601 Cedar Ln\, Bethesda\, MD\, 20814\, United States
CATEGORIES:Activism & Justice,Connect & Engage,In the Spotlight,Planning and Coordination
ATTACH;FMTTYPE=image/webp:https://cedarlane.org/wp-content/uploads/2025/10/kayle-kaupanger-kr64axJxx20-unsplash-scaled.webp
END:VEVENT
BEGIN:VEVENT
DTSTART;TZID=America/New_York:20251109T120000
DTEND;TZID=America/New_York:20251109T133000
DTSTAMP:20260425T081330
CREATED:20251017T170933Z
LAST-MODIFIED:20251110T140623Z
UID:10016368-1762689600-1762695000@cedarlane.org
SUMMARY:Explore Cedar Lane
DESCRIPTION:Are you interested in learning more about Cedar Lane\, what membership means here\, and how you can become part of this vibrant community? \nIn this session\, we’ll explore what it means to be a member of Cedar Lane – the commitments we make to one another\, and the ways our community supports and nourishes its members. You’ll meet lay leaders and our Executive Director\, hear about the many ministries and teams that shape our life together\, from social justice to worship to community care\, and discover practical ways to get connected and involved. \nWe’ll also spend time getting to know one another\, sharing our own paths that brought us here\, connecting in small groups\, and enjoying snacks together after the service. \nWhether you are brand new to Cedar Lane or a longtime UU exploring membership\, this class will help you understand what membership looks like here and what it can mean for your spiritual journey. \nIf childcare is needed during the in-person program\, please let us know at least one week in advance by emailing nsinger@cedarlane.org. \n\n	\n		\n			\n				\n					RSVP
URL:https://cedarlane.org/calendar/explore-cedar-lane/
LOCATION:Chalice House\, 9601 Cedar Ln\, Bethesda\, MD\, 20814\, United States
CATEGORIES:After the Service,Connect & Engage,In the Spotlight,Learn and Grow,Newcomers,Path to Membership
ATTACH;FMTTYPE=image/jpeg:https://cedarlane.org/wp-content/uploads/2025/06/2017cedarlane-4619_0.jpg
ORGANIZER;CN="Nicolle Singer":MAILTO:nsinger@cedarlane.org
GEO:39.013542080457;-77.088487850511
X-APPLE-STRUCTURED-LOCATION;VALUE=URI;X-ADDRESS=Chalice House 9601 Cedar Ln Bethesda MD 20814 United States;X-APPLE-RADIUS=500;X-TITLE=9601 Cedar Ln:geo:-77.088487850511,39.013542080457
END:VEVENT
BEGIN:VEVENT
DTSTART;TZID=America/New_York:20251109T120000
DTEND;TZID=America/New_York:20251109T130000
DTSTAMP:20260425T081330
CREATED:20251029T220804Z
LAST-MODIFIED:20251110T140623Z
UID:10017457-1762689600-1762693200@cedarlane.org
SUMMARY:Lunch and Conversation on Generosity
DESCRIPTION:Through their annual financial commitments\, Cedar Lane members and friends provide the majority of the funds that the congregation uses to sustain and grow our mission and ministry. Curious about generosity at Cedar Lane? Wondering how we raise the funds to support our worship\, faith formation\, music\, social justice\, facilities and more? \nIf you are interested in getting more involved with making the annual fund pledge drive a success\, we especially invite you to join us! \nJoin Cedar Lane leadership for lunch and conversation. \nRegister to let us know you’ll be there. \nChildcare available (if requested through the registration form) by Sunday\, November 2. \n\n	\n		\n			\n				\n					Register Today
URL:https://cedarlane.org/calendar/lunch-and-conversation-on-generosity/
LOCATION:Cedar Lane UU Congregation\, 9601 Cedar Ln\, Bethesda\, Maryland\, 20814
CATEGORIES:After the Service,Connect & Engage,Volunteer Opportunity
ATTACH;FMTTYPE=image/webp:https://cedarlane.org/wp-content/uploads/2025/10/iStock-1436319269-scaled.webp
END:VEVENT
BEGIN:VEVENT
DTSTART;TZID=America/New_York:20251108T083000
DTEND;TZID=America/New_York:20251108T103000
DTSTAMP:20260425T081330
CREATED:20250709T163048Z
LAST-MODIFIED:20251101T214306Z
UID:10015301-1762590600-1762597800@cedarlane.org
SUMMARY:Men's Group (online)
DESCRIPTION:The Men’s Group meeting twice a month on the 2nd and 4th Saturday mornings alternating online (2nd Saturday) and in-person (4th Saturday).
URL:https://cedarlane.org/calendar/mens-group-2nd/2025-11-08/
LOCATION:https://cedarlane.org/calendar/mens-group-2nd/2025-11-08/
CATEGORIES:Connect & Engage,Healing,Men
ATTACH;FMTTYPE=image/jpeg:https://cedarlane.org/wp-content/uploads/2025/05/2017cedarlane-3709.jpg
END:VEVENT
BEGIN:VEVENT
DTSTART;TZID=America/New_York:20251102T113000
DTEND;TZID=America/New_York:20251102T130000
DTSTAMP:20260425T081330
CREATED:20251029T213931Z
LAST-MODIFIED:20251110T140623Z
UID:10017195-1762083000-1762088400@cedarlane.org
SUMMARY:Ministry Engagement Fair
DESCRIPTION:Come discover how you can help us build Beloved Community! Come to the fair\, browse the tables\, and talk to people from the various ministries. Find a ministry activity that supports a gift or passion of yours\, that matches your available time\, that sounds like a fun or meaningful way to get involved in the life of our congregation.
URL:https://cedarlane.org/calendar/ministry-engagement-fair/
LOCATION:Cedar Lane UU Congregation\, 9601 Cedar Ln\, Bethesda\, Maryland\, 20814
CATEGORIES:After the Service,Connect & Engage,In the Spotlight,Learn and Grow,Volunteer Opportunity
ATTACH;FMTTYPE=image/webp:https://cedarlane.org/wp-content/uploads/2025/10/nathan-lemon-FBiKcUw_sQw-unsplash-scaled-e1761774311871.webp
END:VEVENT
END:VCALENDAR