BEGIN:VCALENDAR
VERSION:2.0
PRODID:-//Cedar Lane Unitarian Universalist Congregation - ECPv6.15.20//NONSGML v1.0//EN
CALSCALE:GREGORIAN
METHOD:PUBLISH
X-ORIGINAL-URL:https://cedarlane.org
X-WR-CALDESC:Events for Cedar Lane Unitarian Universalist Congregation
REFRESH-INTERVAL;VALUE=DURATION:PT1H
X-Robots-Tag:noindex
X-PUBLISHED-TTL:PT1H
BEGIN:VTIMEZONE
TZID:America/New_York
BEGIN:DAYLIGHT
TZOFFSETFROM:-0500
TZOFFSETTO:-0400
TZNAME:EDT
DTSTART:20250309T070000
END:DAYLIGHT
BEGIN:STANDARD
TZOFFSETFROM:-0400
TZOFFSETTO:-0500
TZNAME:EST
DTSTART:20251102T060000
END:STANDARD
BEGIN:DAYLIGHT
TZOFFSETFROM:-0500
TZOFFSETTO:-0400
TZNAME:EDT
DTSTART:20260308T070000
END:DAYLIGHT
BEGIN:STANDARD
TZOFFSETFROM:-0400
TZOFFSETTO:-0500
TZNAME:EST
DTSTART:20261101T060000
END:STANDARD
BEGIN:DAYLIGHT
TZOFFSETFROM:-0500
TZOFFSETTO:-0400
TZNAME:EDT
DTSTART:20270314T070000
END:DAYLIGHT
BEGIN:STANDARD
TZOFFSETFROM:-0400
TZOFFSETTO:-0500
TZNAME:EST
DTSTART:20271107T060000
END:STANDARD
BEGIN:DAYLIGHT
TZOFFSETFROM:-0500
TZOFFSETTO:-0400
TZNAME:EDT
DTSTART:20280312T070000
END:DAYLIGHT
BEGIN:STANDARD
TZOFFSETFROM:-0400
TZOFFSETTO:-0500
TZNAME:EST
DTSTART:20281105T060000
END:STANDARD
BEGIN:DAYLIGHT
TZOFFSETFROM:-0500
TZOFFSETTO:-0400
TZNAME:EDT
DTSTART:20290311T070000
END:DAYLIGHT
BEGIN:STANDARD
TZOFFSETFROM:-0400
TZOFFSETTO:-0500
TZNAME:EST
DTSTART:20291104T060000
END:STANDARD
END:VTIMEZONE
BEGIN:VEVENT
DTSTART;TZID=America/New_York:20261024T083000
DTEND;TZID=America/New_York:20261024T103000
DTSTAMP:20260425T100707
CREATED:20250709T163222Z
LAST-MODIFIED:20251101T214306Z
UID:10015374-1792830600-1792837800@cedarlane.org
SUMMARY:Men's Group (in person)
DESCRIPTION:The Men’s Group meeting twice a month on the 2nd and 4th Saturday mornings alternating online (2nd Saturday) and in-person (4th Saturday).
URL:https://cedarlane.org/calendar/mens-group/2026-10-24/
LOCATION:MD
CATEGORIES:Connect & Engage,Healing,Men
ATTACH;FMTTYPE=image/jpeg:https://cedarlane.org/wp-content/uploads/2025/05/2017cedarlane-3709.jpg
END:VEVENT
BEGIN:VEVENT
DTSTART;TZID=America/New_York:20261114T083000
DTEND;TZID=America/New_York:20261114T103000
DTSTAMP:20260425T100707
CREATED:20250709T163048Z
LAST-MODIFIED:20251101T214306Z
UID:10015313-1794645000-1794652200@cedarlane.org
SUMMARY:Men's Group (online)
DESCRIPTION:The Men’s Group meeting twice a month on the 2nd and 4th Saturday mornings alternating online (2nd Saturday) and in-person (4th Saturday).
URL:https://cedarlane.org/calendar/mens-group-2nd/2026-11-14/
LOCATION:https://cedarlane.org/calendar/mens-group-2nd/2026-11-14/
CATEGORIES:Connect & Engage,Healing,Men
ATTACH;FMTTYPE=image/jpeg:https://cedarlane.org/wp-content/uploads/2025/05/2017cedarlane-3709.jpg
END:VEVENT
BEGIN:VEVENT
DTSTART;TZID=America/New_York:20261128T083000
DTEND;TZID=America/New_York:20261128T103000
DTSTAMP:20260425T100707
CREATED:20250709T163222Z
LAST-MODIFIED:20251101T214306Z
UID:10015375-1795854600-1795861800@cedarlane.org
SUMMARY:Men's Group (in person)
DESCRIPTION:The Men’s Group meeting twice a month on the 2nd and 4th Saturday mornings alternating online (2nd Saturday) and in-person (4th Saturday).
URL:https://cedarlane.org/calendar/mens-group/2026-11-28/
LOCATION:MD
CATEGORIES:Connect & Engage,Healing,Men
ATTACH;FMTTYPE=image/jpeg:https://cedarlane.org/wp-content/uploads/2025/05/2017cedarlane-3709.jpg
END:VEVENT
BEGIN:VEVENT
DTSTART;TZID=America/New_York:20261212T083000
DTEND;TZID=America/New_York:20261212T103000
DTSTAMP:20260425T100707
CREATED:20250709T163048Z
LAST-MODIFIED:20251101T214306Z
UID:10015314-1797064200-1797071400@cedarlane.org
SUMMARY:Men's Group (online)
DESCRIPTION:The Men’s Group meeting twice a month on the 2nd and 4th Saturday mornings alternating online (2nd Saturday) and in-person (4th Saturday).
URL:https://cedarlane.org/calendar/mens-group-2nd/2026-12-12/
LOCATION:https://cedarlane.org/calendar/mens-group-2nd/2026-12-12/
CATEGORIES:Connect & Engage,Healing,Men
ATTACH;FMTTYPE=image/jpeg:https://cedarlane.org/wp-content/uploads/2025/05/2017cedarlane-3709.jpg
END:VEVENT
BEGIN:VEVENT
DTSTART;TZID=America/New_York:20261226T083000
DTEND;TZID=America/New_York:20261226T103000
DTSTAMP:20260425T100707
CREATED:20250709T163222Z
LAST-MODIFIED:20251101T214306Z
UID:10015376-1798273800-1798281000@cedarlane.org
SUMMARY:Men's Group (in person)
DESCRIPTION:The Men’s Group meeting twice a month on the 2nd and 4th Saturday mornings alternating online (2nd Saturday) and in-person (4th Saturday).
URL:https://cedarlane.org/calendar/mens-group/2026-12-26/
LOCATION:MD
CATEGORIES:Connect & Engage,Healing,Men
ATTACH;FMTTYPE=image/jpeg:https://cedarlane.org/wp-content/uploads/2025/05/2017cedarlane-3709.jpg
END:VEVENT
BEGIN:VEVENT
DTSTART;TZID=America/New_York:20270109T083000
DTEND;TZID=America/New_York:20270109T103000
DTSTAMP:20260425T100707
CREATED:20250709T163048Z
LAST-MODIFIED:20251101T214306Z
UID:10015315-1799483400-1799490600@cedarlane.org
SUMMARY:Men's Group (online)
DESCRIPTION:The Men’s Group meeting twice a month on the 2nd and 4th Saturday mornings alternating online (2nd Saturday) and in-person (4th Saturday).
URL:https://cedarlane.org/calendar/mens-group-2nd/2027-01-09/
LOCATION:https://cedarlane.org/calendar/mens-group-2nd/2027-01-09/
CATEGORIES:Connect & Engage,Healing,Men
ATTACH;FMTTYPE=image/jpeg:https://cedarlane.org/wp-content/uploads/2025/05/2017cedarlane-3709.jpg
END:VEVENT
BEGIN:VEVENT
DTSTART;TZID=America/New_York:20270123T083000
DTEND;TZID=America/New_York:20270123T103000
DTSTAMP:20260425T100707
CREATED:20250709T163222Z
LAST-MODIFIED:20251101T214306Z
UID:10015377-1800693000-1800700200@cedarlane.org
SUMMARY:Men's Group (in person)
DESCRIPTION:The Men’s Group meeting twice a month on the 2nd and 4th Saturday mornings alternating online (2nd Saturday) and in-person (4th Saturday).
URL:https://cedarlane.org/calendar/mens-group/2027-01-23/
LOCATION:MD
CATEGORIES:Connect & Engage,Healing,Men
ATTACH;FMTTYPE=image/jpeg:https://cedarlane.org/wp-content/uploads/2025/05/2017cedarlane-3709.jpg
END:VEVENT
BEGIN:VEVENT
DTSTART;TZID=America/New_York:20270213T083000
DTEND;TZID=America/New_York:20270213T103000
DTSTAMP:20260425T100707
CREATED:20250709T163048Z
LAST-MODIFIED:20251101T214306Z
UID:10015316-1802507400-1802514600@cedarlane.org
SUMMARY:Men's Group (online)
DESCRIPTION:The Men’s Group meeting twice a month on the 2nd and 4th Saturday mornings alternating online (2nd Saturday) and in-person (4th Saturday).
URL:https://cedarlane.org/calendar/mens-group-2nd/2027-02-13/
LOCATION:https://cedarlane.org/calendar/mens-group-2nd/2027-02-13/
CATEGORIES:Connect & Engage,Healing,Men
ATTACH;FMTTYPE=image/jpeg:https://cedarlane.org/wp-content/uploads/2025/05/2017cedarlane-3709.jpg
END:VEVENT
BEGIN:VEVENT
DTSTART;TZID=America/New_York:20270227T083000
DTEND;TZID=America/New_York:20270227T103000
DTSTAMP:20260425T100707
CREATED:20250709T163222Z
LAST-MODIFIED:20251101T214306Z
UID:10015378-1803717000-1803724200@cedarlane.org
SUMMARY:Men's Group (in person)
DESCRIPTION:The Men’s Group meeting twice a month on the 2nd and 4th Saturday mornings alternating online (2nd Saturday) and in-person (4th Saturday).
URL:https://cedarlane.org/calendar/mens-group/2027-02-27/
LOCATION:MD
CATEGORIES:Connect & Engage,Healing,Men
ATTACH;FMTTYPE=image/jpeg:https://cedarlane.org/wp-content/uploads/2025/05/2017cedarlane-3709.jpg
END:VEVENT
BEGIN:VEVENT
DTSTART;TZID=America/New_York:20270313T083000
DTEND;TZID=America/New_York:20270313T103000
DTSTAMP:20260425T100707
CREATED:20250709T163048Z
LAST-MODIFIED:20251101T214306Z
UID:10015317-1804926600-1804933800@cedarlane.org
SUMMARY:Men's Group (online)
DESCRIPTION:The Men’s Group meeting twice a month on the 2nd and 4th Saturday mornings alternating online (2nd Saturday) and in-person (4th Saturday).
URL:https://cedarlane.org/calendar/mens-group-2nd/2027-03-13/
LOCATION:https://cedarlane.org/calendar/mens-group-2nd/2027-03-13/
CATEGORIES:Connect & Engage,Healing,Men
ATTACH;FMTTYPE=image/jpeg:https://cedarlane.org/wp-content/uploads/2025/05/2017cedarlane-3709.jpg
END:VEVENT
BEGIN:VEVENT
DTSTART;TZID=America/New_York:20270327T083000
DTEND;TZID=America/New_York:20270327T103000
DTSTAMP:20260425T100708
CREATED:20250709T163222Z
LAST-MODIFIED:20251101T214306Z
UID:10015379-1806136200-1806143400@cedarlane.org
SUMMARY:Men's Group (in person)
DESCRIPTION:The Men’s Group meeting twice a month on the 2nd and 4th Saturday mornings alternating online (2nd Saturday) and in-person (4th Saturday).
URL:https://cedarlane.org/calendar/mens-group/2027-03-27/
LOCATION:MD
CATEGORIES:Connect & Engage,Healing,Men
ATTACH;FMTTYPE=image/jpeg:https://cedarlane.org/wp-content/uploads/2025/05/2017cedarlane-3709.jpg
END:VEVENT
BEGIN:VEVENT
DTSTART;TZID=America/New_York:20270410T083000
DTEND;TZID=America/New_York:20270410T103000
DTSTAMP:20260425T100708
CREATED:20250709T163048Z
LAST-MODIFIED:20251101T214306Z
UID:10015318-1807345800-1807353000@cedarlane.org
SUMMARY:Men's Group (online)
DESCRIPTION:The Men’s Group meeting twice a month on the 2nd and 4th Saturday mornings alternating online (2nd Saturday) and in-person (4th Saturday).
URL:https://cedarlane.org/calendar/mens-group-2nd/2027-04-10/
LOCATION:https://cedarlane.org/calendar/mens-group-2nd/2027-04-10/
CATEGORIES:Connect & Engage,Healing,Men
ATTACH;FMTTYPE=image/jpeg:https://cedarlane.org/wp-content/uploads/2025/05/2017cedarlane-3709.jpg
END:VEVENT
BEGIN:VEVENT
DTSTART;TZID=America/New_York:20270424T083000
DTEND;TZID=America/New_York:20270424T103000
DTSTAMP:20260425T100708
CREATED:20250709T163222Z
LAST-MODIFIED:20251101T214306Z
UID:10015380-1808555400-1808562600@cedarlane.org
SUMMARY:Men's Group (in person)
DESCRIPTION:The Men’s Group meeting twice a month on the 2nd and 4th Saturday mornings alternating online (2nd Saturday) and in-person (4th Saturday).
URL:https://cedarlane.org/calendar/mens-group/2027-04-24/
LOCATION:MD
CATEGORIES:Connect & Engage,Healing,Men
ATTACH;FMTTYPE=image/jpeg:https://cedarlane.org/wp-content/uploads/2025/05/2017cedarlane-3709.jpg
END:VEVENT
BEGIN:VEVENT
DTSTART;TZID=America/New_York:20270508T083000
DTEND;TZID=America/New_York:20270508T103000
DTSTAMP:20260425T100708
CREATED:20250709T163048Z
LAST-MODIFIED:20251101T214306Z
UID:10015319-1809765000-1809772200@cedarlane.org
SUMMARY:Men's Group (online)
DESCRIPTION:The Men’s Group meeting twice a month on the 2nd and 4th Saturday mornings alternating online (2nd Saturday) and in-person (4th Saturday).
URL:https://cedarlane.org/calendar/mens-group-2nd/2027-05-08/
LOCATION:https://cedarlane.org/calendar/mens-group-2nd/2027-05-08/
CATEGORIES:Connect & Engage,Healing,Men
ATTACH;FMTTYPE=image/jpeg:https://cedarlane.org/wp-content/uploads/2025/05/2017cedarlane-3709.jpg
END:VEVENT
BEGIN:VEVENT
DTSTART;TZID=America/New_York:20270522T083000
DTEND;TZID=America/New_York:20270522T103000
DTSTAMP:20260425T100708
CREATED:20250709T163222Z
LAST-MODIFIED:20251101T214306Z
UID:10015381-1810974600-1810981800@cedarlane.org
SUMMARY:Men's Group (in person)
DESCRIPTION:The Men’s Group meeting twice a month on the 2nd and 4th Saturday mornings alternating online (2nd Saturday) and in-person (4th Saturday).
URL:https://cedarlane.org/calendar/mens-group/2027-05-22/
LOCATION:MD
CATEGORIES:Connect & Engage,Healing,Men
ATTACH;FMTTYPE=image/jpeg:https://cedarlane.org/wp-content/uploads/2025/05/2017cedarlane-3709.jpg
END:VEVENT
BEGIN:VEVENT
DTSTART;TZID=America/New_York:20270612T083000
DTEND;TZID=America/New_York:20270612T103000
DTSTAMP:20260425T100708
CREATED:20250709T163048Z
LAST-MODIFIED:20251101T214306Z
UID:10015320-1812789000-1812796200@cedarlane.org
SUMMARY:Men's Group (online)
DESCRIPTION:The Men’s Group meeting twice a month on the 2nd and 4th Saturday mornings alternating online (2nd Saturday) and in-person (4th Saturday).
URL:https://cedarlane.org/calendar/mens-group-2nd/2027-06-12/
LOCATION:https://cedarlane.org/calendar/mens-group-2nd/2027-06-12/
CATEGORIES:Connect & Engage,Healing,Men
ATTACH;FMTTYPE=image/jpeg:https://cedarlane.org/wp-content/uploads/2025/05/2017cedarlane-3709.jpg
END:VEVENT
BEGIN:VEVENT
DTSTART;TZID=America/New_York:20270626T083000
DTEND;TZID=America/New_York:20270626T103000
DTSTAMP:20260425T100708
CREATED:20250709T163222Z
LAST-MODIFIED:20251101T214306Z
UID:10015382-1813998600-1814005800@cedarlane.org
SUMMARY:Men's Group (in person)
DESCRIPTION:The Men’s Group meeting twice a month on the 2nd and 4th Saturday mornings alternating online (2nd Saturday) and in-person (4th Saturday).
URL:https://cedarlane.org/calendar/mens-group/2027-06-26/
LOCATION:MD
CATEGORIES:Connect & Engage,Healing,Men
ATTACH;FMTTYPE=image/jpeg:https://cedarlane.org/wp-content/uploads/2025/05/2017cedarlane-3709.jpg
END:VEVENT
BEGIN:VEVENT
DTSTART;TZID=America/New_York:20270710T083000
DTEND;TZID=America/New_York:20270710T103000
DTSTAMP:20260425T100708
CREATED:20250709T163048Z
LAST-MODIFIED:20251101T214306Z
UID:10015321-1815208200-1815215400@cedarlane.org
SUMMARY:Men's Group (online)
DESCRIPTION:The Men’s Group meeting twice a month on the 2nd and 4th Saturday mornings alternating online (2nd Saturday) and in-person (4th Saturday).
URL:https://cedarlane.org/calendar/mens-group-2nd/2027-07-10/
LOCATION:https://cedarlane.org/calendar/mens-group-2nd/2027-07-10/
CATEGORIES:Connect & Engage,Healing,Men
ATTACH;FMTTYPE=image/jpeg:https://cedarlane.org/wp-content/uploads/2025/05/2017cedarlane-3709.jpg
END:VEVENT
BEGIN:VEVENT
DTSTART;TZID=America/New_York:20270724T083000
DTEND;TZID=America/New_York:20270724T103000
DTSTAMP:20260425T100708
CREATED:20250709T163222Z
LAST-MODIFIED:20251101T214306Z
UID:10015383-1816417800-1816425000@cedarlane.org
SUMMARY:Men's Group (in person)
DESCRIPTION:The Men’s Group meeting twice a month on the 2nd and 4th Saturday mornings alternating online (2nd Saturday) and in-person (4th Saturday).
URL:https://cedarlane.org/calendar/mens-group/2027-07-24/
LOCATION:MD
CATEGORIES:Connect & Engage,Healing,Men
ATTACH;FMTTYPE=image/jpeg:https://cedarlane.org/wp-content/uploads/2025/05/2017cedarlane-3709.jpg
END:VEVENT
BEGIN:VEVENT
DTSTART;TZID=America/New_York:20270814T083000
DTEND;TZID=America/New_York:20270814T103000
DTSTAMP:20260425T100708
CREATED:20250709T163048Z
LAST-MODIFIED:20251101T214306Z
UID:10015322-1818232200-1818239400@cedarlane.org
SUMMARY:Men's Group (online)
DESCRIPTION:The Men’s Group meeting twice a month on the 2nd and 4th Saturday mornings alternating online (2nd Saturday) and in-person (4th Saturday).
URL:https://cedarlane.org/calendar/mens-group-2nd/2027-08-14/
LOCATION:https://cedarlane.org/calendar/mens-group-2nd/2027-08-14/
CATEGORIES:Connect & Engage,Healing,Men
ATTACH;FMTTYPE=image/jpeg:https://cedarlane.org/wp-content/uploads/2025/05/2017cedarlane-3709.jpg
END:VEVENT
BEGIN:VEVENT
DTSTART;TZID=America/New_York:20270828T083000
DTEND;TZID=America/New_York:20270828T103000
DTSTAMP:20260425T100708
CREATED:20250709T163222Z
LAST-MODIFIED:20251101T214306Z
UID:10015384-1819441800-1819449000@cedarlane.org
SUMMARY:Men's Group (in person)
DESCRIPTION:The Men’s Group meeting twice a month on the 2nd and 4th Saturday mornings alternating online (2nd Saturday) and in-person (4th Saturday).
URL:https://cedarlane.org/calendar/mens-group/2027-08-28/
LOCATION:MD
CATEGORIES:Connect & Engage,Healing,Men
ATTACH;FMTTYPE=image/jpeg:https://cedarlane.org/wp-content/uploads/2025/05/2017cedarlane-3709.jpg
END:VEVENT
BEGIN:VEVENT
DTSTART;TZID=America/New_York:20270911T083000
DTEND;TZID=America/New_York:20270911T103000
DTSTAMP:20260425T100708
CREATED:20250709T163048Z
LAST-MODIFIED:20251101T214306Z
UID:10015323-1820651400-1820658600@cedarlane.org
SUMMARY:Men's Group (online)
DESCRIPTION:The Men’s Group meeting twice a month on the 2nd and 4th Saturday mornings alternating online (2nd Saturday) and in-person (4th Saturday).
URL:https://cedarlane.org/calendar/mens-group-2nd/2027-09-11/
LOCATION:https://cedarlane.org/calendar/mens-group-2nd/2027-09-11/
CATEGORIES:Connect & Engage,Healing,Men
ATTACH;FMTTYPE=image/jpeg:https://cedarlane.org/wp-content/uploads/2025/05/2017cedarlane-3709.jpg
END:VEVENT
BEGIN:VEVENT
DTSTART;TZID=America/New_York:20270925T083000
DTEND;TZID=America/New_York:20270925T103000
DTSTAMP:20260425T100708
CREATED:20250709T163222Z
LAST-MODIFIED:20251101T214306Z
UID:10015385-1821861000-1821868200@cedarlane.org
SUMMARY:Men's Group (in person)
DESCRIPTION:The Men’s Group meeting twice a month on the 2nd and 4th Saturday mornings alternating online (2nd Saturday) and in-person (4th Saturday).
URL:https://cedarlane.org/calendar/mens-group/2027-09-25/
LOCATION:MD
CATEGORIES:Connect & Engage,Healing,Men
ATTACH;FMTTYPE=image/jpeg:https://cedarlane.org/wp-content/uploads/2025/05/2017cedarlane-3709.jpg
END:VEVENT
BEGIN:VEVENT
DTSTART;TZID=America/New_York:20271009T083000
DTEND;TZID=America/New_York:20271009T103000
DTSTAMP:20260425T100708
CREATED:20250709T163048Z
LAST-MODIFIED:20251101T214306Z
UID:10015324-1823070600-1823077800@cedarlane.org
SUMMARY:Men's Group (online)
DESCRIPTION:The Men’s Group meeting twice a month on the 2nd and 4th Saturday mornings alternating online (2nd Saturday) and in-person (4th Saturday).
URL:https://cedarlane.org/calendar/mens-group-2nd/2027-10-09/
LOCATION:https://cedarlane.org/calendar/mens-group-2nd/2027-10-09/
CATEGORIES:Connect & Engage,Healing,Men
ATTACH;FMTTYPE=image/jpeg:https://cedarlane.org/wp-content/uploads/2025/05/2017cedarlane-3709.jpg
END:VEVENT
BEGIN:VEVENT
DTSTART;TZID=America/New_York:20271023T083000
DTEND;TZID=America/New_York:20271023T103000
DTSTAMP:20260425T100708
CREATED:20250709T163222Z
LAST-MODIFIED:20251101T214306Z
UID:10015386-1824280200-1824287400@cedarlane.org
SUMMARY:Men's Group (in person)
DESCRIPTION:The Men’s Group meeting twice a month on the 2nd and 4th Saturday mornings alternating online (2nd Saturday) and in-person (4th Saturday).
URL:https://cedarlane.org/calendar/mens-group/2027-10-23/
LOCATION:MD
CATEGORIES:Connect & Engage,Healing,Men
ATTACH;FMTTYPE=image/jpeg:https://cedarlane.org/wp-content/uploads/2025/05/2017cedarlane-3709.jpg
END:VEVENT
BEGIN:VEVENT
DTSTART;TZID=America/New_York:20271113T083000
DTEND;TZID=America/New_York:20271113T103000
DTSTAMP:20260425T100708
CREATED:20250709T163048Z
LAST-MODIFIED:20251101T214306Z
UID:10015325-1826094600-1826101800@cedarlane.org
SUMMARY:Men's Group (online)
DESCRIPTION:The Men’s Group meeting twice a month on the 2nd and 4th Saturday mornings alternating online (2nd Saturday) and in-person (4th Saturday).
URL:https://cedarlane.org/calendar/mens-group-2nd/2027-11-13/
LOCATION:https://cedarlane.org/calendar/mens-group-2nd/2027-11-13/
CATEGORIES:Connect & Engage,Healing,Men
ATTACH;FMTTYPE=image/jpeg:https://cedarlane.org/wp-content/uploads/2025/05/2017cedarlane-3709.jpg
END:VEVENT
BEGIN:VEVENT
DTSTART;TZID=America/New_York:20271127T083000
DTEND;TZID=America/New_York:20271127T103000
DTSTAMP:20260425T100708
CREATED:20250709T163222Z
LAST-MODIFIED:20251101T214306Z
UID:10015387-1827304200-1827311400@cedarlane.org
SUMMARY:Men's Group (in person)
DESCRIPTION:The Men’s Group meeting twice a month on the 2nd and 4th Saturday mornings alternating online (2nd Saturday) and in-person (4th Saturday).
URL:https://cedarlane.org/calendar/mens-group/2027-11-27/
LOCATION:MD
CATEGORIES:Connect & Engage,Healing,Men
ATTACH;FMTTYPE=image/jpeg:https://cedarlane.org/wp-content/uploads/2025/05/2017cedarlane-3709.jpg
END:VEVENT
BEGIN:VEVENT
DTSTART;TZID=America/New_York:20271211T083000
DTEND;TZID=America/New_York:20271211T103000
DTSTAMP:20260425T100708
CREATED:20250709T163048Z
LAST-MODIFIED:20251101T214306Z
UID:10015326-1828513800-1828521000@cedarlane.org
SUMMARY:Men's Group (online)
DESCRIPTION:The Men’s Group meeting twice a month on the 2nd and 4th Saturday mornings alternating online (2nd Saturday) and in-person (4th Saturday).
URL:https://cedarlane.org/calendar/mens-group-2nd/2027-12-11/
LOCATION:https://cedarlane.org/calendar/mens-group-2nd/2027-12-11/
CATEGORIES:Connect & Engage,Healing,Men
ATTACH;FMTTYPE=image/jpeg:https://cedarlane.org/wp-content/uploads/2025/05/2017cedarlane-3709.jpg
END:VEVENT
BEGIN:VEVENT
DTSTART;TZID=America/New_York:20271225T083000
DTEND;TZID=America/New_York:20271225T103000
DTSTAMP:20260425T100708
CREATED:20250709T163222Z
LAST-MODIFIED:20251101T214306Z
UID:10015388-1829723400-1829730600@cedarlane.org
SUMMARY:Men's Group (in person)
DESCRIPTION:The Men’s Group meeting twice a month on the 2nd and 4th Saturday mornings alternating online (2nd Saturday) and in-person (4th Saturday).
URL:https://cedarlane.org/calendar/mens-group/2027-12-25/
LOCATION:MD
CATEGORIES:Connect & Engage,Healing,Men
ATTACH;FMTTYPE=image/jpeg:https://cedarlane.org/wp-content/uploads/2025/05/2017cedarlane-3709.jpg
END:VEVENT
BEGIN:VEVENT
DTSTART;TZID=America/New_York:20280108T083000
DTEND;TZID=America/New_York:20280108T103000
DTSTAMP:20260425T100708
CREATED:20250709T163048Z
LAST-MODIFIED:20251101T214306Z
UID:10015327-1830933000-1830940200@cedarlane.org
SUMMARY:Men's Group (online)
DESCRIPTION:The Men’s Group meeting twice a month on the 2nd and 4th Saturday mornings alternating online (2nd Saturday) and in-person (4th Saturday).
URL:https://cedarlane.org/calendar/mens-group-2nd/2028-01-08/
LOCATION:https://cedarlane.org/calendar/mens-group-2nd/2028-01-08/
CATEGORIES:Connect & Engage,Healing,Men
ATTACH;FMTTYPE=image/jpeg:https://cedarlane.org/wp-content/uploads/2025/05/2017cedarlane-3709.jpg
END:VEVENT
END:VCALENDAR