BEGIN:VCALENDAR
VERSION:2.0
PRODID:-//Cedar Lane Unitarian Universalist Congregation - ECPv6.15.20//NONSGML v1.0//EN
CALSCALE:GREGORIAN
METHOD:PUBLISH
X-ORIGINAL-URL:https://cedarlane.org
X-WR-CALDESC:Events for Cedar Lane Unitarian Universalist Congregation
REFRESH-INTERVAL;VALUE=DURATION:PT1H
X-Robots-Tag:noindex
X-PUBLISHED-TTL:PT1H
BEGIN:VTIMEZONE
TZID:America/New_York
BEGIN:DAYLIGHT
TZOFFSETFROM:-0500
TZOFFSETTO:-0400
TZNAME:EDT
DTSTART:20260308T070000
END:DAYLIGHT
BEGIN:STANDARD
TZOFFSETFROM:-0400
TZOFFSETTO:-0500
TZNAME:EST
DTSTART:20261101T060000
END:STANDARD
BEGIN:DAYLIGHT
TZOFFSETFROM:-0500
TZOFFSETTO:-0400
TZNAME:EDT
DTSTART:20270314T070000
END:DAYLIGHT
BEGIN:STANDARD
TZOFFSETFROM:-0400
TZOFFSETTO:-0500
TZNAME:EST
DTSTART:20271107T060000
END:STANDARD
BEGIN:DAYLIGHT
TZOFFSETFROM:-0500
TZOFFSETTO:-0400
TZNAME:EDT
DTSTART:20280312T070000
END:DAYLIGHT
BEGIN:STANDARD
TZOFFSETFROM:-0400
TZOFFSETTO:-0500
TZNAME:EST
DTSTART:20281105T060000
END:STANDARD
BEGIN:DAYLIGHT
TZOFFSETFROM:-0500
TZOFFSETTO:-0400
TZNAME:EDT
DTSTART:20290311T070000
END:DAYLIGHT
BEGIN:STANDARD
TZOFFSETFROM:-0400
TZOFFSETTO:-0500
TZNAME:EST
DTSTART:20291104T060000
END:STANDARD
END:VTIMEZONE
BEGIN:VEVENT
DTSTART;TZID=America/New_York:20270814T083000
DTEND;TZID=America/New_York:20270814T103000
DTSTAMP:20260425T115707
CREATED:20250709T163048Z
LAST-MODIFIED:20251101T214306Z
UID:10015322-1818232200-1818239400@cedarlane.org
SUMMARY:Men's Group (online)
DESCRIPTION:The Men’s Group meeting twice a month on the 2nd and 4th Saturday mornings alternating online (2nd Saturday) and in-person (4th Saturday).
URL:https://cedarlane.org/calendar/mens-group-2nd/2027-08-14/
CATEGORIES:Connect & Engage,Healing,Men
ATTACH;FMTTYPE=image/jpeg:https://cedarlane.org/wp-content/uploads/2025/05/2017cedarlane-3709.jpg
LOCATION:https://cedarlane.org/calendar/mens-group-2nd/2027-08-14/
END:VEVENT
BEGIN:VEVENT
DTSTART;TZID=America/New_York:20270828T083000
DTEND;TZID=America/New_York:20270828T103000
DTSTAMP:20260425T115707
CREATED:20250709T163222Z
LAST-MODIFIED:20251101T214306Z
UID:10015384-1819441800-1819449000@cedarlane.org
SUMMARY:Men's Group (in person)
DESCRIPTION:The Men’s Group meeting twice a month on the 2nd and 4th Saturday mornings alternating online (2nd Saturday) and in-person (4th Saturday).
URL:https://cedarlane.org/calendar/mens-group/2027-08-28/
CATEGORIES:Connect & Engage,Healing,Men
ATTACH;FMTTYPE=image/jpeg:https://cedarlane.org/wp-content/uploads/2025/05/2017cedarlane-3709.jpg
END:VEVENT
BEGIN:VEVENT
DTSTART;TZID=America/New_York:20270911T083000
DTEND;TZID=America/New_York:20270911T103000
DTSTAMP:20260425T115707
CREATED:20250709T163048Z
LAST-MODIFIED:20251101T214306Z
UID:10015323-1820651400-1820658600@cedarlane.org
SUMMARY:Men's Group (online)
DESCRIPTION:The Men’s Group meeting twice a month on the 2nd and 4th Saturday mornings alternating online (2nd Saturday) and in-person (4th Saturday).
URL:https://cedarlane.org/calendar/mens-group-2nd/2027-09-11/
CATEGORIES:Connect & Engage,Healing,Men
ATTACH;FMTTYPE=image/jpeg:https://cedarlane.org/wp-content/uploads/2025/05/2017cedarlane-3709.jpg
LOCATION:https://cedarlane.org/calendar/mens-group-2nd/2027-09-11/
END:VEVENT
BEGIN:VEVENT
DTSTART;TZID=America/New_York:20270925T083000
DTEND;TZID=America/New_York:20270925T103000
DTSTAMP:20260425T115707
CREATED:20250709T163222Z
LAST-MODIFIED:20251101T214306Z
UID:10015385-1821861000-1821868200@cedarlane.org
SUMMARY:Men's Group (in person)
DESCRIPTION:The Men’s Group meeting twice a month on the 2nd and 4th Saturday mornings alternating online (2nd Saturday) and in-person (4th Saturday).
URL:https://cedarlane.org/calendar/mens-group/2027-09-25/
CATEGORIES:Connect & Engage,Healing,Men
ATTACH;FMTTYPE=image/jpeg:https://cedarlane.org/wp-content/uploads/2025/05/2017cedarlane-3709.jpg
END:VEVENT
BEGIN:VEVENT
DTSTART;TZID=America/New_York:20271009T083000
DTEND;TZID=America/New_York:20271009T103000
DTSTAMP:20260425T115707
CREATED:20250709T163048Z
LAST-MODIFIED:20251101T214306Z
UID:10015324-1823070600-1823077800@cedarlane.org
SUMMARY:Men's Group (online)
DESCRIPTION:The Men’s Group meeting twice a month on the 2nd and 4th Saturday mornings alternating online (2nd Saturday) and in-person (4th Saturday).
URL:https://cedarlane.org/calendar/mens-group-2nd/2027-10-09/
CATEGORIES:Connect & Engage,Healing,Men
ATTACH;FMTTYPE=image/jpeg:https://cedarlane.org/wp-content/uploads/2025/05/2017cedarlane-3709.jpg
LOCATION:https://cedarlane.org/calendar/mens-group-2nd/2027-10-09/
END:VEVENT
BEGIN:VEVENT
DTSTART;TZID=America/New_York:20271023T083000
DTEND;TZID=America/New_York:20271023T103000
DTSTAMP:20260425T115707
CREATED:20250709T163222Z
LAST-MODIFIED:20251101T214306Z
UID:10015386-1824280200-1824287400@cedarlane.org
SUMMARY:Men's Group (in person)
DESCRIPTION:The Men’s Group meeting twice a month on the 2nd and 4th Saturday mornings alternating online (2nd Saturday) and in-person (4th Saturday).
URL:https://cedarlane.org/calendar/mens-group/2027-10-23/
CATEGORIES:Connect & Engage,Healing,Men
ATTACH;FMTTYPE=image/jpeg:https://cedarlane.org/wp-content/uploads/2025/05/2017cedarlane-3709.jpg
END:VEVENT
BEGIN:VEVENT
DTSTART;TZID=America/New_York:20271113T083000
DTEND;TZID=America/New_York:20271113T103000
DTSTAMP:20260425T115707
CREATED:20250709T163048Z
LAST-MODIFIED:20251101T214306Z
UID:10015325-1826094600-1826101800@cedarlane.org
SUMMARY:Men's Group (online)
DESCRIPTION:The Men’s Group meeting twice a month on the 2nd and 4th Saturday mornings alternating online (2nd Saturday) and in-person (4th Saturday).
URL:https://cedarlane.org/calendar/mens-group-2nd/2027-11-13/
CATEGORIES:Connect & Engage,Healing,Men
ATTACH;FMTTYPE=image/jpeg:https://cedarlane.org/wp-content/uploads/2025/05/2017cedarlane-3709.jpg
LOCATION:https://cedarlane.org/calendar/mens-group-2nd/2027-11-13/
END:VEVENT
BEGIN:VEVENT
DTSTART;TZID=America/New_York:20271127T083000
DTEND;TZID=America/New_York:20271127T103000
DTSTAMP:20260425T115707
CREATED:20250709T163222Z
LAST-MODIFIED:20251101T214306Z
UID:10015387-1827304200-1827311400@cedarlane.org
SUMMARY:Men's Group (in person)
DESCRIPTION:The Men’s Group meeting twice a month on the 2nd and 4th Saturday mornings alternating online (2nd Saturday) and in-person (4th Saturday).
URL:https://cedarlane.org/calendar/mens-group/2027-11-27/
CATEGORIES:Connect & Engage,Healing,Men
ATTACH;FMTTYPE=image/jpeg:https://cedarlane.org/wp-content/uploads/2025/05/2017cedarlane-3709.jpg
END:VEVENT
BEGIN:VEVENT
DTSTART;TZID=America/New_York:20271211T083000
DTEND;TZID=America/New_York:20271211T103000
DTSTAMP:20260425T115707
CREATED:20250709T163048Z
LAST-MODIFIED:20251101T214306Z
UID:10015326-1828513800-1828521000@cedarlane.org
SUMMARY:Men's Group (online)
DESCRIPTION:The Men’s Group meeting twice a month on the 2nd and 4th Saturday mornings alternating online (2nd Saturday) and in-person (4th Saturday).
URL:https://cedarlane.org/calendar/mens-group-2nd/2027-12-11/
CATEGORIES:Connect & Engage,Healing,Men
ATTACH;FMTTYPE=image/jpeg:https://cedarlane.org/wp-content/uploads/2025/05/2017cedarlane-3709.jpg
LOCATION:https://cedarlane.org/calendar/mens-group-2nd/2027-12-11/
END:VEVENT
BEGIN:VEVENT
DTSTART;TZID=America/New_York:20271225T083000
DTEND;TZID=America/New_York:20271225T103000
DTSTAMP:20260425T115707
CREATED:20250709T163222Z
LAST-MODIFIED:20251101T214306Z
UID:10015388-1829723400-1829730600@cedarlane.org
SUMMARY:Men's Group (in person)
DESCRIPTION:The Men’s Group meeting twice a month on the 2nd and 4th Saturday mornings alternating online (2nd Saturday) and in-person (4th Saturday).
URL:https://cedarlane.org/calendar/mens-group/2027-12-25/
CATEGORIES:Connect & Engage,Healing,Men
ATTACH;FMTTYPE=image/jpeg:https://cedarlane.org/wp-content/uploads/2025/05/2017cedarlane-3709.jpg
END:VEVENT
BEGIN:VEVENT
DTSTART;TZID=America/New_York:20280108T083000
DTEND;TZID=America/New_York:20280108T103000
DTSTAMP:20260425T115707
CREATED:20250709T163048Z
LAST-MODIFIED:20251101T214306Z
UID:10015327-1830933000-1830940200@cedarlane.org
SUMMARY:Men's Group (online)
DESCRIPTION:The Men’s Group meeting twice a month on the 2nd and 4th Saturday mornings alternating online (2nd Saturday) and in-person (4th Saturday).
URL:https://cedarlane.org/calendar/mens-group-2nd/2028-01-08/
CATEGORIES:Connect & Engage,Healing,Men
ATTACH;FMTTYPE=image/jpeg:https://cedarlane.org/wp-content/uploads/2025/05/2017cedarlane-3709.jpg
LOCATION:https://cedarlane.org/calendar/mens-group-2nd/2028-01-08/
END:VEVENT
BEGIN:VEVENT
DTSTART;TZID=America/New_York:20280122T083000
DTEND;TZID=America/New_York:20280122T103000
DTSTAMP:20260425T115707
CREATED:20250709T163222Z
LAST-MODIFIED:20251101T214306Z
UID:10015389-1832142600-1832149800@cedarlane.org
SUMMARY:Men's Group (in person)
DESCRIPTION:The Men’s Group meeting twice a month on the 2nd and 4th Saturday mornings alternating online (2nd Saturday) and in-person (4th Saturday).
URL:https://cedarlane.org/calendar/mens-group/2028-01-22/
CATEGORIES:Connect & Engage,Healing,Men
ATTACH;FMTTYPE=image/jpeg:https://cedarlane.org/wp-content/uploads/2025/05/2017cedarlane-3709.jpg
END:VEVENT
BEGIN:VEVENT
DTSTART;TZID=America/New_York:20280212T083000
DTEND;TZID=America/New_York:20280212T103000
DTSTAMP:20260425T115707
CREATED:20250709T163048Z
LAST-MODIFIED:20251101T214306Z
UID:10015328-1833957000-1833964200@cedarlane.org
SUMMARY:Men's Group (online)
DESCRIPTION:The Men’s Group meeting twice a month on the 2nd and 4th Saturday mornings alternating online (2nd Saturday) and in-person (4th Saturday).
URL:https://cedarlane.org/calendar/mens-group-2nd/2028-02-12/
CATEGORIES:Connect & Engage,Healing,Men
ATTACH;FMTTYPE=image/jpeg:https://cedarlane.org/wp-content/uploads/2025/05/2017cedarlane-3709.jpg
LOCATION:https://cedarlane.org/calendar/mens-group-2nd/2028-02-12/
END:VEVENT
BEGIN:VEVENT
DTSTART;TZID=America/New_York:20280226T083000
DTEND;TZID=America/New_York:20280226T103000
DTSTAMP:20260425T115707
CREATED:20250709T163222Z
LAST-MODIFIED:20251101T214306Z
UID:10015390-1835166600-1835173800@cedarlane.org
SUMMARY:Men's Group (in person)
DESCRIPTION:The Men’s Group meeting twice a month on the 2nd and 4th Saturday mornings alternating online (2nd Saturday) and in-person (4th Saturday).
URL:https://cedarlane.org/calendar/mens-group/2028-02-26/
CATEGORIES:Connect & Engage,Healing,Men
ATTACH;FMTTYPE=image/jpeg:https://cedarlane.org/wp-content/uploads/2025/05/2017cedarlane-3709.jpg
END:VEVENT
BEGIN:VEVENT
DTSTART;TZID=America/New_York:20280311T083000
DTEND;TZID=America/New_York:20280311T103000
DTSTAMP:20260425T115707
CREATED:20250709T163048Z
LAST-MODIFIED:20251101T214306Z
UID:10015329-1836376200-1836383400@cedarlane.org
SUMMARY:Men's Group (online)
DESCRIPTION:The Men’s Group meeting twice a month on the 2nd and 4th Saturday mornings alternating online (2nd Saturday) and in-person (4th Saturday).
URL:https://cedarlane.org/calendar/mens-group-2nd/2028-03-11/
CATEGORIES:Connect & Engage,Healing,Men
ATTACH;FMTTYPE=image/jpeg:https://cedarlane.org/wp-content/uploads/2025/05/2017cedarlane-3709.jpg
LOCATION:https://cedarlane.org/calendar/mens-group-2nd/2028-03-11/
END:VEVENT
BEGIN:VEVENT
DTSTART;TZID=America/New_York:20280325T083000
DTEND;TZID=America/New_York:20280325T103000
DTSTAMP:20260425T115707
CREATED:20250709T163222Z
LAST-MODIFIED:20251101T214306Z
UID:10015391-1837585800-1837593000@cedarlane.org
SUMMARY:Men's Group (in person)
DESCRIPTION:The Men’s Group meeting twice a month on the 2nd and 4th Saturday mornings alternating online (2nd Saturday) and in-person (4th Saturday).
URL:https://cedarlane.org/calendar/mens-group/2028-03-25/
CATEGORIES:Connect & Engage,Healing,Men
ATTACH;FMTTYPE=image/jpeg:https://cedarlane.org/wp-content/uploads/2025/05/2017cedarlane-3709.jpg
END:VEVENT
BEGIN:VEVENT
DTSTART;TZID=America/New_York:20280408T083000
DTEND;TZID=America/New_York:20280408T103000
DTSTAMP:20260425T115707
CREATED:20250709T163048Z
LAST-MODIFIED:20251101T214306Z
UID:10015330-1838795400-1838802600@cedarlane.org
SUMMARY:Men's Group (online)
DESCRIPTION:The Men’s Group meeting twice a month on the 2nd and 4th Saturday mornings alternating online (2nd Saturday) and in-person (4th Saturday).
URL:https://cedarlane.org/calendar/mens-group-2nd/2028-04-08/
CATEGORIES:Connect & Engage,Healing,Men
ATTACH;FMTTYPE=image/jpeg:https://cedarlane.org/wp-content/uploads/2025/05/2017cedarlane-3709.jpg
LOCATION:https://cedarlane.org/calendar/mens-group-2nd/2028-04-08/
END:VEVENT
BEGIN:VEVENT
DTSTART;TZID=America/New_York:20280422T083000
DTEND;TZID=America/New_York:20280422T103000
DTSTAMP:20260425T115707
CREATED:20250709T163222Z
LAST-MODIFIED:20251101T214306Z
UID:10015392-1840005000-1840012200@cedarlane.org
SUMMARY:Men's Group (in person)
DESCRIPTION:The Men’s Group meeting twice a month on the 2nd and 4th Saturday mornings alternating online (2nd Saturday) and in-person (4th Saturday).
URL:https://cedarlane.org/calendar/mens-group/2028-04-22/
CATEGORIES:Connect & Engage,Healing,Men
ATTACH;FMTTYPE=image/jpeg:https://cedarlane.org/wp-content/uploads/2025/05/2017cedarlane-3709.jpg
END:VEVENT
BEGIN:VEVENT
DTSTART;TZID=America/New_York:20280513T083000
DTEND;TZID=America/New_York:20280513T103000
DTSTAMP:20260425T115707
CREATED:20250709T163048Z
LAST-MODIFIED:20251101T214306Z
UID:10015331-1841819400-1841826600@cedarlane.org
SUMMARY:Men's Group (online)
DESCRIPTION:The Men’s Group meeting twice a month on the 2nd and 4th Saturday mornings alternating online (2nd Saturday) and in-person (4th Saturday).
URL:https://cedarlane.org/calendar/mens-group-2nd/2028-05-13/
CATEGORIES:Connect & Engage,Healing,Men
ATTACH;FMTTYPE=image/jpeg:https://cedarlane.org/wp-content/uploads/2025/05/2017cedarlane-3709.jpg
LOCATION:https://cedarlane.org/calendar/mens-group-2nd/2028-05-13/
END:VEVENT
BEGIN:VEVENT
DTSTART;TZID=America/New_York:20280527T083000
DTEND;TZID=America/New_York:20280527T103000
DTSTAMP:20260425T115707
CREATED:20250709T163222Z
LAST-MODIFIED:20251101T214306Z
UID:10015393-1843029000-1843036200@cedarlane.org
SUMMARY:Men's Group (in person)
DESCRIPTION:The Men’s Group meeting twice a month on the 2nd and 4th Saturday mornings alternating online (2nd Saturday) and in-person (4th Saturday).
URL:https://cedarlane.org/calendar/mens-group/2028-05-27/
CATEGORIES:Connect & Engage,Healing,Men
ATTACH;FMTTYPE=image/jpeg:https://cedarlane.org/wp-content/uploads/2025/05/2017cedarlane-3709.jpg
END:VEVENT
BEGIN:VEVENT
DTSTART;TZID=America/New_York:20280610T083000
DTEND;TZID=America/New_York:20280610T103000
DTSTAMP:20260425T115707
CREATED:20250709T163048Z
LAST-MODIFIED:20251101T214306Z
UID:10015332-1844238600-1844245800@cedarlane.org
SUMMARY:Men's Group (online)
DESCRIPTION:The Men’s Group meeting twice a month on the 2nd and 4th Saturday mornings alternating online (2nd Saturday) and in-person (4th Saturday).
URL:https://cedarlane.org/calendar/mens-group-2nd/2028-06-10/
CATEGORIES:Connect & Engage,Healing,Men
ATTACH;FMTTYPE=image/jpeg:https://cedarlane.org/wp-content/uploads/2025/05/2017cedarlane-3709.jpg
LOCATION:https://cedarlane.org/calendar/mens-group-2nd/2028-06-10/
END:VEVENT
BEGIN:VEVENT
DTSTART;TZID=America/New_York:20280624T083000
DTEND;TZID=America/New_York:20280624T103000
DTSTAMP:20260425T115707
CREATED:20250709T163222Z
LAST-MODIFIED:20251101T214306Z
UID:10015394-1845448200-1845455400@cedarlane.org
SUMMARY:Men's Group (in person)
DESCRIPTION:The Men’s Group meeting twice a month on the 2nd and 4th Saturday mornings alternating online (2nd Saturday) and in-person (4th Saturday).
URL:https://cedarlane.org/calendar/mens-group/2028-06-24/
CATEGORIES:Connect & Engage,Healing,Men
ATTACH;FMTTYPE=image/jpeg:https://cedarlane.org/wp-content/uploads/2025/05/2017cedarlane-3709.jpg
END:VEVENT
BEGIN:VEVENT
DTSTART;TZID=America/New_York:20280708T083000
DTEND;TZID=America/New_York:20280708T103000
DTSTAMP:20260425T115707
CREATED:20250709T163048Z
LAST-MODIFIED:20251101T214306Z
UID:10015333-1846657800-1846665000@cedarlane.org
SUMMARY:Men's Group (online)
DESCRIPTION:The Men’s Group meeting twice a month on the 2nd and 4th Saturday mornings alternating online (2nd Saturday) and in-person (4th Saturday).
URL:https://cedarlane.org/calendar/mens-group-2nd/2028-07-08/
CATEGORIES:Connect & Engage,Healing,Men
ATTACH;FMTTYPE=image/jpeg:https://cedarlane.org/wp-content/uploads/2025/05/2017cedarlane-3709.jpg
LOCATION:https://cedarlane.org/calendar/mens-group-2nd/2028-07-08/
END:VEVENT
BEGIN:VEVENT
DTSTART;TZID=America/New_York:20280722T083000
DTEND;TZID=America/New_York:20280722T103000
DTSTAMP:20260425T115707
CREATED:20250709T163222Z
LAST-MODIFIED:20251101T214306Z
UID:10015395-1847867400-1847874600@cedarlane.org
SUMMARY:Men's Group (in person)
DESCRIPTION:The Men’s Group meeting twice a month on the 2nd and 4th Saturday mornings alternating online (2nd Saturday) and in-person (4th Saturday).
URL:https://cedarlane.org/calendar/mens-group/2028-07-22/
CATEGORIES:Connect & Engage,Healing,Men
ATTACH;FMTTYPE=image/jpeg:https://cedarlane.org/wp-content/uploads/2025/05/2017cedarlane-3709.jpg
END:VEVENT
BEGIN:VEVENT
DTSTART;TZID=America/New_York:20280812T083000
DTEND;TZID=America/New_York:20280812T103000
DTSTAMP:20260425T115707
CREATED:20250709T163048Z
LAST-MODIFIED:20251101T214306Z
UID:10015334-1849681800-1849689000@cedarlane.org
SUMMARY:Men's Group (online)
DESCRIPTION:The Men’s Group meeting twice a month on the 2nd and 4th Saturday mornings alternating online (2nd Saturday) and in-person (4th Saturday).
URL:https://cedarlane.org/calendar/mens-group-2nd/2028-08-12/
CATEGORIES:Connect & Engage,Healing,Men
ATTACH;FMTTYPE=image/jpeg:https://cedarlane.org/wp-content/uploads/2025/05/2017cedarlane-3709.jpg
LOCATION:https://cedarlane.org/calendar/mens-group-2nd/2028-08-12/
END:VEVENT
BEGIN:VEVENT
DTSTART;TZID=America/New_York:20280826T083000
DTEND;TZID=America/New_York:20280826T103000
DTSTAMP:20260425T115707
CREATED:20250709T163222Z
LAST-MODIFIED:20251101T214306Z
UID:10015396-1850891400-1850898600@cedarlane.org
SUMMARY:Men's Group (in person)
DESCRIPTION:The Men’s Group meeting twice a month on the 2nd and 4th Saturday mornings alternating online (2nd Saturday) and in-person (4th Saturday).
URL:https://cedarlane.org/calendar/mens-group/2028-08-26/
CATEGORIES:Connect & Engage,Healing,Men
ATTACH;FMTTYPE=image/jpeg:https://cedarlane.org/wp-content/uploads/2025/05/2017cedarlane-3709.jpg
END:VEVENT
BEGIN:VEVENT
DTSTART;TZID=America/New_York:20280909T083000
DTEND;TZID=America/New_York:20280909T103000
DTSTAMP:20260425T115707
CREATED:20250709T163048Z
LAST-MODIFIED:20251101T214306Z
UID:10015335-1852101000-1852108200@cedarlane.org
SUMMARY:Men's Group (online)
DESCRIPTION:The Men’s Group meeting twice a month on the 2nd and 4th Saturday mornings alternating online (2nd Saturday) and in-person (4th Saturday).
URL:https://cedarlane.org/calendar/mens-group-2nd/2028-09-09/
CATEGORIES:Connect & Engage,Healing,Men
ATTACH;FMTTYPE=image/jpeg:https://cedarlane.org/wp-content/uploads/2025/05/2017cedarlane-3709.jpg
LOCATION:https://cedarlane.org/calendar/mens-group-2nd/2028-09-09/
END:VEVENT
BEGIN:VEVENT
DTSTART;TZID=America/New_York:20280923T083000
DTEND;TZID=America/New_York:20280923T103000
DTSTAMP:20260425T115707
CREATED:20250709T163222Z
LAST-MODIFIED:20251101T214306Z
UID:10015397-1853310600-1853317800@cedarlane.org
SUMMARY:Men's Group (in person)
DESCRIPTION:The Men’s Group meeting twice a month on the 2nd and 4th Saturday mornings alternating online (2nd Saturday) and in-person (4th Saturday).
URL:https://cedarlane.org/calendar/mens-group/2028-09-23/
CATEGORIES:Connect & Engage,Healing,Men
ATTACH;FMTTYPE=image/jpeg:https://cedarlane.org/wp-content/uploads/2025/05/2017cedarlane-3709.jpg
END:VEVENT
BEGIN:VEVENT
DTSTART;TZID=America/New_York:20281014T083000
DTEND;TZID=America/New_York:20281014T103000
DTSTAMP:20260425T115707
CREATED:20250709T163048Z
LAST-MODIFIED:20251101T214306Z
UID:10015336-1855125000-1855132200@cedarlane.org
SUMMARY:Men's Group (online)
DESCRIPTION:The Men’s Group meeting twice a month on the 2nd and 4th Saturday mornings alternating online (2nd Saturday) and in-person (4th Saturday).
URL:https://cedarlane.org/calendar/mens-group-2nd/2028-10-14/
CATEGORIES:Connect & Engage,Healing,Men
ATTACH;FMTTYPE=image/jpeg:https://cedarlane.org/wp-content/uploads/2025/05/2017cedarlane-3709.jpg
LOCATION:https://cedarlane.org/calendar/mens-group-2nd/2028-10-14/
END:VEVENT
BEGIN:VEVENT
DTSTART;TZID=America/New_York:20281028T083000
DTEND;TZID=America/New_York:20281028T103000
DTSTAMP:20260425T115707
CREATED:20250709T163222Z
LAST-MODIFIED:20251101T214306Z
UID:10015398-1856334600-1856341800@cedarlane.org
SUMMARY:Men's Group (in person)
DESCRIPTION:The Men’s Group meeting twice a month on the 2nd and 4th Saturday mornings alternating online (2nd Saturday) and in-person (4th Saturday).
URL:https://cedarlane.org/calendar/mens-group/2028-10-28/
CATEGORIES:Connect & Engage,Healing,Men
ATTACH;FMTTYPE=image/jpeg:https://cedarlane.org/wp-content/uploads/2025/05/2017cedarlane-3709.jpg
END:VEVENT
END:VCALENDAR