BEGIN:VCALENDAR
VERSION:2.0
PRODID:-//Cedar Lane Unitarian Universalist Congregation - ECPv6.15.20//NONSGML v1.0//EN
CALSCALE:GREGORIAN
METHOD:PUBLISH
X-WR-CALNAME:Cedar Lane Unitarian Universalist Congregation
X-ORIGINAL-URL:https://cedarlane.org
X-WR-CALDESC:Events for Cedar Lane Unitarian Universalist Congregation
REFRESH-INTERVAL;VALUE=DURATION:PT1H
X-Robots-Tag:noindex
X-PUBLISHED-TTL:PT1H
BEGIN:VTIMEZONE
TZID:America/New_York
BEGIN:DAYLIGHT
TZOFFSETFROM:-0500
TZOFFSETTO:-0400
TZNAME:EDT
DTSTART:20250309T070000
END:DAYLIGHT
BEGIN:STANDARD
TZOFFSETFROM:-0400
TZOFFSETTO:-0500
TZNAME:EST
DTSTART:20251102T060000
END:STANDARD
BEGIN:DAYLIGHT
TZOFFSETFROM:-0500
TZOFFSETTO:-0400
TZNAME:EDT
DTSTART:20260308T070000
END:DAYLIGHT
BEGIN:STANDARD
TZOFFSETFROM:-0400
TZOFFSETTO:-0500
TZNAME:EST
DTSTART:20261101T060000
END:STANDARD
BEGIN:DAYLIGHT
TZOFFSETFROM:-0500
TZOFFSETTO:-0400
TZNAME:EDT
DTSTART:20270314T070000
END:DAYLIGHT
BEGIN:STANDARD
TZOFFSETFROM:-0400
TZOFFSETTO:-0500
TZNAME:EST
DTSTART:20271107T060000
END:STANDARD
END:VTIMEZONE
BEGIN:VEVENT
DTSTART;TZID=America/New_York:20260407T173000
DTEND;TZID=America/New_York:20260407T190000
DTSTAMP:20260425T234851
CREATED:20250923T161713Z
LAST-MODIFIED:20251101T214303Z
UID:10014779-1775583000-1775588400@cedarlane.org
SUMMARY:French Choir of Washington children's choir rehearsal
DESCRIPTION:
URL:https://cedarlane.org/calendar/french-choir-of-washington-childrens-choir-rehearsal/2026-04-07/
CATEGORIES:External (rental)
ATTACH;FMTTYPE=image/webp:https://cedarlane.org/wp-content/uploads/2025/10/frenchchoir-youth.webp
END:VEVENT
BEGIN:VEVENT
DTSTART;TZID=America/New_York:20260407T200000
DTEND;TZID=America/New_York:20260407T220000
DTSTAMP:20260425T234851
CREATED:20250923T161807Z
LAST-MODIFIED:20251101T214303Z
UID:10014837-1775592000-1775599200@cedarlane.org
SUMMARY:French Choir of Washington adult choir rehearsal
DESCRIPTION:
URL:https://cedarlane.org/calendar/french-choir-of-washington-adult/2026-04-07/
CATEGORIES:External (rental)
ATTACH;FMTTYPE=image/webp:https://cedarlane.org/wp-content/uploads/2025/10/frenchchoir-adult.webp
END:VEVENT
BEGIN:VEVENT
DTSTART;TZID=America/New_York:20260414T173000
DTEND;TZID=America/New_York:20260414T190000
DTSTAMP:20260425T234851
CREATED:20250923T161713Z
LAST-MODIFIED:20251101T214303Z
UID:10014780-1776187800-1776193200@cedarlane.org
SUMMARY:French Choir of Washington children's choir rehearsal
DESCRIPTION:
URL:https://cedarlane.org/calendar/french-choir-of-washington-childrens-choir-rehearsal/2026-04-14/
CATEGORIES:External (rental)
ATTACH;FMTTYPE=image/webp:https://cedarlane.org/wp-content/uploads/2025/10/frenchchoir-youth.webp
END:VEVENT
BEGIN:VEVENT
DTSTART;TZID=America/New_York:20260414T200000
DTEND;TZID=America/New_York:20260414T220000
DTSTAMP:20260425T234851
CREATED:20250923T161807Z
LAST-MODIFIED:20251101T214303Z
UID:10014838-1776196800-1776204000@cedarlane.org
SUMMARY:French Choir of Washington adult choir rehearsal
DESCRIPTION:
URL:https://cedarlane.org/calendar/french-choir-of-washington-adult/2026-04-14/
CATEGORIES:External (rental)
ATTACH;FMTTYPE=image/webp:https://cedarlane.org/wp-content/uploads/2025/10/frenchchoir-adult.webp
END:VEVENT
BEGIN:VEVENT
DTSTART;TZID=America/New_York:20260421T173000
DTEND;TZID=America/New_York:20260421T190000
DTSTAMP:20260425T234851
CREATED:20250923T161713Z
LAST-MODIFIED:20251101T214303Z
UID:10014781-1776792600-1776798000@cedarlane.org
SUMMARY:French Choir of Washington children's choir rehearsal
DESCRIPTION:
URL:https://cedarlane.org/calendar/french-choir-of-washington-childrens-choir-rehearsal/2026-04-21/
CATEGORIES:External (rental)
ATTACH;FMTTYPE=image/webp:https://cedarlane.org/wp-content/uploads/2025/10/frenchchoir-youth.webp
END:VEVENT
BEGIN:VEVENT
DTSTART;TZID=America/New_York:20260421T200000
DTEND;TZID=America/New_York:20260421T220000
DTSTAMP:20260425T234851
CREATED:20250923T161807Z
LAST-MODIFIED:20251101T214303Z
UID:10014839-1776801600-1776808800@cedarlane.org
SUMMARY:French Choir of Washington adult choir rehearsal
DESCRIPTION:
URL:https://cedarlane.org/calendar/french-choir-of-washington-adult/2026-04-21/
CATEGORIES:External (rental)
ATTACH;FMTTYPE=image/webp:https://cedarlane.org/wp-content/uploads/2025/10/frenchchoir-adult.webp
END:VEVENT
BEGIN:VEVENT
DTSTART;TZID=America/New_York:20260424T090000
DTEND;TZID=America/New_York:20260424T113000
DTSTAMP:20260425T234851
CREATED:20250923T150016Z
LAST-MODIFIED:20251101T214303Z
UID:10014753-1777021200-1777030200@cedarlane.org
SUMMARY:Asian American Forum
DESCRIPTION:
URL:https://cedarlane.org/calendar/asian-american-forum-4/2026-04-24/
CATEGORIES:External (rental)
ATTACH;FMTTYPE=image/webp:https://cedarlane.org/wp-content/uploads/2025/10/Asian-Forum.webp
END:VEVENT
BEGIN:VEVENT
DTSTART;TZID=America/New_York:20260428T173000
DTEND;TZID=America/New_York:20260428T190000
DTSTAMP:20260425T234851
CREATED:20250923T161713Z
LAST-MODIFIED:20251101T214303Z
UID:10014782-1777397400-1777402800@cedarlane.org
SUMMARY:French Choir of Washington children's choir rehearsal
DESCRIPTION:
URL:https://cedarlane.org/calendar/french-choir-of-washington-childrens-choir-rehearsal/2026-04-28/
CATEGORIES:External (rental)
ATTACH;FMTTYPE=image/webp:https://cedarlane.org/wp-content/uploads/2025/10/frenchchoir-youth.webp
END:VEVENT
BEGIN:VEVENT
DTSTART;TZID=America/New_York:20260428T200000
DTEND;TZID=America/New_York:20260428T220000
DTSTAMP:20260425T234851
CREATED:20250923T161807Z
LAST-MODIFIED:20251101T214303Z
UID:10014840-1777406400-1777413600@cedarlane.org
SUMMARY:French Choir of Washington adult choir rehearsal
DESCRIPTION:
URL:https://cedarlane.org/calendar/french-choir-of-washington-adult/2026-04-28/
CATEGORIES:External (rental)
ATTACH;FMTTYPE=image/webp:https://cedarlane.org/wp-content/uploads/2025/10/frenchchoir-adult.webp
END:VEVENT
BEGIN:VEVENT
DTSTART;TZID=America/New_York:20260505T173000
DTEND;TZID=America/New_York:20260505T190000
DTSTAMP:20260425T234851
CREATED:20250923T161713Z
LAST-MODIFIED:20251101T214303Z
UID:10014783-1778002200-1778007600@cedarlane.org
SUMMARY:French Choir of Washington children's choir rehearsal
DESCRIPTION:
URL:https://cedarlane.org/calendar/french-choir-of-washington-childrens-choir-rehearsal/2026-05-05/
CATEGORIES:External (rental)
ATTACH;FMTTYPE=image/webp:https://cedarlane.org/wp-content/uploads/2025/10/frenchchoir-youth.webp
END:VEVENT
BEGIN:VEVENT
DTSTART;TZID=America/New_York:20260505T200000
DTEND;TZID=America/New_York:20260505T220000
DTSTAMP:20260425T234851
CREATED:20250923T161807Z
LAST-MODIFIED:20251101T214303Z
UID:10014841-1778011200-1778018400@cedarlane.org
SUMMARY:French Choir of Washington adult choir rehearsal
DESCRIPTION:
URL:https://cedarlane.org/calendar/french-choir-of-washington-adult/2026-05-05/
CATEGORIES:External (rental)
ATTACH;FMTTYPE=image/webp:https://cedarlane.org/wp-content/uploads/2025/10/frenchchoir-adult.webp
END:VEVENT
BEGIN:VEVENT
DTSTART;TZID=America/New_York:20260512T173000
DTEND;TZID=America/New_York:20260512T190000
DTSTAMP:20260425T234851
CREATED:20250923T161713Z
LAST-MODIFIED:20251101T214303Z
UID:10014784-1778607000-1778612400@cedarlane.org
SUMMARY:French Choir of Washington children's choir rehearsal
DESCRIPTION:
URL:https://cedarlane.org/calendar/french-choir-of-washington-childrens-choir-rehearsal/2026-05-12/
CATEGORIES:External (rental)
ATTACH;FMTTYPE=image/webp:https://cedarlane.org/wp-content/uploads/2025/10/frenchchoir-youth.webp
END:VEVENT
BEGIN:VEVENT
DTSTART;TZID=America/New_York:20260512T200000
DTEND;TZID=America/New_York:20260512T220000
DTSTAMP:20260425T234851
CREATED:20250923T161807Z
LAST-MODIFIED:20251101T214303Z
UID:10014842-1778616000-1778623200@cedarlane.org
SUMMARY:French Choir of Washington adult choir rehearsal
DESCRIPTION:
URL:https://cedarlane.org/calendar/french-choir-of-washington-adult/2026-05-12/
CATEGORIES:External (rental)
ATTACH;FMTTYPE=image/webp:https://cedarlane.org/wp-content/uploads/2025/10/frenchchoir-adult.webp
END:VEVENT
BEGIN:VEVENT
DTSTART;TZID=America/New_York:20260521T090000
DTEND;TZID=America/New_York:20260521T130000
DTSTAMP:20260425T234851
CREATED:20250923T150016Z
LAST-MODIFIED:20251101T214303Z
UID:10014754-1779354000-1779368400@cedarlane.org
SUMMARY:Asian American Forum
DESCRIPTION:
URL:https://cedarlane.org/calendar/asian-american-forum-4/2026-05-21/
CATEGORIES:External (rental)
ATTACH;FMTTYPE=image/webp:https://cedarlane.org/wp-content/uploads/2025/10/Asian-Forum.webp
END:VEVENT
END:VCALENDAR