BEGIN:VCALENDAR
VERSION:2.0
PRODID:-//Cedar Lane Unitarian Universalist Congregation - ECPv6.15.20//NONSGML v1.0//EN
CALSCALE:GREGORIAN
METHOD:PUBLISH
X-ORIGINAL-URL:https://cedarlane.org
X-WR-CALDESC:Events for Cedar Lane Unitarian Universalist Congregation
REFRESH-INTERVAL;VALUE=DURATION:PT1H
X-Robots-Tag:noindex
X-PUBLISHED-TTL:PT1H
BEGIN:VTIMEZONE
TZID:America/New_York
BEGIN:DAYLIGHT
TZOFFSETFROM:-0500
TZOFFSETTO:-0400
TZNAME:EDT
DTSTART:20250309T070000
END:DAYLIGHT
BEGIN:STANDARD
TZOFFSETFROM:-0400
TZOFFSETTO:-0500
TZNAME:EST
DTSTART:20251102T060000
END:STANDARD
BEGIN:DAYLIGHT
TZOFFSETFROM:-0500
TZOFFSETTO:-0400
TZNAME:EDT
DTSTART:20260308T070000
END:DAYLIGHT
BEGIN:STANDARD
TZOFFSETFROM:-0400
TZOFFSETTO:-0500
TZNAME:EST
DTSTART:20261101T060000
END:STANDARD
BEGIN:DAYLIGHT
TZOFFSETFROM:-0500
TZOFFSETTO:-0400
TZNAME:EDT
DTSTART:20270314T070000
END:DAYLIGHT
BEGIN:STANDARD
TZOFFSETFROM:-0400
TZOFFSETTO:-0500
TZNAME:EST
DTSTART:20271107T060000
END:STANDARD
END:VTIMEZONE
BEGIN:VEVENT
DTSTART;TZID=America/New_York:20260302T100000
DTEND;TZID=America/New_York:20260302T120000
DTSTAMP:20260424T042837
CREATED:20250709T163356Z
LAST-MODIFIED:20251101T214305Z
UID:10015512-1772445600-1772452800@cedarlane.org
SUMMARY:Science and Religion
DESCRIPTION:
URL:https://cedarlane.org/calendar/science-religion-discussion/2026-03-02/
LOCATION:Maryland
CATEGORIES:Learn and Grow
ATTACH;FMTTYPE=image/webp:https://cedarlane.org/wp-content/uploads/2025/10/science.webp
END:VEVENT
BEGIN:VEVENT
DTSTART;TZID=America/New_York:20260309T100000
DTEND;TZID=America/New_York:20260309T120000
DTSTAMP:20260424T042837
CREATED:20250709T163356Z
LAST-MODIFIED:20251101T214305Z
UID:10015513-1773050400-1773057600@cedarlane.org
SUMMARY:Science and Religion
DESCRIPTION:
URL:https://cedarlane.org/calendar/science-religion-discussion/2026-03-09/
LOCATION:Maryland
CATEGORIES:Learn and Grow
ATTACH;FMTTYPE=image/webp:https://cedarlane.org/wp-content/uploads/2025/10/science.webp
END:VEVENT
BEGIN:VEVENT
DTSTART;TZID=America/New_York:20260311T190000
DTEND;TZID=America/New_York:20260311T203000
DTSTAMP:20260424T042837
CREATED:20250728T205232Z
LAST-MODIFIED:20251101T214305Z
UID:10000624-1773255600-1773261000@cedarlane.org
SUMMARY:Ecosystems Study Group
DESCRIPTION:What are the root causes of climate change\, biodiversity loss\, ocean acidification\, and other symptoms of our “overshoot” of Earth’s carrying capacity? What are the best ways to address our predicament? What is our moral and ethical response? ESG was founded in 2017 to explore these questions and more using a “systems thinking” approach. Our goal is to educate ourselves\, activist groups\, and the general public. We have a very active Google Group that allows us to share a wide variety of information\, and we meet twice per month to discuss what we’ve learned. We also host a number of speakers at events which we open to the wider public. Past speakers include Nate Hagens\, Charlie Hall\, Richard Heinberg\, Alice Friedemann\, Chris Clugston\, Jack Alpert\, John Seager\, Terry Spahr\, and Gaya Herrington.
URL:https://cedarlane.org/calendar/ecosystems-study-group/2026-03-11/
LOCATION:Maryland
CATEGORIES:Activism & Justice,Learn and Grow,Nature
ATTACH;FMTTYPE=image/webp:https://cedarlane.org/wp-content/uploads/2025/10/ecosystems.webp
ORGANIZER;CN="Jim Laurenson":MAILTO:ecosystemsstudygroup@gmail.com
END:VEVENT
BEGIN:VEVENT
DTSTART;TZID=America/New_York:20260316T100000
DTEND;TZID=America/New_York:20260316T120000
DTSTAMP:20260424T042837
CREATED:20250709T163356Z
LAST-MODIFIED:20251101T214305Z
UID:10015514-1773655200-1773662400@cedarlane.org
SUMMARY:Science and Religion
DESCRIPTION:
URL:https://cedarlane.org/calendar/science-religion-discussion/2026-03-16/
LOCATION:Maryland
CATEGORIES:Learn and Grow
ATTACH;FMTTYPE=image/webp:https://cedarlane.org/wp-content/uploads/2025/10/science.webp
END:VEVENT
BEGIN:VEVENT
DTSTART;TZID=America/New_York:20260323T100000
DTEND;TZID=America/New_York:20260323T120000
DTSTAMP:20260424T042837
CREATED:20250709T163356Z
LAST-MODIFIED:20251101T214305Z
UID:10015515-1774260000-1774267200@cedarlane.org
SUMMARY:Science and Religion
DESCRIPTION:
URL:https://cedarlane.org/calendar/science-religion-discussion/2026-03-23/
LOCATION:Maryland
CATEGORIES:Learn and Grow
ATTACH;FMTTYPE=image/webp:https://cedarlane.org/wp-content/uploads/2025/10/science.webp
END:VEVENT
BEGIN:VEVENT
DTSTART;TZID=America/New_York:20260324T190000
DTEND;TZID=America/New_York:20260324T203000
DTSTAMP:20260424T042837
CREATED:20250813T175818Z
LAST-MODIFIED:20251101T214305Z
UID:10001007-1774378800-1774384200@cedarlane.org
SUMMARY:Diverse Voices Book Club
DESCRIPTION:This discussion group meets on the 4th Tuesday of each month on zoom. To get more information or join the group\, reach out to Sandy Shaw.
URL:https://cedarlane.org/calendar/diverse-voices-book-club/2026-03-24/
LOCATION:https://cedarlane.org/calendar/diverse-voices-book-club/2026-03-24/
CATEGORIES:Learn and Grow
ATTACH;FMTTYPE=image/webp:https://cedarlane.org/wp-content/uploads/2025/10/diversevoices.webp
ORGANIZER;CN="Sandy Shaw":MAILTO:DVBC@cedarlane.org
END:VEVENT
BEGIN:VEVENT
DTSTART;TZID=America/New_York:20260330T100000
DTEND;TZID=America/New_York:20260330T120000
DTSTAMP:20260424T042837
CREATED:20250709T163356Z
LAST-MODIFIED:20251101T214305Z
UID:10015516-1774864800-1774872000@cedarlane.org
SUMMARY:Science and Religion
DESCRIPTION:
URL:https://cedarlane.org/calendar/science-religion-discussion/2026-03-30/
LOCATION:Maryland
CATEGORIES:Learn and Grow
ATTACH;FMTTYPE=image/webp:https://cedarlane.org/wp-content/uploads/2025/10/science.webp
END:VEVENT
BEGIN:VEVENT
DTSTART;VALUE=DATE:20260331
DTEND;VALUE=DATE:20260402
DTSTAMP:20260424T042837
CREATED:20260316T013134Z
LAST-MODIFIED:20260325T192131Z
UID:10018022-1774926000-1775012399@cedarlane.org
SUMMARY:Arts-Based Summer Camp Register Now
DESCRIPTION:This summer\, offer your child more than just entertainment—give them an enriching\, heart-opening experience that nurtures both creative expression and ethical awareness. At Cedar Lane\, our Arts-Based Summer Camp provides a vibrant\, inclusive setting where children ages 6 to 12 are invited to explore their creativity while building meaningful connections rooted in empathy\, self-discovery\, and community. \nAugust 17-21\, 2026\n8:30 AM – 12:30 PM\n\n	\n		\n			\n				\n					Register by March 31
URL:https://cedarlane.org/calendar/summer-camp/
LOCATION:Cedar Lane UU Congregation\, 9601 Cedar Ln\, Bethesda\, Maryland\, 20814
CATEGORIES:Creativity,Families,Fun,In the Spotlight,Learn and Grow
ATTACH;FMTTYPE=image/webp:https://cedarlane.org/wp-content/uploads/2026/03/summercamp.webp
ORGANIZER;CN="Rev. Dayna Edwards":MAILTO:dedwards@cedarlane.org
END:VEVENT
END:VCALENDAR