BEGIN:VCALENDAR
VERSION:2.0
PRODID:-//Cedar Lane Unitarian Universalist Congregation - ECPv6.15.20//NONSGML v1.0//EN
CALSCALE:GREGORIAN
METHOD:PUBLISH
X-WR-CALNAME:Cedar Lane Unitarian Universalist Congregation
X-ORIGINAL-URL:https://cedarlane.org
X-WR-CALDESC:Events for Cedar Lane Unitarian Universalist Congregation
REFRESH-INTERVAL;VALUE=DURATION:PT1H
X-Robots-Tag:noindex
X-PUBLISHED-TTL:PT1H
BEGIN:VTIMEZONE
TZID:America/New_York
BEGIN:DAYLIGHT
TZOFFSETFROM:-0500
TZOFFSETTO:-0400
TZNAME:EDT
DTSTART:20250309T070000
END:DAYLIGHT
BEGIN:STANDARD
TZOFFSETFROM:-0400
TZOFFSETTO:-0500
TZNAME:EST
DTSTART:20251102T060000
END:STANDARD
BEGIN:DAYLIGHT
TZOFFSETFROM:-0500
TZOFFSETTO:-0400
TZNAME:EDT
DTSTART:20260308T070000
END:DAYLIGHT
BEGIN:STANDARD
TZOFFSETFROM:-0400
TZOFFSETTO:-0500
TZNAME:EST
DTSTART:20261101T060000
END:STANDARD
BEGIN:DAYLIGHT
TZOFFSETFROM:-0500
TZOFFSETTO:-0400
TZNAME:EDT
DTSTART:20270314T070000
END:DAYLIGHT
BEGIN:STANDARD
TZOFFSETFROM:-0400
TZOFFSETTO:-0500
TZNAME:EST
DTSTART:20271107T060000
END:STANDARD
END:VTIMEZONE
BEGIN:VEVENT
DTSTART;TZID=America/New_York:20260304T193000
DTEND;TZID=America/New_York:20260304T213000
DTSTAMP:20260425T172604
CREATED:20250825T185252Z
LAST-MODIFIED:20251112T052706Z
UID:10001837-1772652600-1772659800@cedarlane.org
SUMMARY:Adult Choir Rehearsal
DESCRIPTION:Join the Cedar Lane choir for the 2025-26 season! \nThere’s always a place for you in the choir. Young\, old\, new\, experienced\, and lesser experienced all welcome! Individual training can be provided. Come share the joy of singing with your fellow Cedar Lane members and friends to provide regular music for worship services and other events throughout the church year. Rehearsals meet on Wednesdays at 7:30pm in the choir loft (upstairs from the sanctuary). \nFor more information\, please contact Michael Holmes\, director of Music and Arts\, at mholmes@cedarlane.org.
URL:https://cedarlane.org/calendar/adult-choir-rehearsal/2026-03-04/
LOCATION:Sanctuary\, 9601 Cedar Ln\, Bethesda\, MD\, 20814\, United States
CATEGORIES:Music
ATTACH;FMTTYPE=image/webp:https://cedarlane.org/wp-content/uploads/2025/10/choir.webp
ORGANIZER;CN="Michael Holmes":MAILTO:mholmes@cedarlane.org
END:VEVENT
BEGIN:VEVENT
DTSTART;TZID=America/New_York:20260305T180000
DTEND;TZID=America/New_York:20260305T203000
DTSTAMP:20260425T172604
CREATED:20250825T185702Z
LAST-MODIFIED:20251101T214304Z
UID:10011073-1772733600-1772742600@cedarlane.org
SUMMARY:Bell-choir Rehearsal
DESCRIPTION:Join the Cedar Lane bell choir! \nFor information\, please contact Michael Holmes\, director of Music and Arts\, at mholmes@cedarlane.org.
URL:https://cedarlane.org/calendar/bell-choir-rehearsal/2026-03-05/
LOCATION:Sanctuary\, 9601 Cedar Ln\, Bethesda\, MD\, 20814\, United States
CATEGORIES:Music
ATTACH;FMTTYPE=image/webp:https://cedarlane.org/wp-content/uploads/2025/10/bell-choir.webp
ORGANIZER;CN="Michael Holmes":MAILTO:mholmes@cedarlane.org
END:VEVENT
BEGIN:VEVENT
DTSTART;TZID=America/New_York:20260307T190000
DTEND;TZID=America/New_York:20260307T210000
DTSTAMP:20260425T172604
CREATED:20251008T194610Z
LAST-MODIFIED:20251112T044710Z
UID:10015283-1772910000-1772917200@cedarlane.org
SUMMARY:Jessica Powell Eig and Amy Domingues
DESCRIPTION:Join us for an intimate evening of Baroque masterpieces\, featuring the rich and expressive sounds of the viola da gamba\, recorder and harpsichord. The past comes alive through the inventive character pieces of Tobias Hume\, poignant laments of Henry Purcell and the virtuosic instrumental music of Marin Marais and Georg Philipp Telemann–music that enchanted European courts and salons\, performed by Jessica Powell Eig and Amy Domingues on viola da gamba and guests Michael Holmes (recorder) and Bozena Jedrzejczak-Brown (harpsichord)\, all talented artists dedicated to this timeless repertoire. \nDoors Open: 6:30 PM\nConcert: 7:00 PM \nJessica Powell Eig: Website\nAmy Domingues: Website \nReserve Your Spot (suggested love offering of $20 / seat)
URL:https://cedarlane.org/calendar/eig-domingues/
LOCATION:Sanctuary\, 9601 Cedar Ln\, Bethesda\, MD\, 20814\, United States
CATEGORIES:In the Spotlight,Music
ATTACH;FMTTYPE=image/jpeg:https://cedarlane.org/wp-content/uploads/2025/09/Eig-Domingues-Duo-scaled-e1757105251604.jpg
ORGANIZER;CN="Michael Holmes":MAILTO:mholmes@cedarlane.org
END:VEVENT
END:VCALENDAR