BEGIN:VCALENDAR
VERSION:2.0
PRODID:-//Cedar Lane Unitarian Universalist Congregation - ECPv6.15.20//NONSGML v1.0//EN
CALSCALE:GREGORIAN
METHOD:PUBLISH
X-WR-CALNAME:Cedar Lane Unitarian Universalist Congregation
X-ORIGINAL-URL:https://cedarlane.org
X-WR-CALDESC:Events for Cedar Lane Unitarian Universalist Congregation
REFRESH-INTERVAL;VALUE=DURATION:PT1H
X-Robots-Tag:noindex
X-PUBLISHED-TTL:PT1H
BEGIN:VTIMEZONE
TZID:America/New_York
BEGIN:DAYLIGHT
TZOFFSETFROM:-0500
TZOFFSETTO:-0400
TZNAME:EDT
DTSTART:20250309T070000
END:DAYLIGHT
BEGIN:STANDARD
TZOFFSETFROM:-0400
TZOFFSETTO:-0500
TZNAME:EST
DTSTART:20251102T060000
END:STANDARD
BEGIN:DAYLIGHT
TZOFFSETFROM:-0500
TZOFFSETTO:-0400
TZNAME:EDT
DTSTART:20260308T070000
END:DAYLIGHT
BEGIN:STANDARD
TZOFFSETFROM:-0400
TZOFFSETTO:-0500
TZNAME:EST
DTSTART:20261101T060000
END:STANDARD
BEGIN:DAYLIGHT
TZOFFSETFROM:-0500
TZOFFSETTO:-0400
TZNAME:EDT
DTSTART:20270314T070000
END:DAYLIGHT
BEGIN:STANDARD
TZOFFSETFROM:-0400
TZOFFSETTO:-0500
TZNAME:EST
DTSTART:20271107T060000
END:STANDARD
END:VTIMEZONE
BEGIN:VEVENT
DTSTART;TZID=America/New_York:20260310T184500
DTEND;TZID=America/New_York:20260310T203000
DTSTAMP:20260425T115042
CREATED:20251011T231107Z
LAST-MODIFIED:20260415T144537Z
UID:10016346-1773168300-1773174600@cedarlane.org
SUMMARY:Shepherd's Table Veggie Chopping
DESCRIPTION:We meet to chop vegetables at Shepherd’s Table monthly on the 2nd Tuesday evening and the following Wednesday evening. Join us for this hands-on volunteer activity that helps feed our neighbors.
URL:https://cedarlane.org/calendar/shepherds-table-veggies2/2026-03-10/
LOCATION:Shepherd’s Table\, 8106 Georgia Ave\, Silver Spring\, 20910\, United States
CATEGORIES:Fun,In the Spotlight,Volunteer Opportunity
ATTACH;FMTTYPE=image/webp:https://cedarlane.org/wp-content/uploads/2025/10/veggie-chopping.webp
ORGANIZER;CN="Anne Fretz":MAILTO:veggiechoppers@cedarlane.org
END:VEVENT
END:VCALENDAR