BEGIN:VCALENDAR
VERSION:2.0
PRODID:-//Cedar Lane Unitarian Universalist Congregation - ECPv6.15.20//NONSGML v1.0//EN
CALSCALE:GREGORIAN
METHOD:PUBLISH
X-ORIGINAL-URL:https://cedarlane.org
X-WR-CALDESC:Events for Cedar Lane Unitarian Universalist Congregation
REFRESH-INTERVAL;VALUE=DURATION:PT1H
X-Robots-Tag:noindex
X-PUBLISHED-TTL:PT1H
BEGIN:VTIMEZONE
TZID:America/New_York
BEGIN:DAYLIGHT
TZOFFSETFROM:-0500
TZOFFSETTO:-0400
TZNAME:EDT
DTSTART:20250309T070000
END:DAYLIGHT
BEGIN:STANDARD
TZOFFSETFROM:-0400
TZOFFSETTO:-0500
TZNAME:EST
DTSTART:20251102T060000
END:STANDARD
BEGIN:DAYLIGHT
TZOFFSETFROM:-0500
TZOFFSETTO:-0400
TZNAME:EDT
DTSTART:20260308T070000
END:DAYLIGHT
BEGIN:STANDARD
TZOFFSETFROM:-0400
TZOFFSETTO:-0500
TZNAME:EST
DTSTART:20261101T060000
END:STANDARD
BEGIN:DAYLIGHT
TZOFFSETFROM:-0500
TZOFFSETTO:-0400
TZNAME:EDT
DTSTART:20270314T070000
END:DAYLIGHT
BEGIN:STANDARD
TZOFFSETFROM:-0400
TZOFFSETTO:-0500
TZNAME:EST
DTSTART:20271107T060000
END:STANDARD
END:VTIMEZONE
BEGIN:VEVENT
DTSTART;TZID=America/New_York:20260412T090000
DTEND;TZID=America/New_York:20260412T103000
DTSTAMP:20260425T173816
CREATED:20251029T194321Z
LAST-MODIFIED:20251110T145939Z
UID:10016393-1775984400-1775989800@cedarlane.org
SUMMARY:Food and Diaper Drop-off
DESCRIPTION:You are invited to bring food and diapers and place them in the collection bin found in the chapel hallway. Volunteers collect these items on Sunday mornings and take them to our partner\, Mid-County United Ministries (MUM)\, to be distributed in the community. \nYour donations are greatly appreciated! \nCurrent Urgent Needs\n\nThree children need diapers sizes 3 and 5-6T pull-ups\n\nOn-going Needs\n\nHot/Cold Cereals\nCanned Fruits/Vegetables\nDry/Canned Beans\, Pastas\, Rice\nPasta Sauces\nCanned Meats/Tuna\nSoups/Stews/Chilies\nPeanut Butter/Jelly\nDiet Specific Foods\nToiletries\nDiapers and wipes\nFresh produce
URL:https://cedarlane.org/calendar/food-and-diaper-drop-off/2026-04-12/
LOCATION:Cedar Lane UU Congregation\, 9601 Cedar Ln\, Bethesda\, Maryland\, 20814
CATEGORIES:Activism & Justice,Volunteer Opportunity
ATTACH;FMTTYPE=image/webp:https://cedarlane.org/wp-content/uploads/2025/10/MUM.webp
ORGANIZER;CN="Roger DeLucia":MAILTO:mum@cedarlane.org
END:VEVENT
BEGIN:VEVENT
DTSTART;TZID=America/New_York:20260415T180000
DTEND;TZID=America/New_York:20260415T193000
DTSTAMP:20260425T173816
CREATED:20250821T164743Z
LAST-MODIFIED:20260415T144725Z
UID:10015947-1776276000-1776281400@cedarlane.org
SUMMARY:Welcome Wednesday
DESCRIPTION:Come as you are and enjoy good food\, conversation\, and community activities with friends old and new. We meet on the 3rd Wednesday of each month to nourish body and spirit\, and build lasting connections. \nWhen RSVP’ing\, let us know if you can volunteer to bring a dish to share. \nThen stay with us at 7pm (or just come at 7pm) for our drop-in Newcomers Soul Circle. \nGet more info and let us know you’re coming – or just show up! \n\n	\n		\n			\n				\n					RSVP
URL:https://cedarlane.org/calendar/welcome-wednesday-4/2026-04-15/
LOCATION:Fellowship Hall\, 9601 Cedar Ln\, Bethesda\, MD\, 20814\, United States
CATEGORIES:In the Spotlight,Newcomers,Volunteer Opportunity
ATTACH;FMTTYPE=image/webp:https://cedarlane.org/wp-content/uploads/2025/10/welcome-wednesday.webp
ORGANIZER;CN="Nicolle Singer":MAILTO:nsinger@cedarlane.org
END:VEVENT
END:VCALENDAR