BEGIN:VCALENDAR
VERSION:2.0
PRODID:-//Cedar Lane Unitarian Universalist Congregation - ECPv6.15.20//NONSGML v1.0//EN
CALSCALE:GREGORIAN
METHOD:PUBLISH
X-WR-CALNAME:Cedar Lane Unitarian Universalist Congregation
X-ORIGINAL-URL:https://cedarlane.org
X-WR-CALDESC:Events for Cedar Lane Unitarian Universalist Congregation
REFRESH-INTERVAL;VALUE=DURATION:PT1H
X-Robots-Tag:noindex
X-PUBLISHED-TTL:PT1H
BEGIN:VTIMEZONE
TZID:America/New_York
BEGIN:DAYLIGHT
TZOFFSETFROM:-0500
TZOFFSETTO:-0400
TZNAME:EDT
DTSTART:20250309T070000
END:DAYLIGHT
BEGIN:STANDARD
TZOFFSETFROM:-0400
TZOFFSETTO:-0500
TZNAME:EST
DTSTART:20251102T060000
END:STANDARD
BEGIN:DAYLIGHT
TZOFFSETFROM:-0500
TZOFFSETTO:-0400
TZNAME:EDT
DTSTART:20260308T070000
END:DAYLIGHT
BEGIN:STANDARD
TZOFFSETFROM:-0400
TZOFFSETTO:-0500
TZNAME:EST
DTSTART:20261101T060000
END:STANDARD
BEGIN:DAYLIGHT
TZOFFSETFROM:-0500
TZOFFSETTO:-0400
TZNAME:EDT
DTSTART:20270314T070000
END:DAYLIGHT
BEGIN:STANDARD
TZOFFSETFROM:-0400
TZOFFSETTO:-0500
TZNAME:EST
DTSTART:20271107T060000
END:STANDARD
END:VTIMEZONE
BEGIN:VEVENT
DTSTART;TZID=America/New_York:20261201T190000
DTEND;TZID=America/New_York:20261201T203000
DTSTAMP:20260425T100722
CREATED:20260407T013321Z
LAST-MODIFIED:20260407T022626Z
UID:10018079-1796151600-1796157000@cedarlane.org
SUMMARY:LGBTQ+ and Gender Justice Team Meeting
DESCRIPTION:Monthly meeting of the LGBTQ+ and Gender Justice Ministry Team.\n\nWe challenge harmful\, unfair and limiting stereotypes based on gender. We advocate for justice and equity for LGBTQ+ people and for reproductive rights by educating ourselves and the congregation on relevant issues; collaborating with groups that support/promote the pursuit of justice and equity for these individuals and communities; following the lead of LGBTQ+\, gender minority\, and women-led groups we partner with; and integrating intersectional perspectives throughout all of our endeavors.\n\nTo participate\, contact us at lgbtqgenderjustice@cedarlane.org
URL:https://cedarlane.org/calendar/lgbtq-and-gender-justice/2026-12-01/
CATEGORIES:Activism & Justice,LGBTQIA+
ATTACH;FMTTYPE=image/webp:https://cedarlane.org/wp-content/uploads/2026/04/LGBTQGenderJustice-2.webp
LOCATION:https://cedarlane.org/calendar/lgbtq-and-gender-justice/2026-12-01/
END:VEVENT
END:VCALENDAR