BEGIN:VCALENDAR
VERSION:2.0
PRODID:-//Cedar Lane Unitarian Universalist Congregation - ECPv6.15.20//NONSGML v1.0//EN
CALSCALE:GREGORIAN
METHOD:PUBLISH
X-WR-CALNAME:Cedar Lane Unitarian Universalist Congregation
X-ORIGINAL-URL:https://cedarlane.org
X-WR-CALDESC:Events for Cedar Lane Unitarian Universalist Congregation
REFRESH-INTERVAL;VALUE=DURATION:PT1H
X-Robots-Tag:noindex
X-PUBLISHED-TTL:PT1H
BEGIN:VTIMEZONE
TZID:America/New_York
BEGIN:DAYLIGHT
TZOFFSETFROM:-0500
TZOFFSETTO:-0400
TZNAME:EDT
DTSTART:20250309T070000
END:DAYLIGHT
BEGIN:STANDARD
TZOFFSETFROM:-0400
TZOFFSETTO:-0500
TZNAME:EST
DTSTART:20251102T060000
END:STANDARD
BEGIN:DAYLIGHT
TZOFFSETFROM:-0500
TZOFFSETTO:-0400
TZNAME:EDT
DTSTART:20260308T070000
END:DAYLIGHT
BEGIN:STANDARD
TZOFFSETFROM:-0400
TZOFFSETTO:-0500
TZNAME:EST
DTSTART:20261101T060000
END:STANDARD
BEGIN:DAYLIGHT
TZOFFSETFROM:-0500
TZOFFSETTO:-0400
TZNAME:EDT
DTSTART:20270314T070000
END:DAYLIGHT
BEGIN:STANDARD
TZOFFSETFROM:-0400
TZOFFSETTO:-0500
TZNAME:EST
DTSTART:20271107T060000
END:STANDARD
BEGIN:DAYLIGHT
TZOFFSETFROM:-0500
TZOFFSETTO:-0400
TZNAME:EDT
DTSTART:20280312T070000
END:DAYLIGHT
BEGIN:STANDARD
TZOFFSETFROM:-0400
TZOFFSETTO:-0500
TZNAME:EST
DTSTART:20281105T060000
END:STANDARD
BEGIN:DAYLIGHT
TZOFFSETFROM:-0500
TZOFFSETTO:-0400
TZNAME:EDT
DTSTART:20290311T070000
END:DAYLIGHT
BEGIN:STANDARD
TZOFFSETFROM:-0400
TZOFFSETTO:-0500
TZNAME:EST
DTSTART:20291104T060000
END:STANDARD
END:VTIMEZONE
BEGIN:VEVENT
DTSTART;TZID=America/New_York:20260513T160000
DTEND;TZID=America/New_York:20260513T173000
DTSTAMP:20260425T133848
CREATED:20250709T163033Z
LAST-MODIFIED:20251101T214336Z
UID:10016075-1778688000-1778693400@cedarlane.org
SUMMARY:Caring Ministry Team Meeting
DESCRIPTION:We gather on the 2nd Wednesday of each month to coordinate the activities of the caring team. If you would like to talk to someone from the caring team\, please reach out.
URL:https://cedarlane.org/calendar/caring-ministry/2026-05-13/
CATEGORIES:Healing,Planning and Coordination
ATTACH;FMTTYPE=image/webp:https://cedarlane.org/wp-content/uploads/2025/10/caringteam.webp
ORGANIZER;CN="Betsy Binkes and Kathleen Holmay":MAILTO:caringteam@cedarlane.org
END:VEVENT
BEGIN:VEVENT
DTSTART;TZID=America/New_York:20260610T160000
DTEND;TZID=America/New_York:20260610T173000
DTSTAMP:20260425T133848
CREATED:20250709T163033Z
LAST-MODIFIED:20251101T214336Z
UID:10016076-1781107200-1781112600@cedarlane.org
SUMMARY:Caring Ministry Team Meeting
DESCRIPTION:We gather on the 2nd Wednesday of each month to coordinate the activities of the caring team. If you would like to talk to someone from the caring team\, please reach out.
URL:https://cedarlane.org/calendar/caring-ministry/2026-06-10/
CATEGORIES:Healing,Planning and Coordination
ATTACH;FMTTYPE=image/webp:https://cedarlane.org/wp-content/uploads/2025/10/caringteam.webp
ORGANIZER;CN="Betsy Binkes and Kathleen Holmay":MAILTO:caringteam@cedarlane.org
END:VEVENT
BEGIN:VEVENT
DTSTART;TZID=America/New_York:20260708T160000
DTEND;TZID=America/New_York:20260708T173000
DTSTAMP:20260425T133848
CREATED:20250709T163033Z
LAST-MODIFIED:20251101T214336Z
UID:10016077-1783526400-1783531800@cedarlane.org
SUMMARY:Caring Ministry Team Meeting
DESCRIPTION:We gather on the 2nd Wednesday of each month to coordinate the activities of the caring team. If you would like to talk to someone from the caring team\, please reach out.
URL:https://cedarlane.org/calendar/caring-ministry/2026-07-08/
CATEGORIES:Healing,Planning and Coordination
ATTACH;FMTTYPE=image/webp:https://cedarlane.org/wp-content/uploads/2025/10/caringteam.webp
ORGANIZER;CN="Betsy Binkes and Kathleen Holmay":MAILTO:caringteam@cedarlane.org
END:VEVENT
BEGIN:VEVENT
DTSTART;TZID=America/New_York:20260812T160000
DTEND;TZID=America/New_York:20260812T173000
DTSTAMP:20260425T133848
CREATED:20250709T163033Z
LAST-MODIFIED:20251101T214336Z
UID:10016078-1786550400-1786555800@cedarlane.org
SUMMARY:Caring Ministry Team Meeting
DESCRIPTION:We gather on the 2nd Wednesday of each month to coordinate the activities of the caring team. If you would like to talk to someone from the caring team\, please reach out.
URL:https://cedarlane.org/calendar/caring-ministry/2026-08-12/
CATEGORIES:Healing,Planning and Coordination
ATTACH;FMTTYPE=image/webp:https://cedarlane.org/wp-content/uploads/2025/10/caringteam.webp
ORGANIZER;CN="Betsy Binkes and Kathleen Holmay":MAILTO:caringteam@cedarlane.org
END:VEVENT
BEGIN:VEVENT
DTSTART;TZID=America/New_York:20260909T160000
DTEND;TZID=America/New_York:20260909T173000
DTSTAMP:20260425T133848
CREATED:20250709T163033Z
LAST-MODIFIED:20251101T214336Z
UID:10016079-1788969600-1788975000@cedarlane.org
SUMMARY:Caring Ministry Team Meeting
DESCRIPTION:We gather on the 2nd Wednesday of each month to coordinate the activities of the caring team. If you would like to talk to someone from the caring team\, please reach out.
URL:https://cedarlane.org/calendar/caring-ministry/2026-09-09/
CATEGORIES:Healing,Planning and Coordination
ATTACH;FMTTYPE=image/webp:https://cedarlane.org/wp-content/uploads/2025/10/caringteam.webp
ORGANIZER;CN="Betsy Binkes and Kathleen Holmay":MAILTO:caringteam@cedarlane.org
END:VEVENT
BEGIN:VEVENT
DTSTART;TZID=America/New_York:20261014T160000
DTEND;TZID=America/New_York:20261014T173000
DTSTAMP:20260425T133848
CREATED:20250709T163033Z
LAST-MODIFIED:20251101T214336Z
UID:10016080-1791993600-1791999000@cedarlane.org
SUMMARY:Caring Ministry Team Meeting
DESCRIPTION:We gather on the 2nd Wednesday of each month to coordinate the activities of the caring team. If you would like to talk to someone from the caring team\, please reach out.
URL:https://cedarlane.org/calendar/caring-ministry/2026-10-14/
CATEGORIES:Healing,Planning and Coordination
ATTACH;FMTTYPE=image/webp:https://cedarlane.org/wp-content/uploads/2025/10/caringteam.webp
ORGANIZER;CN="Betsy Binkes and Kathleen Holmay":MAILTO:caringteam@cedarlane.org
END:VEVENT
BEGIN:VEVENT
DTSTART;TZID=America/New_York:20261111T160000
DTEND;TZID=America/New_York:20261111T173000
DTSTAMP:20260425T133848
CREATED:20250709T163033Z
LAST-MODIFIED:20251101T214336Z
UID:10016081-1794412800-1794418200@cedarlane.org
SUMMARY:Caring Ministry Team Meeting
DESCRIPTION:We gather on the 2nd Wednesday of each month to coordinate the activities of the caring team. If you would like to talk to someone from the caring team\, please reach out.
URL:https://cedarlane.org/calendar/caring-ministry/2026-11-11/
CATEGORIES:Healing,Planning and Coordination
ATTACH;FMTTYPE=image/webp:https://cedarlane.org/wp-content/uploads/2025/10/caringteam.webp
ORGANIZER;CN="Betsy Binkes and Kathleen Holmay":MAILTO:caringteam@cedarlane.org
END:VEVENT
BEGIN:VEVENT
DTSTART;TZID=America/New_York:20261209T160000
DTEND;TZID=America/New_York:20261209T173000
DTSTAMP:20260425T133848
CREATED:20250709T163033Z
LAST-MODIFIED:20251101T214336Z
UID:10016082-1796832000-1796837400@cedarlane.org
SUMMARY:Caring Ministry Team Meeting
DESCRIPTION:We gather on the 2nd Wednesday of each month to coordinate the activities of the caring team. If you would like to talk to someone from the caring team\, please reach out.
URL:https://cedarlane.org/calendar/caring-ministry/2026-12-09/
CATEGORIES:Healing,Planning and Coordination
ATTACH;FMTTYPE=image/webp:https://cedarlane.org/wp-content/uploads/2025/10/caringteam.webp
ORGANIZER;CN="Betsy Binkes and Kathleen Holmay":MAILTO:caringteam@cedarlane.org
END:VEVENT
BEGIN:VEVENT
DTSTART;TZID=America/New_York:20270113T160000
DTEND;TZID=America/New_York:20270113T173000
DTSTAMP:20260425T133848
CREATED:20250709T163033Z
LAST-MODIFIED:20251101T214336Z
UID:10016083-1799856000-1799861400@cedarlane.org
SUMMARY:Caring Ministry Team Meeting
DESCRIPTION:We gather on the 2nd Wednesday of each month to coordinate the activities of the caring team. If you would like to talk to someone from the caring team\, please reach out.
URL:https://cedarlane.org/calendar/caring-ministry/2027-01-13/
CATEGORIES:Healing,Planning and Coordination
ATTACH;FMTTYPE=image/webp:https://cedarlane.org/wp-content/uploads/2025/10/caringteam.webp
ORGANIZER;CN="Betsy Binkes and Kathleen Holmay":MAILTO:caringteam@cedarlane.org
END:VEVENT
BEGIN:VEVENT
DTSTART;TZID=America/New_York:20270210T160000
DTEND;TZID=America/New_York:20270210T173000
DTSTAMP:20260425T133848
CREATED:20250709T163033Z
LAST-MODIFIED:20251101T214336Z
UID:10016084-1802275200-1802280600@cedarlane.org
SUMMARY:Caring Ministry Team Meeting
DESCRIPTION:We gather on the 2nd Wednesday of each month to coordinate the activities of the caring team. If you would like to talk to someone from the caring team\, please reach out.
URL:https://cedarlane.org/calendar/caring-ministry/2027-02-10/
CATEGORIES:Healing,Planning and Coordination
ATTACH;FMTTYPE=image/webp:https://cedarlane.org/wp-content/uploads/2025/10/caringteam.webp
ORGANIZER;CN="Betsy Binkes and Kathleen Holmay":MAILTO:caringteam@cedarlane.org
END:VEVENT
BEGIN:VEVENT
DTSTART;TZID=America/New_York:20270310T160000
DTEND;TZID=America/New_York:20270310T173000
DTSTAMP:20260425T133848
CREATED:20250709T163033Z
LAST-MODIFIED:20251101T214336Z
UID:10016085-1804694400-1804699800@cedarlane.org
SUMMARY:Caring Ministry Team Meeting
DESCRIPTION:We gather on the 2nd Wednesday of each month to coordinate the activities of the caring team. If you would like to talk to someone from the caring team\, please reach out.
URL:https://cedarlane.org/calendar/caring-ministry/2027-03-10/
CATEGORIES:Healing,Planning and Coordination
ATTACH;FMTTYPE=image/webp:https://cedarlane.org/wp-content/uploads/2025/10/caringteam.webp
ORGANIZER;CN="Betsy Binkes and Kathleen Holmay":MAILTO:caringteam@cedarlane.org
END:VEVENT
BEGIN:VEVENT
DTSTART;TZID=America/New_York:20270414T160000
DTEND;TZID=America/New_York:20270414T173000
DTSTAMP:20260425T133848
CREATED:20250709T163033Z
LAST-MODIFIED:20251101T214336Z
UID:10016086-1807718400-1807723800@cedarlane.org
SUMMARY:Caring Ministry Team Meeting
DESCRIPTION:We gather on the 2nd Wednesday of each month to coordinate the activities of the caring team. If you would like to talk to someone from the caring team\, please reach out.
URL:https://cedarlane.org/calendar/caring-ministry/2027-04-14/
CATEGORIES:Healing,Planning and Coordination
ATTACH;FMTTYPE=image/webp:https://cedarlane.org/wp-content/uploads/2025/10/caringteam.webp
ORGANIZER;CN="Betsy Binkes and Kathleen Holmay":MAILTO:caringteam@cedarlane.org
END:VEVENT
BEGIN:VEVENT
DTSTART;TZID=America/New_York:20270512T160000
DTEND;TZID=America/New_York:20270512T173000
DTSTAMP:20260425T133848
CREATED:20250709T163033Z
LAST-MODIFIED:20251101T214336Z
UID:10016087-1810137600-1810143000@cedarlane.org
SUMMARY:Caring Ministry Team Meeting
DESCRIPTION:We gather on the 2nd Wednesday of each month to coordinate the activities of the caring team. If you would like to talk to someone from the caring team\, please reach out.
URL:https://cedarlane.org/calendar/caring-ministry/2027-05-12/
CATEGORIES:Healing,Planning and Coordination
ATTACH;FMTTYPE=image/webp:https://cedarlane.org/wp-content/uploads/2025/10/caringteam.webp
ORGANIZER;CN="Betsy Binkes and Kathleen Holmay":MAILTO:caringteam@cedarlane.org
END:VEVENT
BEGIN:VEVENT
DTSTART;TZID=America/New_York:20270609T160000
DTEND;TZID=America/New_York:20270609T173000
DTSTAMP:20260425T133848
CREATED:20250709T163033Z
LAST-MODIFIED:20251101T214336Z
UID:10016088-1812556800-1812562200@cedarlane.org
SUMMARY:Caring Ministry Team Meeting
DESCRIPTION:We gather on the 2nd Wednesday of each month to coordinate the activities of the caring team. If you would like to talk to someone from the caring team\, please reach out.
URL:https://cedarlane.org/calendar/caring-ministry/2027-06-09/
CATEGORIES:Healing,Planning and Coordination
ATTACH;FMTTYPE=image/webp:https://cedarlane.org/wp-content/uploads/2025/10/caringteam.webp
ORGANIZER;CN="Betsy Binkes and Kathleen Holmay":MAILTO:caringteam@cedarlane.org
END:VEVENT
BEGIN:VEVENT
DTSTART;TZID=America/New_York:20270714T160000
DTEND;TZID=America/New_York:20270714T173000
DTSTAMP:20260425T133848
CREATED:20250709T163033Z
LAST-MODIFIED:20251101T214336Z
UID:10016089-1815580800-1815586200@cedarlane.org
SUMMARY:Caring Ministry Team Meeting
DESCRIPTION:We gather on the 2nd Wednesday of each month to coordinate the activities of the caring team. If you would like to talk to someone from the caring team\, please reach out.
URL:https://cedarlane.org/calendar/caring-ministry/2027-07-14/
CATEGORIES:Healing,Planning and Coordination
ATTACH;FMTTYPE=image/webp:https://cedarlane.org/wp-content/uploads/2025/10/caringteam.webp
ORGANIZER;CN="Betsy Binkes and Kathleen Holmay":MAILTO:caringteam@cedarlane.org
END:VEVENT
BEGIN:VEVENT
DTSTART;TZID=America/New_York:20270811T160000
DTEND;TZID=America/New_York:20270811T173000
DTSTAMP:20260425T133848
CREATED:20250709T163033Z
LAST-MODIFIED:20251101T214336Z
UID:10016090-1818000000-1818005400@cedarlane.org
SUMMARY:Caring Ministry Team Meeting
DESCRIPTION:We gather on the 2nd Wednesday of each month to coordinate the activities of the caring team. If you would like to talk to someone from the caring team\, please reach out.
URL:https://cedarlane.org/calendar/caring-ministry/2027-08-11/
CATEGORIES:Healing,Planning and Coordination
ATTACH;FMTTYPE=image/webp:https://cedarlane.org/wp-content/uploads/2025/10/caringteam.webp
ORGANIZER;CN="Betsy Binkes and Kathleen Holmay":MAILTO:caringteam@cedarlane.org
END:VEVENT
BEGIN:VEVENT
DTSTART;TZID=America/New_York:20270908T160000
DTEND;TZID=America/New_York:20270908T173000
DTSTAMP:20260425T133848
CREATED:20250709T163033Z
LAST-MODIFIED:20251101T214336Z
UID:10016091-1820419200-1820424600@cedarlane.org
SUMMARY:Caring Ministry Team Meeting
DESCRIPTION:We gather on the 2nd Wednesday of each month to coordinate the activities of the caring team. If you would like to talk to someone from the caring team\, please reach out.
URL:https://cedarlane.org/calendar/caring-ministry/2027-09-08/
CATEGORIES:Healing,Planning and Coordination
ATTACH;FMTTYPE=image/webp:https://cedarlane.org/wp-content/uploads/2025/10/caringteam.webp
ORGANIZER;CN="Betsy Binkes and Kathleen Holmay":MAILTO:caringteam@cedarlane.org
END:VEVENT
BEGIN:VEVENT
DTSTART;TZID=America/New_York:20271013T160000
DTEND;TZID=America/New_York:20271013T173000
DTSTAMP:20260425T133848
CREATED:20250709T163033Z
LAST-MODIFIED:20251101T214336Z
UID:10016092-1823443200-1823448600@cedarlane.org
SUMMARY:Caring Ministry Team Meeting
DESCRIPTION:We gather on the 2nd Wednesday of each month to coordinate the activities of the caring team. If you would like to talk to someone from the caring team\, please reach out.
URL:https://cedarlane.org/calendar/caring-ministry/2027-10-13/
CATEGORIES:Healing,Planning and Coordination
ATTACH;FMTTYPE=image/webp:https://cedarlane.org/wp-content/uploads/2025/10/caringteam.webp
ORGANIZER;CN="Betsy Binkes and Kathleen Holmay":MAILTO:caringteam@cedarlane.org
END:VEVENT
BEGIN:VEVENT
DTSTART;TZID=America/New_York:20271110T160000
DTEND;TZID=America/New_York:20271110T173000
DTSTAMP:20260425T133848
CREATED:20250709T163033Z
LAST-MODIFIED:20251101T214336Z
UID:10016093-1825862400-1825867800@cedarlane.org
SUMMARY:Caring Ministry Team Meeting
DESCRIPTION:We gather on the 2nd Wednesday of each month to coordinate the activities of the caring team. If you would like to talk to someone from the caring team\, please reach out.
URL:https://cedarlane.org/calendar/caring-ministry/2027-11-10/
CATEGORIES:Healing,Planning and Coordination
ATTACH;FMTTYPE=image/webp:https://cedarlane.org/wp-content/uploads/2025/10/caringteam.webp
ORGANIZER;CN="Betsy Binkes and Kathleen Holmay":MAILTO:caringteam@cedarlane.org
END:VEVENT
BEGIN:VEVENT
DTSTART;TZID=America/New_York:20271208T160000
DTEND;TZID=America/New_York:20271208T173000
DTSTAMP:20260425T133848
CREATED:20250709T163033Z
LAST-MODIFIED:20251101T214336Z
UID:10016094-1828281600-1828287000@cedarlane.org
SUMMARY:Caring Ministry Team Meeting
DESCRIPTION:We gather on the 2nd Wednesday of each month to coordinate the activities of the caring team. If you would like to talk to someone from the caring team\, please reach out.
URL:https://cedarlane.org/calendar/caring-ministry/2027-12-08/
CATEGORIES:Healing,Planning and Coordination
ATTACH;FMTTYPE=image/webp:https://cedarlane.org/wp-content/uploads/2025/10/caringteam.webp
ORGANIZER;CN="Betsy Binkes and Kathleen Holmay":MAILTO:caringteam@cedarlane.org
END:VEVENT
BEGIN:VEVENT
DTSTART;TZID=America/New_York:20280112T160000
DTEND;TZID=America/New_York:20280112T173000
DTSTAMP:20260425T133848
CREATED:20250709T163033Z
LAST-MODIFIED:20251101T214336Z
UID:10016095-1831305600-1831311000@cedarlane.org
SUMMARY:Caring Ministry Team Meeting
DESCRIPTION:We gather on the 2nd Wednesday of each month to coordinate the activities of the caring team. If you would like to talk to someone from the caring team\, please reach out.
URL:https://cedarlane.org/calendar/caring-ministry/2028-01-12/
CATEGORIES:Healing,Planning and Coordination
ATTACH;FMTTYPE=image/webp:https://cedarlane.org/wp-content/uploads/2025/10/caringteam.webp
ORGANIZER;CN="Betsy Binkes and Kathleen Holmay":MAILTO:caringteam@cedarlane.org
END:VEVENT
BEGIN:VEVENT
DTSTART;TZID=America/New_York:20280209T160000
DTEND;TZID=America/New_York:20280209T173000
DTSTAMP:20260425T133848
CREATED:20250709T163033Z
LAST-MODIFIED:20251101T214336Z
UID:10016096-1833724800-1833730200@cedarlane.org
SUMMARY:Caring Ministry Team Meeting
DESCRIPTION:We gather on the 2nd Wednesday of each month to coordinate the activities of the caring team. If you would like to talk to someone from the caring team\, please reach out.
URL:https://cedarlane.org/calendar/caring-ministry/2028-02-09/
CATEGORIES:Healing,Planning and Coordination
ATTACH;FMTTYPE=image/webp:https://cedarlane.org/wp-content/uploads/2025/10/caringteam.webp
ORGANIZER;CN="Betsy Binkes and Kathleen Holmay":MAILTO:caringteam@cedarlane.org
END:VEVENT
BEGIN:VEVENT
DTSTART;TZID=America/New_York:20280308T160000
DTEND;TZID=America/New_York:20280308T173000
DTSTAMP:20260425T133848
CREATED:20250709T163033Z
LAST-MODIFIED:20251101T214336Z
UID:10016097-1836144000-1836149400@cedarlane.org
SUMMARY:Caring Ministry Team Meeting
DESCRIPTION:We gather on the 2nd Wednesday of each month to coordinate the activities of the caring team. If you would like to talk to someone from the caring team\, please reach out.
URL:https://cedarlane.org/calendar/caring-ministry/2028-03-08/
CATEGORIES:Healing,Planning and Coordination
ATTACH;FMTTYPE=image/webp:https://cedarlane.org/wp-content/uploads/2025/10/caringteam.webp
ORGANIZER;CN="Betsy Binkes and Kathleen Holmay":MAILTO:caringteam@cedarlane.org
END:VEVENT
BEGIN:VEVENT
DTSTART;TZID=America/New_York:20280412T160000
DTEND;TZID=America/New_York:20280412T173000
DTSTAMP:20260425T133848
CREATED:20250709T163033Z
LAST-MODIFIED:20251101T214336Z
UID:10016098-1839168000-1839173400@cedarlane.org
SUMMARY:Caring Ministry Team Meeting
DESCRIPTION:We gather on the 2nd Wednesday of each month to coordinate the activities of the caring team. If you would like to talk to someone from the caring team\, please reach out.
URL:https://cedarlane.org/calendar/caring-ministry/2028-04-12/
CATEGORIES:Healing,Planning and Coordination
ATTACH;FMTTYPE=image/webp:https://cedarlane.org/wp-content/uploads/2025/10/caringteam.webp
ORGANIZER;CN="Betsy Binkes and Kathleen Holmay":MAILTO:caringteam@cedarlane.org
END:VEVENT
BEGIN:VEVENT
DTSTART;TZID=America/New_York:20280510T160000
DTEND;TZID=America/New_York:20280510T173000
DTSTAMP:20260425T133848
CREATED:20250709T163033Z
LAST-MODIFIED:20251101T214336Z
UID:10016099-1841587200-1841592600@cedarlane.org
SUMMARY:Caring Ministry Team Meeting
DESCRIPTION:We gather on the 2nd Wednesday of each month to coordinate the activities of the caring team. If you would like to talk to someone from the caring team\, please reach out.
URL:https://cedarlane.org/calendar/caring-ministry/2028-05-10/
CATEGORIES:Healing,Planning and Coordination
ATTACH;FMTTYPE=image/webp:https://cedarlane.org/wp-content/uploads/2025/10/caringteam.webp
ORGANIZER;CN="Betsy Binkes and Kathleen Holmay":MAILTO:caringteam@cedarlane.org
END:VEVENT
BEGIN:VEVENT
DTSTART;TZID=America/New_York:20280614T160000
DTEND;TZID=America/New_York:20280614T173000
DTSTAMP:20260425T133848
CREATED:20250709T163033Z
LAST-MODIFIED:20251101T214336Z
UID:10016100-1844611200-1844616600@cedarlane.org
SUMMARY:Caring Ministry Team Meeting
DESCRIPTION:We gather on the 2nd Wednesday of each month to coordinate the activities of the caring team. If you would like to talk to someone from the caring team\, please reach out.
URL:https://cedarlane.org/calendar/caring-ministry/2028-06-14/
CATEGORIES:Healing,Planning and Coordination
ATTACH;FMTTYPE=image/webp:https://cedarlane.org/wp-content/uploads/2025/10/caringteam.webp
ORGANIZER;CN="Betsy Binkes and Kathleen Holmay":MAILTO:caringteam@cedarlane.org
END:VEVENT
BEGIN:VEVENT
DTSTART;TZID=America/New_York:20280712T160000
DTEND;TZID=America/New_York:20280712T173000
DTSTAMP:20260425T133848
CREATED:20250709T163033Z
LAST-MODIFIED:20251101T214336Z
UID:10016101-1847030400-1847035800@cedarlane.org
SUMMARY:Caring Ministry Team Meeting
DESCRIPTION:We gather on the 2nd Wednesday of each month to coordinate the activities of the caring team. If you would like to talk to someone from the caring team\, please reach out.
URL:https://cedarlane.org/calendar/caring-ministry/2028-07-12/
CATEGORIES:Healing,Planning and Coordination
ATTACH;FMTTYPE=image/webp:https://cedarlane.org/wp-content/uploads/2025/10/caringteam.webp
ORGANIZER;CN="Betsy Binkes and Kathleen Holmay":MAILTO:caringteam@cedarlane.org
END:VEVENT
BEGIN:VEVENT
DTSTART;TZID=America/New_York:20280809T160000
DTEND;TZID=America/New_York:20280809T173000
DTSTAMP:20260425T133848
CREATED:20250709T163033Z
LAST-MODIFIED:20251101T214336Z
UID:10016102-1849449600-1849455000@cedarlane.org
SUMMARY:Caring Ministry Team Meeting
DESCRIPTION:We gather on the 2nd Wednesday of each month to coordinate the activities of the caring team. If you would like to talk to someone from the caring team\, please reach out.
URL:https://cedarlane.org/calendar/caring-ministry/2028-08-09/
CATEGORIES:Healing,Planning and Coordination
ATTACH;FMTTYPE=image/webp:https://cedarlane.org/wp-content/uploads/2025/10/caringteam.webp
ORGANIZER;CN="Betsy Binkes and Kathleen Holmay":MAILTO:caringteam@cedarlane.org
END:VEVENT
BEGIN:VEVENT
DTSTART;TZID=America/New_York:20280913T160000
DTEND;TZID=America/New_York:20280913T173000
DTSTAMP:20260425T133848
CREATED:20250709T163033Z
LAST-MODIFIED:20251101T214336Z
UID:10016103-1852473600-1852479000@cedarlane.org
SUMMARY:Caring Ministry Team Meeting
DESCRIPTION:We gather on the 2nd Wednesday of each month to coordinate the activities of the caring team. If you would like to talk to someone from the caring team\, please reach out.
URL:https://cedarlane.org/calendar/caring-ministry/2028-09-13/
CATEGORIES:Healing,Planning and Coordination
ATTACH;FMTTYPE=image/webp:https://cedarlane.org/wp-content/uploads/2025/10/caringteam.webp
ORGANIZER;CN="Betsy Binkes and Kathleen Holmay":MAILTO:caringteam@cedarlane.org
END:VEVENT
BEGIN:VEVENT
DTSTART;TZID=America/New_York:20281011T160000
DTEND;TZID=America/New_York:20281011T173000
DTSTAMP:20260425T133848
CREATED:20250709T163033Z
LAST-MODIFIED:20251101T214336Z
UID:10016104-1854892800-1854898200@cedarlane.org
SUMMARY:Caring Ministry Team Meeting
DESCRIPTION:We gather on the 2nd Wednesday of each month to coordinate the activities of the caring team. If you would like to talk to someone from the caring team\, please reach out.
URL:https://cedarlane.org/calendar/caring-ministry/2028-10-11/
CATEGORIES:Healing,Planning and Coordination
ATTACH;FMTTYPE=image/webp:https://cedarlane.org/wp-content/uploads/2025/10/caringteam.webp
ORGANIZER;CN="Betsy Binkes and Kathleen Holmay":MAILTO:caringteam@cedarlane.org
END:VEVENT
END:VCALENDAR