BEGIN:VCALENDAR
VERSION:2.0
PRODID:-//Cedar Lane Unitarian Universalist Congregation - ECPv6.15.20//NONSGML v1.0//EN
CALSCALE:GREGORIAN
METHOD:PUBLISH
X-WR-CALNAME:Cedar Lane Unitarian Universalist Congregation
X-ORIGINAL-URL:https://cedarlane.org
X-WR-CALDESC:Events for Cedar Lane Unitarian Universalist Congregation
REFRESH-INTERVAL;VALUE=DURATION:PT1H
X-Robots-Tag:noindex
X-PUBLISHED-TTL:PT1H
BEGIN:VTIMEZONE
TZID:America/New_York
BEGIN:DAYLIGHT
TZOFFSETFROM:-0500
TZOFFSETTO:-0400
TZNAME:EDT
DTSTART:20250309T070000
END:DAYLIGHT
BEGIN:STANDARD
TZOFFSETFROM:-0400
TZOFFSETTO:-0500
TZNAME:EST
DTSTART:20251102T060000
END:STANDARD
BEGIN:DAYLIGHT
TZOFFSETFROM:-0500
TZOFFSETTO:-0400
TZNAME:EDT
DTSTART:20260308T070000
END:DAYLIGHT
BEGIN:STANDARD
TZOFFSETFROM:-0400
TZOFFSETTO:-0500
TZNAME:EST
DTSTART:20261101T060000
END:STANDARD
BEGIN:DAYLIGHT
TZOFFSETFROM:-0500
TZOFFSETTO:-0400
TZNAME:EDT
DTSTART:20270314T070000
END:DAYLIGHT
BEGIN:STANDARD
TZOFFSETFROM:-0400
TZOFFSETTO:-0500
TZNAME:EST
DTSTART:20271107T060000
END:STANDARD
END:VTIMEZONE
BEGIN:VEVENT
DTSTART;TZID=America/New_York:20260412T090000
DTEND;TZID=America/New_York:20260412T103000
DTSTAMP:20260424T100514
CREATED:20251029T194321Z
LAST-MODIFIED:20251110T145939Z
UID:10016393-1775984400-1775989800@cedarlane.org
SUMMARY:Food and Diaper Drop-off
DESCRIPTION:You are invited to bring food and diapers and place them in the collection bin found in the chapel hallway. Volunteers collect these items on Sunday mornings and take them to our partner\, Mid-County United Ministries (MUM)\, to be distributed in the community. \nYour donations are greatly appreciated! \nCurrent Urgent Needs\n\nThree children need diapers sizes 3 and 5-6T pull-ups\n\nOn-going Needs\n\nHot/Cold Cereals\nCanned Fruits/Vegetables\nDry/Canned Beans\, Pastas\, Rice\nPasta Sauces\nCanned Meats/Tuna\nSoups/Stews/Chilies\nPeanut Butter/Jelly\nDiet Specific Foods\nToiletries\nDiapers and wipes\nFresh produce
URL:https://cedarlane.org/calendar/food-and-diaper-drop-off/2026-04-12/
LOCATION:Cedar Lane UU Congregation\, 9601 Cedar Ln\, Bethesda\, Maryland\, 20814
CATEGORIES:Activism & Justice,Volunteer Opportunity
ATTACH;FMTTYPE=image/webp:https://cedarlane.org/wp-content/uploads/2025/10/MUM.webp
ORGANIZER;CN="Roger DeLucia":MAILTO:mum@cedarlane.org
END:VEVENT
BEGIN:VEVENT
DTSTART;TZID=America/New_York:20260412T093000
DTEND;TZID=America/New_York:20260412T222000
DTSTAMP:20260424T100514
CREATED:20250822T182728Z
LAST-MODIFIED:20251110T141403Z
UID:10017487-1775986200-1776032400@cedarlane.org
SUMMARY:Quiet Callings
DESCRIPTION:Gather with us on Sunday mornings at 9:30 in the Chalice House for gentle music\, meditation\, and quiet reflection. This is a welcoming space for renewal\, sharing what’s on our hearts\, and finding connection\, healing\, and peace.
URL:https://cedarlane.org/calendar/quiet-callings/2026-04-12/
LOCATION:Chalice House\, 9601 Cedar Ln\, Bethesda\, MD\, 20814\, United States
CATEGORIES:Newcomers,Spirituality
ATTACH;FMTTYPE=image/png:https://cedarlane.org/wp-content/uploads/2025/08/Quiet-Callings-AM-1.png
GEO:39.013542080457;-77.088487850511
X-APPLE-STRUCTURED-LOCATION;VALUE=URI;X-ADDRESS=Chalice House 9601 Cedar Ln Bethesda MD 20814 United States;X-APPLE-RADIUS=500;X-TITLE=9601 Cedar Ln:geo:-77.088487850511,39.013542080457
END:VEVENT
BEGIN:VEVENT
DTSTART;TZID=America/New_York:20260412T103000
DTEND;TZID=America/New_York:20260412T130000
DTSTAMP:20260424T100514
CREATED:20260325T193225Z
LAST-MODIFIED:20260328T165534Z
UID:10018024-1775989800-1775998800@cedarlane.org
SUMMARY:Holi at Cedar Lane
DESCRIPTION:The Festival of Colors\nJoin us for a joyful Holi celebration. Our Spirit Experience will include uplifting\, energizing music by Ram Viswanathan and Ashwin Baliga\, inviting us into movement and renewal. \nAt 12:15 PM\, we’ll continue the celebration outdoors with playing colors. All ages are welcome as we gather in laughter\, connection\, and shared joy. \nBring a change of clothes and a towel\, and come ready to celebrate and get messy! \nInvite friends and neighbors! \n\n	\n		\n			\n				\n					RSVP TODAY
URL:https://cedarlane.org/calendar/holi-at-cedar-lane/
LOCATION:Cedar Lane UU Congregation\, 9601 Cedar Ln\, Bethesda\, Maryland\, 20814
CATEGORIES:After the Service,Families,Fun,In the Spotlight,Livestream Event,Newcomers,Spirituality,Youth
ATTACH;FMTTYPE=image/webp:https://cedarlane.org/wp-content/uploads/2026/03/Screenshot-2026-03-25-at-3.28.30-PM.webp
END:VEVENT
BEGIN:VEVENT
DTSTART;TZID=America/New_York:20260412T173000
DTEND;TZID=America/New_York:20260412T190000
DTSTAMP:20260424T100514
CREATED:20250915T143439Z
LAST-MODIFIED:20251101T214303Z
UID:10014516-1776015000-1776020400@cedarlane.org
SUMMARY:High-Schoolers Hang Out
DESCRIPTION:Join fellow teens on Sunday Evenings in room 2 for this weekly get-together — Enjoy food\, music (choir & instrumental breakout groups)\, games\, crafts\, & space to chill with friends.
URL:https://cedarlane.org/calendar/high-schoolers-hang-out/2026-04-12/
LOCATION:Cedar Lane UU Congregation\, 9601 Cedar Ln\, Bethesda\, Maryland\, 20814
CATEGORIES:Newcomers,Youth
ATTACH;FMTTYPE=image/webp:https://cedarlane.org/wp-content/uploads/2025/10/hangout.webp
ORGANIZER;CN="Regina Dull":MAILTO:youthhangouts@cedarlane.org
END:VEVENT
BEGIN:VEVENT
DTSTART;TZID=America/New_York:20260413T100000
DTEND;TZID=America/New_York:20260413T120000
DTSTAMP:20260424T100514
CREATED:20250709T163356Z
LAST-MODIFIED:20251101T214305Z
UID:10015518-1776074400-1776081600@cedarlane.org
SUMMARY:Science and Religion
DESCRIPTION:
URL:https://cedarlane.org/calendar/science-religion-discussion/2026-04-13/
CATEGORIES:Learn and Grow
ATTACH;FMTTYPE=image/webp:https://cedarlane.org/wp-content/uploads/2025/10/science.webp
END:VEVENT
BEGIN:VEVENT
DTSTART;TZID=America/New_York:20260413T193000
DTEND;TZID=America/New_York:20260413T203000
DTSTAMP:20260424T100514
CREATED:20250828T202129Z
LAST-MODIFIED:20251101T214304Z
UID:10014251-1776108600-1776112200@cedarlane.org
SUMMARY:Meditation
DESCRIPTION:This online meditation class focuses on finding peace of mind and stress reduction through the teachings of the Buddha on mindfulness and compassion. All levels are welcome to our drop in class. \n\n	\n		\n			\n				\n					Join via Zoom\n				\n			\n		\n	\n\n 
URL:https://cedarlane.org/calendar/meditation-26/2026-04-13/
CATEGORIES:Healing,Spirituality
ATTACH;FMTTYPE=image/webp:https://cedarlane.org/wp-content/uploads/2025/10/meditation.webp
ORGANIZER;CN="Carole Rogentine":MAILTO:meditation@cedarlane.org
LOCATION:https://cedarlane.org/calendar/meditation-26/2026-04-13/
END:VEVENT
BEGIN:VEVENT
DTSTART;TZID=America/New_York:20260414T100000
DTEND;TZID=America/New_York:20260414T120000
DTSTAMP:20260424T100515
CREATED:20251029T005217Z
LAST-MODIFIED:20251101T214300Z
UID:10016715-1776160800-1776168000@cedarlane.org
SUMMARY:Alliance Bridge Club
DESCRIPTION:Join us to play Bridge weekly on Tuesday from 10am-noon in the Fellowship Hall.
URL:https://cedarlane.org/calendar/alliance-bridge-club/2026-04-14/
LOCATION:Fellowship Hall\, 9601 Cedar Ln\, Bethesda\, MD\, 20814\, United States
CATEGORIES:Fun
ATTACH;FMTTYPE=image/webp:https://cedarlane.org/wp-content/uploads/2025/10/alessandro-bogliari-43LcbfI-tok-unsplash.webp
END:VEVENT
BEGIN:VEVENT
DTSTART;TZID=America/New_York:20260414T173000
DTEND;TZID=America/New_York:20260414T190000
DTSTAMP:20260424T100515
CREATED:20250923T161713Z
LAST-MODIFIED:20251101T214303Z
UID:10014780-1776187800-1776193200@cedarlane.org
SUMMARY:French Choir of Washington children's choir rehearsal
DESCRIPTION:
URL:https://cedarlane.org/calendar/french-choir-of-washington-childrens-choir-rehearsal/2026-04-14/
CATEGORIES:External (rental)
ATTACH;FMTTYPE=image/webp:https://cedarlane.org/wp-content/uploads/2025/10/frenchchoir-youth.webp
END:VEVENT
BEGIN:VEVENT
DTSTART;TZID=America/New_York:20260414T200000
DTEND;TZID=America/New_York:20260414T220000
DTSTAMP:20260424T100515
CREATED:20250923T161807Z
LAST-MODIFIED:20251101T214303Z
UID:10014838-1776196800-1776204000@cedarlane.org
SUMMARY:French Choir of Washington adult choir rehearsal
DESCRIPTION:
URL:https://cedarlane.org/calendar/french-choir-of-washington-adult/2026-04-14/
CATEGORIES:External (rental)
ATTACH;FMTTYPE=image/webp:https://cedarlane.org/wp-content/uploads/2025/10/frenchchoir-adult.webp
END:VEVENT
BEGIN:VEVENT
DTSTART;TZID=America/New_York:20260415T180000
DTEND;TZID=America/New_York:20260415T193000
DTSTAMP:20260424T100515
CREATED:20250821T164743Z
LAST-MODIFIED:20260415T144725Z
UID:10015947-1776276000-1776281400@cedarlane.org
SUMMARY:Welcome Wednesday
DESCRIPTION:Come as you are and enjoy good food\, conversation\, and community activities with friends old and new. We meet on the 3rd Wednesday of each month to nourish body and spirit\, and build lasting connections. \nWhen RSVP’ing\, let us know if you can volunteer to bring a dish to share. \nThen stay with us at 7pm (or just come at 7pm) for our drop-in Newcomers Soul Circle. \nGet more info and let us know you’re coming – or just show up! \n\n	\n		\n			\n				\n					RSVP
URL:https://cedarlane.org/calendar/welcome-wednesday-4/2026-04-15/
LOCATION:Fellowship Hall\, 9601 Cedar Ln\, Bethesda\, MD\, 20814\, United States
CATEGORIES:In the Spotlight,Newcomers,Volunteer Opportunity
ATTACH;FMTTYPE=image/webp:https://cedarlane.org/wp-content/uploads/2025/10/welcome-wednesday.webp
ORGANIZER;CN="Nicolle Singer":MAILTO:nsinger@cedarlane.org
END:VEVENT
BEGIN:VEVENT
DTSTART;TZID=America/New_York:20260415T190000
DTEND;TZID=America/New_York:20260415T210000
DTSTAMP:20260424T100515
CREATED:20251031T201525Z
LAST-MODIFIED:20251112T050343Z
UID:10017737-1776279600-1776286800@cedarlane.org
SUMMARY:Newcomers Soul Circle
DESCRIPTION:The Newcomers Soul Circle is facilitated by Rev. Dayna Edwards for people who started attending in 2024 or 2025. Soul Circles meet once per month and are a great way to get connected and enjoy spiritual exploration with a small group. Come early to attend the Welcome Wednesday potluck before the meeting.
URL:https://cedarlane.org/calendar/newcomers-circle/2026-04-15/
LOCATION:Library\, 9601 Cedar Ln\, Bethesda\, MD\, 20814\, United States
CATEGORIES:Newcomers
ATTACH;FMTTYPE=image/webp:https://cedarlane.org/wp-content/uploads/2025/10/small-groups.webp
END:VEVENT
BEGIN:VEVENT
DTSTART;TZID=America/New_York:20260415T193000
DTEND;TZID=America/New_York:20260415T213000
DTSTAMP:20260424T100515
CREATED:20250825T185252Z
LAST-MODIFIED:20251112T052706Z
UID:10001843-1776281400-1776288600@cedarlane.org
SUMMARY:Adult Choir Rehearsal
DESCRIPTION:Join the Cedar Lane choir for the 2025-26 season! \nThere’s always a place for you in the choir. Young\, old\, new\, experienced\, and lesser experienced all welcome! Individual training can be provided. Come share the joy of singing with your fellow Cedar Lane members and friends to provide regular music for worship services and other events throughout the church year. Rehearsals meet on Wednesdays at 7:30pm in the choir loft (upstairs from the sanctuary). \nFor more information\, please contact Michael Holmes\, director of Music and Arts\, at mholmes@cedarlane.org.
URL:https://cedarlane.org/calendar/adult-choir-rehearsal/2026-04-15/
LOCATION:Sanctuary\, 9601 Cedar Ln\, Bethesda\, MD\, 20814\, United States
CATEGORIES:Music
ATTACH;FMTTYPE=image/webp:https://cedarlane.org/wp-content/uploads/2025/10/choir.webp
ORGANIZER;CN="Michael Holmes":MAILTO:mholmes@cedarlane.org
END:VEVENT
BEGIN:VEVENT
DTSTART;TZID=America/New_York:20260416T110000
DTEND;TZID=America/New_York:20260416T123000
DTSTAMP:20260424T100515
CREATED:20250709T163135Z
LAST-MODIFIED:20251101T214306Z
UID:10016012-1776337200-1776342600@cedarlane.org
SUMMARY:Alliance Board Meeting
DESCRIPTION:
URL:https://cedarlane.org/calendar/alliance-board-meeting/2026-04-16/
CATEGORIES:Planning and Coordination
ATTACH;FMTTYPE=image/webp:https://cedarlane.org/wp-content/uploads/2025/10/alliance-board.webp
END:VEVENT
BEGIN:VEVENT
DTSTART;TZID=America/New_York:20260416T180000
DTEND;TZID=America/New_York:20260416T203000
DTSTAMP:20260424T100515
CREATED:20250825T185702Z
LAST-MODIFIED:20251101T214304Z
UID:10011079-1776362400-1776371400@cedarlane.org
SUMMARY:Bell-choir Rehearsal
DESCRIPTION:Join the Cedar Lane bell choir! \nFor information\, please contact Michael Holmes\, director of Music and Arts\, at mholmes@cedarlane.org.
URL:https://cedarlane.org/calendar/bell-choir-rehearsal/2026-04-16/
LOCATION:Sanctuary\, 9601 Cedar Ln\, Bethesda\, MD\, 20814\, United States
CATEGORIES:Music
ATTACH;FMTTYPE=image/webp:https://cedarlane.org/wp-content/uploads/2025/10/bell-choir.webp
ORGANIZER;CN="Michael Holmes":MAILTO:mholmes@cedarlane.org
END:VEVENT
BEGIN:VEVENT
DTSTART;TZID=America/New_York:20260416T184500
DTEND;TZID=America/New_York:20260416T201500
DTSTAMP:20260424T100515
CREATED:20250709T163135Z
LAST-MODIFIED:20251101T214306Z
UID:10015823-1776365100-1776370500@cedarlane.org
SUMMARY:Financial Policy Committee Meeting
DESCRIPTION:
URL:https://cedarlane.org/calendar/financial-policy/2026-04-16/
CATEGORIES:Planning and Coordination
ATTACH;FMTTYPE=image/webp:https://cedarlane.org/wp-content/uploads/2025/10/financial-policy.webp
LOCATION:https://cedarlane.org/calendar/financial-policy/2026-04-16/
END:VEVENT
BEGIN:VEVENT
DTSTART;TZID=America/New_York:20260417T140000
DTEND;TZID=America/New_York:20260417T160000
DTSTAMP:20260424T100515
CREATED:20260406T203659Z
LAST-MODIFIED:20260406T203701Z
UID:10000774-1776434400-1776441600@cedarlane.org
SUMMARY:Fiber Arts Club
DESCRIPTION:Each Friday Cedar Lane fiber artists gather on zoom for 2 hours of creativity and connection. All are welcome! \n\n	\n		\n			\n				\n					Join via Zoom
URL:https://cedarlane.org/calendar/fiber-arts-club-6-2/2026-04-17/
CATEGORIES:Fun
ATTACH;FMTTYPE=image/webp:https://cedarlane.org/wp-content/uploads/2025/10/fiber-arts.webp
ORGANIZER;CN="Fiber Arts Coordinator":MAILTO:fiberarts@cedarlane.org
LOCATION:https://cedarlane.org/calendar/fiber-arts-club-6-2/2026-04-17/
END:VEVENT
BEGIN:VEVENT
DTSTART;TZID=America/New_York:20260419T090000
DTEND;TZID=America/New_York:20260419T100000
DTSTAMP:20260424T100515
CREATED:20251029T020321Z
LAST-MODIFIED:20260122T200256Z
UID:10017138-1776589200-1776592800@cedarlane.org
SUMMARY:JourneyWomen
DESCRIPTION:We experience silence and share what is important in our lives through readings from varied sources. We listen\, witness\, and offer nonverbal support. We light candles for our departed group members and other ancestors. Sometimes we speak into the silence and other times to the group with a spiritual or otherwise personal check-in. We sometimes use the monthly Soul Circles packet of resources as a springboard for our readings. Probably more often\, each of us brings poetry\, book excerpts\, a video clip\, or a photo whose meaning we want to explore. \n\n\n\nIn our reflective listening\, we privilege humility toward the natural world as much as we do human cultures. \n\nWe gather in person and online on the 1st and 3rd Sundays at 9:00 am Eastern. You are welcome to join us. Please contact us for zoom link info.
URL:https://cedarlane.org/calendar/journeywomen-2/2026-04-19/
CATEGORIES:Spirituality,Women
ATTACH;FMTTYPE=image/webp:https://cedarlane.org/wp-content/uploads/2025/10/sarah-brown-cVt0u781VGo-unsplash.webp
ORGANIZER;CN="JourneyWomen":MAILTO:journeywomen@cedarlane.org
LOCATION:https://cedarlane.org/calendar/journeywomen-2/2026-04-19/
END:VEVENT
BEGIN:VEVENT
DTSTART;TZID=America/New_York:20260419T090000
DTEND;TZID=America/New_York:20260419T103000
DTSTAMP:20260424T100515
CREATED:20251029T194321Z
LAST-MODIFIED:20251110T145939Z
UID:10016394-1776589200-1776594600@cedarlane.org
SUMMARY:Food and Diaper Drop-off
DESCRIPTION:You are invited to bring food and diapers and place them in the collection bin found in the chapel hallway. Volunteers collect these items on Sunday mornings and take them to our partner\, Mid-County United Ministries (MUM)\, to be distributed in the community. \nYour donations are greatly appreciated! \nCurrent Urgent Needs\n\nThree children need diapers sizes 3 and 5-6T pull-ups\n\nOn-going Needs\n\nHot/Cold Cereals\nCanned Fruits/Vegetables\nDry/Canned Beans\, Pastas\, Rice\nPasta Sauces\nCanned Meats/Tuna\nSoups/Stews/Chilies\nPeanut Butter/Jelly\nDiet Specific Foods\nToiletries\nDiapers and wipes\nFresh produce
URL:https://cedarlane.org/calendar/food-and-diaper-drop-off/2026-04-19/
LOCATION:Cedar Lane UU Congregation\, 9601 Cedar Ln\, Bethesda\, Maryland\, 20814
CATEGORIES:Activism & Justice,Volunteer Opportunity
ATTACH;FMTTYPE=image/webp:https://cedarlane.org/wp-content/uploads/2025/10/MUM.webp
ORGANIZER;CN="Roger DeLucia":MAILTO:mum@cedarlane.org
END:VEVENT
BEGIN:VEVENT
DTSTART;TZID=America/New_York:20260419T093000
DTEND;TZID=America/New_York:20260419T222000
DTSTAMP:20260424T100515
CREATED:20250822T182728Z
LAST-MODIFIED:20251110T141403Z
UID:10017488-1776591000-1776637200@cedarlane.org
SUMMARY:Quiet Callings
DESCRIPTION:Gather with us on Sunday mornings at 9:30 in the Chalice House for gentle music\, meditation\, and quiet reflection. This is a welcoming space for renewal\, sharing what’s on our hearts\, and finding connection\, healing\, and peace.
URL:https://cedarlane.org/calendar/quiet-callings/2026-04-19/
LOCATION:Chalice House\, 9601 Cedar Ln\, Bethesda\, MD\, 20814\, United States
CATEGORIES:Newcomers,Spirituality
ATTACH;FMTTYPE=image/png:https://cedarlane.org/wp-content/uploads/2025/08/Quiet-Callings-AM-1.png
GEO:39.013542080457;-77.088487850511
X-APPLE-STRUCTURED-LOCATION;VALUE=URI;X-ADDRESS=Chalice House 9601 Cedar Ln Bethesda MD 20814 United States;X-APPLE-RADIUS=500;X-TITLE=9601 Cedar Ln:geo:-77.088487850511,39.013542080457
END:VEVENT
BEGIN:VEVENT
DTSTART;TZID=America/New_York:20260419T103000
DTEND;TZID=America/New_York:20260419T113000
DTSTAMP:20260424T100515
CREATED:20251102T021042Z
LAST-MODIFIED:20251110T145900Z
UID:10000043-1776594600-1776598200@cedarlane.org
SUMMARY:Sunday Worship Service
DESCRIPTION:Join us on Sundays in person or online for inspiring music\, thoughtful reflections\, and a warm\, welcoming community. \n\n	\n		\n			\n				\n					This Week's Worship Topic\n				\n			\n		\n	\n \nYou are welcome to join us!
URL:https://cedarlane.org/calendar/sunday-worship-service-3/2026-04-19/
LOCATION:Sanctuary\, 9601 Cedar Ln\, Bethesda\, MD\, 20814\, United States
CATEGORIES:Livestream Event,Newcomers,Spirituality,Youth
ATTACH;FMTTYPE=image/jpeg:https://cedarlane.org/wp-content/uploads/2025/05/2017cedarlane-530.jpg
END:VEVENT
BEGIN:VEVENT
DTSTART;TZID=America/New_York:20260419T120000
DTEND;TZID=America/New_York:20260419T130000
DTSTAMP:20260424T100515
CREATED:20250709T163151Z
LAST-MODIFIED:20251116T145317Z
UID:10015885-1776600000-1776603600@cedarlane.org
SUMMARY:Member Engagement and Connection Conversations
DESCRIPTION:
URL:https://cedarlane.org/calendar/member-connection/2026-04-19/
CATEGORIES:After the Service,Newcomers
ATTACH;FMTTYPE=image/webp:https://cedarlane.org/wp-content/uploads/2025/10/newcomers.webp
END:VEVENT
BEGIN:VEVENT
DTSTART;TZID=America/New_York:20260419T173000
DTEND;TZID=America/New_York:20260419T190000
DTSTAMP:20260424T100515
CREATED:20250915T143439Z
LAST-MODIFIED:20251101T214303Z
UID:10014517-1776619800-1776625200@cedarlane.org
SUMMARY:High-Schoolers Hang Out
DESCRIPTION:Join fellow teens on Sunday Evenings in room 2 for this weekly get-together — Enjoy food\, music (choir & instrumental breakout groups)\, games\, crafts\, & space to chill with friends.
URL:https://cedarlane.org/calendar/high-schoolers-hang-out/2026-04-19/
LOCATION:Cedar Lane UU Congregation\, 9601 Cedar Ln\, Bethesda\, Maryland\, 20814
CATEGORIES:Newcomers,Youth
ATTACH;FMTTYPE=image/webp:https://cedarlane.org/wp-content/uploads/2025/10/hangout.webp
ORGANIZER;CN="Regina Dull":MAILTO:youthhangouts@cedarlane.org
END:VEVENT
BEGIN:VEVENT
DTSTART;TZID=America/New_York:20260420T100000
DTEND;TZID=America/New_York:20260420T120000
DTSTAMP:20260424T100515
CREATED:20250709T163356Z
LAST-MODIFIED:20251101T214305Z
UID:10015519-1776679200-1776686400@cedarlane.org
SUMMARY:Science and Religion
DESCRIPTION:
URL:https://cedarlane.org/calendar/science-religion-discussion/2026-04-20/
CATEGORIES:Learn and Grow
ATTACH;FMTTYPE=image/webp:https://cedarlane.org/wp-content/uploads/2025/10/science.webp
END:VEVENT
BEGIN:VEVENT
DTSTART;TZID=America/New_York:20260420T193000
DTEND;TZID=America/New_York:20260420T203000
DTSTAMP:20260424T100515
CREATED:20250828T202129Z
LAST-MODIFIED:20251101T214304Z
UID:10014252-1776713400-1776717000@cedarlane.org
SUMMARY:Meditation
DESCRIPTION:This online meditation class focuses on finding peace of mind and stress reduction through the teachings of the Buddha on mindfulness and compassion. All levels are welcome to our drop in class. \n\n	\n		\n			\n				\n					Join via Zoom\n				\n			\n		\n	\n \n 
URL:https://cedarlane.org/calendar/meditation-26/2026-04-20/
CATEGORIES:Healing,Spirituality
ATTACH;FMTTYPE=image/webp:https://cedarlane.org/wp-content/uploads/2025/10/meditation.webp
ORGANIZER;CN="Carole Rogentine":MAILTO:meditation@cedarlane.org
LOCATION:https://cedarlane.org/calendar/meditation-26/2026-04-20/
END:VEVENT
BEGIN:VEVENT
DTSTART;TZID=America/New_York:20260421T100000
DTEND;TZID=America/New_York:20260421T120000
DTSTAMP:20260424T100515
CREATED:20251029T005217Z
LAST-MODIFIED:20251101T214300Z
UID:10016716-1776765600-1776772800@cedarlane.org
SUMMARY:Alliance Bridge Club
DESCRIPTION:Join us to play Bridge weekly on Tuesday from 10am-noon in the Fellowship Hall.
URL:https://cedarlane.org/calendar/alliance-bridge-club/2026-04-21/
LOCATION:Fellowship Hall\, 9601 Cedar Ln\, Bethesda\, MD\, 20814\, United States
CATEGORIES:Fun
ATTACH;FMTTYPE=image/webp:https://cedarlane.org/wp-content/uploads/2025/10/alessandro-bogliari-43LcbfI-tok-unsplash.webp
END:VEVENT
BEGIN:VEVENT
DTSTART;TZID=America/New_York:20260421T173000
DTEND;TZID=America/New_York:20260421T190000
DTSTAMP:20260424T100515
CREATED:20250923T161713Z
LAST-MODIFIED:20251101T214303Z
UID:10014781-1776792600-1776798000@cedarlane.org
SUMMARY:French Choir of Washington children's choir rehearsal
DESCRIPTION:
URL:https://cedarlane.org/calendar/french-choir-of-washington-childrens-choir-rehearsal/2026-04-21/
CATEGORIES:External (rental)
ATTACH;FMTTYPE=image/webp:https://cedarlane.org/wp-content/uploads/2025/10/frenchchoir-youth.webp
END:VEVENT
BEGIN:VEVENT
DTSTART;TZID=America/New_York:20260421T190000
DTEND;TZID=America/New_York:20260421T210000
DTSTAMP:20260424T100515
CREATED:20250709T163120Z
LAST-MODIFIED:20251101T214306Z
UID:10015430-1776798000-1776805200@cedarlane.org
SUMMARY:Board Meeting
DESCRIPTION:
URL:https://cedarlane.org/calendar/bot/2026-04-21/
CATEGORIES:Planning and Coordination
ATTACH;FMTTYPE=image/webp:https://cedarlane.org/wp-content/uploads/2025/10/Board-Meeting.webp
LOCATION:https://cedarlane.org/calendar/bot/2026-04-21/
END:VEVENT
BEGIN:VEVENT
DTSTART;TZID=America/New_York:20260421T200000
DTEND;TZID=America/New_York:20260421T220000
DTSTAMP:20260424T100515
CREATED:20250923T161807Z
LAST-MODIFIED:20251101T214303Z
UID:10014839-1776801600-1776808800@cedarlane.org
SUMMARY:French Choir of Washington adult choir rehearsal
DESCRIPTION:
URL:https://cedarlane.org/calendar/french-choir-of-washington-adult/2026-04-21/
CATEGORIES:External (rental)
ATTACH;FMTTYPE=image/webp:https://cedarlane.org/wp-content/uploads/2025/10/frenchchoir-adult.webp
END:VEVENT
BEGIN:VEVENT
DTSTART;TZID=America/New_York:20260422T193000
DTEND;TZID=America/New_York:20260422T213000
DTSTAMP:20260424T100515
CREATED:20250825T185252Z
LAST-MODIFIED:20251112T052706Z
UID:10001844-1776886200-1776893400@cedarlane.org
SUMMARY:Adult Choir Rehearsal
DESCRIPTION:Join the Cedar Lane choir for the 2025-26 season! \nThere’s always a place for you in the choir. Young\, old\, new\, experienced\, and lesser experienced all welcome! Individual training can be provided. Come share the joy of singing with your fellow Cedar Lane members and friends to provide regular music for worship services and other events throughout the church year. Rehearsals meet on Wednesdays at 7:30pm in the choir loft (upstairs from the sanctuary). \nFor more information\, please contact Michael Holmes\, director of Music and Arts\, at mholmes@cedarlane.org.
URL:https://cedarlane.org/calendar/adult-choir-rehearsal/2026-04-22/
LOCATION:Sanctuary\, 9601 Cedar Ln\, Bethesda\, MD\, 20814\, United States
CATEGORIES:Music
ATTACH;FMTTYPE=image/webp:https://cedarlane.org/wp-content/uploads/2025/10/choir.webp
ORGANIZER;CN="Michael Holmes":MAILTO:mholmes@cedarlane.org
END:VEVENT
BEGIN:VEVENT
DTSTART;TZID=America/New_York:20260423T180000
DTEND;TZID=America/New_York:20260423T203000
DTSTAMP:20260424T100515
CREATED:20250825T185702Z
LAST-MODIFIED:20251101T214304Z
UID:10011080-1776967200-1776976200@cedarlane.org
SUMMARY:Bell-choir Rehearsal
DESCRIPTION:Join the Cedar Lane bell choir! \nFor information\, please contact Michael Holmes\, director of Music and Arts\, at mholmes@cedarlane.org.
URL:https://cedarlane.org/calendar/bell-choir-rehearsal/2026-04-23/
LOCATION:Sanctuary\, 9601 Cedar Ln\, Bethesda\, MD\, 20814\, United States
CATEGORIES:Music
ATTACH;FMTTYPE=image/webp:https://cedarlane.org/wp-content/uploads/2025/10/bell-choir.webp
ORGANIZER;CN="Michael Holmes":MAILTO:mholmes@cedarlane.org
END:VEVENT
END:VCALENDAR