BEGIN:VCALENDAR
VERSION:2.0
PRODID:-//Cedar Lane Unitarian Universalist Congregation - ECPv6.15.20//NONSGML v1.0//EN
CALSCALE:GREGORIAN
METHOD:PUBLISH
X-ORIGINAL-URL:https://cedarlane.org
X-WR-CALDESC:Events for Cedar Lane Unitarian Universalist Congregation
REFRESH-INTERVAL;VALUE=DURATION:PT1H
X-Robots-Tag:noindex
X-PUBLISHED-TTL:PT1H
BEGIN:VTIMEZONE
TZID:America/New_York
BEGIN:DAYLIGHT
TZOFFSETFROM:-0500
TZOFFSETTO:-0400
TZNAME:EDT
DTSTART:20250309T070000
END:DAYLIGHT
BEGIN:STANDARD
TZOFFSETFROM:-0400
TZOFFSETTO:-0500
TZNAME:EST
DTSTART:20251102T060000
END:STANDARD
BEGIN:DAYLIGHT
TZOFFSETFROM:-0500
TZOFFSETTO:-0400
TZNAME:EDT
DTSTART:20260308T070000
END:DAYLIGHT
BEGIN:STANDARD
TZOFFSETFROM:-0400
TZOFFSETTO:-0500
TZNAME:EST
DTSTART:20261101T060000
END:STANDARD
BEGIN:DAYLIGHT
TZOFFSETFROM:-0500
TZOFFSETTO:-0400
TZNAME:EDT
DTSTART:20270314T070000
END:DAYLIGHT
BEGIN:STANDARD
TZOFFSETFROM:-0400
TZOFFSETTO:-0500
TZNAME:EST
DTSTART:20271107T060000
END:STANDARD
BEGIN:DAYLIGHT
TZOFFSETFROM:-0500
TZOFFSETTO:-0400
TZNAME:EDT
DTSTART:20280312T070000
END:DAYLIGHT
BEGIN:STANDARD
TZOFFSETFROM:-0400
TZOFFSETTO:-0500
TZNAME:EST
DTSTART:20281105T060000
END:STANDARD
BEGIN:DAYLIGHT
TZOFFSETFROM:-0500
TZOFFSETTO:-0400
TZNAME:EDT
DTSTART:20290311T070000
END:DAYLIGHT
BEGIN:STANDARD
TZOFFSETFROM:-0400
TZOFFSETTO:-0500
TZNAME:EST
DTSTART:20291104T060000
END:STANDARD
END:VTIMEZONE
BEGIN:VEVENT
DTSTART;TZID=America/New_York:20260505T190000
DTEND;TZID=America/New_York:20260505T200000
DTSTAMP:20260424T112510
CREATED:20250709T162955Z
LAST-MODIFIED:20251101T214337Z
UID:10016138-1778007600-1778011200@cedarlane.org
SUMMARY:Environmental Justice Ministry Team
DESCRIPTION:We meet online on the first Tuesday of each month. \nTo get connected to this group\, contact a coordinator.
URL:https://cedarlane.org/calendar/environmental-justice-meeting/2026-05-05/
CATEGORIES:Activism & Justice,Planning and Coordination
ATTACH;FMTTYPE=image/webp:https://cedarlane.org/wp-content/uploads/2025/10/EJM.webp
ORGANIZER;CN="Kathleen Holmay and Nancy Wilkerson":MAILTO:EJMT@cedarlane.org
LOCATION:https://cedarlane.org/calendar/environmental-justice-meeting/2026-05-05/
END:VEVENT
BEGIN:VEVENT
DTSTART;TZID=America/New_York:20260602T190000
DTEND;TZID=America/New_York:20260602T200000
DTSTAMP:20260424T112510
CREATED:20250709T162955Z
LAST-MODIFIED:20251101T214337Z
UID:10016139-1780426800-1780430400@cedarlane.org
SUMMARY:Environmental Justice Ministry Team
DESCRIPTION:We meet online on the first Tuesday of each month. \nTo get connected to this group\, contact a coordinator.
URL:https://cedarlane.org/calendar/environmental-justice-meeting/2026-06-02/
CATEGORIES:Activism & Justice,Planning and Coordination
ATTACH;FMTTYPE=image/webp:https://cedarlane.org/wp-content/uploads/2025/10/EJM.webp
ORGANIZER;CN="Kathleen Holmay and Nancy Wilkerson":MAILTO:EJMT@cedarlane.org
LOCATION:https://cedarlane.org/calendar/environmental-justice-meeting/2026-06-02/
END:VEVENT
BEGIN:VEVENT
DTSTART;TZID=America/New_York:20260707T190000
DTEND;TZID=America/New_York:20260707T200000
DTSTAMP:20260424T112510
CREATED:20250709T162955Z
LAST-MODIFIED:20251101T214337Z
UID:10016140-1783450800-1783454400@cedarlane.org
SUMMARY:Environmental Justice Ministry Team
DESCRIPTION:We meet online on the first Tuesday of each month. \nTo get connected to this group\, contact a coordinator.
URL:https://cedarlane.org/calendar/environmental-justice-meeting/2026-07-07/
CATEGORIES:Activism & Justice,Planning and Coordination
ATTACH;FMTTYPE=image/webp:https://cedarlane.org/wp-content/uploads/2025/10/EJM.webp
ORGANIZER;CN="Kathleen Holmay and Nancy Wilkerson":MAILTO:EJMT@cedarlane.org
LOCATION:https://cedarlane.org/calendar/environmental-justice-meeting/2026-07-07/
END:VEVENT
BEGIN:VEVENT
DTSTART;TZID=America/New_York:20260804T190000
DTEND;TZID=America/New_York:20260804T200000
DTSTAMP:20260424T112510
CREATED:20250709T162955Z
LAST-MODIFIED:20251101T214337Z
UID:10016141-1785870000-1785873600@cedarlane.org
SUMMARY:Environmental Justice Ministry Team
DESCRIPTION:We meet online on the first Tuesday of each month. \nTo get connected to this group\, contact a coordinator.
URL:https://cedarlane.org/calendar/environmental-justice-meeting/2026-08-04/
CATEGORIES:Activism & Justice,Planning and Coordination
ATTACH;FMTTYPE=image/webp:https://cedarlane.org/wp-content/uploads/2025/10/EJM.webp
ORGANIZER;CN="Kathleen Holmay and Nancy Wilkerson":MAILTO:EJMT@cedarlane.org
LOCATION:https://cedarlane.org/calendar/environmental-justice-meeting/2026-08-04/
END:VEVENT
BEGIN:VEVENT
DTSTART;TZID=America/New_York:20260901T190000
DTEND;TZID=America/New_York:20260901T200000
DTSTAMP:20260424T112510
CREATED:20250709T162955Z
LAST-MODIFIED:20251101T214337Z
UID:10016142-1788289200-1788292800@cedarlane.org
SUMMARY:Environmental Justice Ministry Team
DESCRIPTION:We meet online on the first Tuesday of each month. \nTo get connected to this group\, contact a coordinator.
URL:https://cedarlane.org/calendar/environmental-justice-meeting/2026-09-01/
CATEGORIES:Activism & Justice,Planning and Coordination
ATTACH;FMTTYPE=image/webp:https://cedarlane.org/wp-content/uploads/2025/10/EJM.webp
ORGANIZER;CN="Kathleen Holmay and Nancy Wilkerson":MAILTO:EJMT@cedarlane.org
LOCATION:https://cedarlane.org/calendar/environmental-justice-meeting/2026-09-01/
END:VEVENT
BEGIN:VEVENT
DTSTART;TZID=America/New_York:20261006T190000
DTEND;TZID=America/New_York:20261006T200000
DTSTAMP:20260424T112510
CREATED:20250709T162955Z
LAST-MODIFIED:20251101T214337Z
UID:10016143-1791313200-1791316800@cedarlane.org
SUMMARY:Environmental Justice Ministry Team
DESCRIPTION:We meet online on the first Tuesday of each month. \nTo get connected to this group\, contact a coordinator.
URL:https://cedarlane.org/calendar/environmental-justice-meeting/2026-10-06/
CATEGORIES:Activism & Justice,Planning and Coordination
ATTACH;FMTTYPE=image/webp:https://cedarlane.org/wp-content/uploads/2025/10/EJM.webp
ORGANIZER;CN="Kathleen Holmay and Nancy Wilkerson":MAILTO:EJMT@cedarlane.org
LOCATION:https://cedarlane.org/calendar/environmental-justice-meeting/2026-10-06/
END:VEVENT
BEGIN:VEVENT
DTSTART;TZID=America/New_York:20261103T190000
DTEND;TZID=America/New_York:20261103T200000
DTSTAMP:20260424T112510
CREATED:20250709T162955Z
LAST-MODIFIED:20251101T214337Z
UID:10016144-1793732400-1793736000@cedarlane.org
SUMMARY:Environmental Justice Ministry Team
DESCRIPTION:We meet online on the first Tuesday of each month. \nTo get connected to this group\, contact a coordinator.
URL:https://cedarlane.org/calendar/environmental-justice-meeting/2026-11-03/
CATEGORIES:Activism & Justice,Planning and Coordination
ATTACH;FMTTYPE=image/webp:https://cedarlane.org/wp-content/uploads/2025/10/EJM.webp
ORGANIZER;CN="Kathleen Holmay and Nancy Wilkerson":MAILTO:EJMT@cedarlane.org
LOCATION:https://cedarlane.org/calendar/environmental-justice-meeting/2026-11-03/
END:VEVENT
BEGIN:VEVENT
DTSTART;TZID=America/New_York:20261201T190000
DTEND;TZID=America/New_York:20261201T200000
DTSTAMP:20260424T112510
CREATED:20250709T162955Z
LAST-MODIFIED:20251101T214337Z
UID:10016145-1796151600-1796155200@cedarlane.org
SUMMARY:Environmental Justice Ministry Team
DESCRIPTION:We meet online on the first Tuesday of each month. \nTo get connected to this group\, contact a coordinator.
URL:https://cedarlane.org/calendar/environmental-justice-meeting/2026-12-01/
CATEGORIES:Activism & Justice,Planning and Coordination
ATTACH;FMTTYPE=image/webp:https://cedarlane.org/wp-content/uploads/2025/10/EJM.webp
ORGANIZER;CN="Kathleen Holmay and Nancy Wilkerson":MAILTO:EJMT@cedarlane.org
LOCATION:https://cedarlane.org/calendar/environmental-justice-meeting/2026-12-01/
END:VEVENT
BEGIN:VEVENT
DTSTART;TZID=America/New_York:20270105T190000
DTEND;TZID=America/New_York:20270105T200000
DTSTAMP:20260424T112510
CREATED:20250709T162955Z
LAST-MODIFIED:20251101T214337Z
UID:10016146-1799175600-1799179200@cedarlane.org
SUMMARY:Environmental Justice Ministry Team
DESCRIPTION:We meet online on the first Tuesday of each month. \nTo get connected to this group\, contact a coordinator.
URL:https://cedarlane.org/calendar/environmental-justice-meeting/2027-01-05/
CATEGORIES:Activism & Justice,Planning and Coordination
ATTACH;FMTTYPE=image/webp:https://cedarlane.org/wp-content/uploads/2025/10/EJM.webp
ORGANIZER;CN="Kathleen Holmay and Nancy Wilkerson":MAILTO:EJMT@cedarlane.org
LOCATION:https://cedarlane.org/calendar/environmental-justice-meeting/2027-01-05/
END:VEVENT
BEGIN:VEVENT
DTSTART;TZID=America/New_York:20270202T190000
DTEND;TZID=America/New_York:20270202T200000
DTSTAMP:20260424T112510
CREATED:20250709T162955Z
LAST-MODIFIED:20251101T214337Z
UID:10016147-1801594800-1801598400@cedarlane.org
SUMMARY:Environmental Justice Ministry Team
DESCRIPTION:We meet online on the first Tuesday of each month. \nTo get connected to this group\, contact a coordinator.
URL:https://cedarlane.org/calendar/environmental-justice-meeting/2027-02-02/
CATEGORIES:Activism & Justice,Planning and Coordination
ATTACH;FMTTYPE=image/webp:https://cedarlane.org/wp-content/uploads/2025/10/EJM.webp
ORGANIZER;CN="Kathleen Holmay and Nancy Wilkerson":MAILTO:EJMT@cedarlane.org
LOCATION:https://cedarlane.org/calendar/environmental-justice-meeting/2027-02-02/
END:VEVENT
BEGIN:VEVENT
DTSTART;TZID=America/New_York:20270302T190000
DTEND;TZID=America/New_York:20270302T200000
DTSTAMP:20260424T112510
CREATED:20250709T162955Z
LAST-MODIFIED:20251101T214337Z
UID:10016148-1804014000-1804017600@cedarlane.org
SUMMARY:Environmental Justice Ministry Team
DESCRIPTION:We meet online on the first Tuesday of each month. \nTo get connected to this group\, contact a coordinator.
URL:https://cedarlane.org/calendar/environmental-justice-meeting/2027-03-02/
CATEGORIES:Activism & Justice,Planning and Coordination
ATTACH;FMTTYPE=image/webp:https://cedarlane.org/wp-content/uploads/2025/10/EJM.webp
ORGANIZER;CN="Kathleen Holmay and Nancy Wilkerson":MAILTO:EJMT@cedarlane.org
LOCATION:https://cedarlane.org/calendar/environmental-justice-meeting/2027-03-02/
END:VEVENT
BEGIN:VEVENT
DTSTART;TZID=America/New_York:20270406T190000
DTEND;TZID=America/New_York:20270406T200000
DTSTAMP:20260424T112510
CREATED:20250709T162955Z
LAST-MODIFIED:20251101T214337Z
UID:10016149-1807038000-1807041600@cedarlane.org
SUMMARY:Environmental Justice Ministry Team
DESCRIPTION:We meet online on the first Tuesday of each month. \nTo get connected to this group\, contact a coordinator.
URL:https://cedarlane.org/calendar/environmental-justice-meeting/2027-04-06/
CATEGORIES:Activism & Justice,Planning and Coordination
ATTACH;FMTTYPE=image/webp:https://cedarlane.org/wp-content/uploads/2025/10/EJM.webp
ORGANIZER;CN="Kathleen Holmay and Nancy Wilkerson":MAILTO:EJMT@cedarlane.org
LOCATION:https://cedarlane.org/calendar/environmental-justice-meeting/2027-04-06/
END:VEVENT
BEGIN:VEVENT
DTSTART;TZID=America/New_York:20270504T190000
DTEND;TZID=America/New_York:20270504T200000
DTSTAMP:20260424T112510
CREATED:20250709T162955Z
LAST-MODIFIED:20251101T214337Z
UID:10016150-1809457200-1809460800@cedarlane.org
SUMMARY:Environmental Justice Ministry Team
DESCRIPTION:We meet online on the first Tuesday of each month. \nTo get connected to this group\, contact a coordinator.
URL:https://cedarlane.org/calendar/environmental-justice-meeting/2027-05-04/
CATEGORIES:Activism & Justice,Planning and Coordination
ATTACH;FMTTYPE=image/webp:https://cedarlane.org/wp-content/uploads/2025/10/EJM.webp
ORGANIZER;CN="Kathleen Holmay and Nancy Wilkerson":MAILTO:EJMT@cedarlane.org
LOCATION:https://cedarlane.org/calendar/environmental-justice-meeting/2027-05-04/
END:VEVENT
BEGIN:VEVENT
DTSTART;TZID=America/New_York:20270601T190000
DTEND;TZID=America/New_York:20270601T200000
DTSTAMP:20260424T112510
CREATED:20250709T162955Z
LAST-MODIFIED:20251101T214337Z
UID:10016151-1811876400-1811880000@cedarlane.org
SUMMARY:Environmental Justice Ministry Team
DESCRIPTION:We meet online on the first Tuesday of each month. \nTo get connected to this group\, contact a coordinator.
URL:https://cedarlane.org/calendar/environmental-justice-meeting/2027-06-01/
CATEGORIES:Activism & Justice,Planning and Coordination
ATTACH;FMTTYPE=image/webp:https://cedarlane.org/wp-content/uploads/2025/10/EJM.webp
ORGANIZER;CN="Kathleen Holmay and Nancy Wilkerson":MAILTO:EJMT@cedarlane.org
LOCATION:https://cedarlane.org/calendar/environmental-justice-meeting/2027-06-01/
END:VEVENT
BEGIN:VEVENT
DTSTART;TZID=America/New_York:20270706T190000
DTEND;TZID=America/New_York:20270706T200000
DTSTAMP:20260424T112510
CREATED:20250709T162955Z
LAST-MODIFIED:20251101T214337Z
UID:10016152-1814900400-1814904000@cedarlane.org
SUMMARY:Environmental Justice Ministry Team
DESCRIPTION:We meet online on the first Tuesday of each month. \nTo get connected to this group\, contact a coordinator.
URL:https://cedarlane.org/calendar/environmental-justice-meeting/2027-07-06/
CATEGORIES:Activism & Justice,Planning and Coordination
ATTACH;FMTTYPE=image/webp:https://cedarlane.org/wp-content/uploads/2025/10/EJM.webp
ORGANIZER;CN="Kathleen Holmay and Nancy Wilkerson":MAILTO:EJMT@cedarlane.org
LOCATION:https://cedarlane.org/calendar/environmental-justice-meeting/2027-07-06/
END:VEVENT
BEGIN:VEVENT
DTSTART;TZID=America/New_York:20270803T190000
DTEND;TZID=America/New_York:20270803T200000
DTSTAMP:20260424T112510
CREATED:20250709T162955Z
LAST-MODIFIED:20251101T214337Z
UID:10016153-1817319600-1817323200@cedarlane.org
SUMMARY:Environmental Justice Ministry Team
DESCRIPTION:We meet online on the first Tuesday of each month. \nTo get connected to this group\, contact a coordinator.
URL:https://cedarlane.org/calendar/environmental-justice-meeting/2027-08-03/
CATEGORIES:Activism & Justice,Planning and Coordination
ATTACH;FMTTYPE=image/webp:https://cedarlane.org/wp-content/uploads/2025/10/EJM.webp
ORGANIZER;CN="Kathleen Holmay and Nancy Wilkerson":MAILTO:EJMT@cedarlane.org
LOCATION:https://cedarlane.org/calendar/environmental-justice-meeting/2027-08-03/
END:VEVENT
BEGIN:VEVENT
DTSTART;TZID=America/New_York:20270907T190000
DTEND;TZID=America/New_York:20270907T200000
DTSTAMP:20260424T112510
CREATED:20250709T162955Z
LAST-MODIFIED:20251101T214337Z
UID:10016154-1820343600-1820347200@cedarlane.org
SUMMARY:Environmental Justice Ministry Team
DESCRIPTION:We meet online on the first Tuesday of each month. \nTo get connected to this group\, contact a coordinator.
URL:https://cedarlane.org/calendar/environmental-justice-meeting/2027-09-07/
CATEGORIES:Activism & Justice,Planning and Coordination
ATTACH;FMTTYPE=image/webp:https://cedarlane.org/wp-content/uploads/2025/10/EJM.webp
ORGANIZER;CN="Kathleen Holmay and Nancy Wilkerson":MAILTO:EJMT@cedarlane.org
LOCATION:https://cedarlane.org/calendar/environmental-justice-meeting/2027-09-07/
END:VEVENT
BEGIN:VEVENT
DTSTART;TZID=America/New_York:20271005T190000
DTEND;TZID=America/New_York:20271005T200000
DTSTAMP:20260424T112510
CREATED:20250709T162955Z
LAST-MODIFIED:20251101T214337Z
UID:10016155-1822762800-1822766400@cedarlane.org
SUMMARY:Environmental Justice Ministry Team
DESCRIPTION:We meet online on the first Tuesday of each month. \nTo get connected to this group\, contact a coordinator.
URL:https://cedarlane.org/calendar/environmental-justice-meeting/2027-10-05/
CATEGORIES:Activism & Justice,Planning and Coordination
ATTACH;FMTTYPE=image/webp:https://cedarlane.org/wp-content/uploads/2025/10/EJM.webp
ORGANIZER;CN="Kathleen Holmay and Nancy Wilkerson":MAILTO:EJMT@cedarlane.org
LOCATION:https://cedarlane.org/calendar/environmental-justice-meeting/2027-10-05/
END:VEVENT
BEGIN:VEVENT
DTSTART;TZID=America/New_York:20271102T190000
DTEND;TZID=America/New_York:20271102T200000
DTSTAMP:20260424T112510
CREATED:20250709T162955Z
LAST-MODIFIED:20251101T214337Z
UID:10016156-1825182000-1825185600@cedarlane.org
SUMMARY:Environmental Justice Ministry Team
DESCRIPTION:We meet online on the first Tuesday of each month. \nTo get connected to this group\, contact a coordinator.
URL:https://cedarlane.org/calendar/environmental-justice-meeting/2027-11-02/
CATEGORIES:Activism & Justice,Planning and Coordination
ATTACH;FMTTYPE=image/webp:https://cedarlane.org/wp-content/uploads/2025/10/EJM.webp
ORGANIZER;CN="Kathleen Holmay and Nancy Wilkerson":MAILTO:EJMT@cedarlane.org
LOCATION:https://cedarlane.org/calendar/environmental-justice-meeting/2027-11-02/
END:VEVENT
BEGIN:VEVENT
DTSTART;TZID=America/New_York:20271207T190000
DTEND;TZID=America/New_York:20271207T200000
DTSTAMP:20260424T112510
CREATED:20250709T162955Z
LAST-MODIFIED:20251101T214337Z
UID:10016157-1828206000-1828209600@cedarlane.org
SUMMARY:Environmental Justice Ministry Team
DESCRIPTION:We meet online on the first Tuesday of each month. \nTo get connected to this group\, contact a coordinator.
URL:https://cedarlane.org/calendar/environmental-justice-meeting/2027-12-07/
CATEGORIES:Activism & Justice,Planning and Coordination
ATTACH;FMTTYPE=image/webp:https://cedarlane.org/wp-content/uploads/2025/10/EJM.webp
ORGANIZER;CN="Kathleen Holmay and Nancy Wilkerson":MAILTO:EJMT@cedarlane.org
LOCATION:https://cedarlane.org/calendar/environmental-justice-meeting/2027-12-07/
END:VEVENT
BEGIN:VEVENT
DTSTART;TZID=America/New_York:20280104T190000
DTEND;TZID=America/New_York:20280104T200000
DTSTAMP:20260424T112510
CREATED:20250709T162955Z
LAST-MODIFIED:20251101T214337Z
UID:10016158-1830625200-1830628800@cedarlane.org
SUMMARY:Environmental Justice Ministry Team
DESCRIPTION:We meet online on the first Tuesday of each month. \nTo get connected to this group\, contact a coordinator.
URL:https://cedarlane.org/calendar/environmental-justice-meeting/2028-01-04/
CATEGORIES:Activism & Justice,Planning and Coordination
ATTACH;FMTTYPE=image/webp:https://cedarlane.org/wp-content/uploads/2025/10/EJM.webp
ORGANIZER;CN="Kathleen Holmay and Nancy Wilkerson":MAILTO:EJMT@cedarlane.org
LOCATION:https://cedarlane.org/calendar/environmental-justice-meeting/2028-01-04/
END:VEVENT
BEGIN:VEVENT
DTSTART;TZID=America/New_York:20280201T190000
DTEND;TZID=America/New_York:20280201T200000
DTSTAMP:20260424T112510
CREATED:20250709T162955Z
LAST-MODIFIED:20251101T214337Z
UID:10016159-1833044400-1833048000@cedarlane.org
SUMMARY:Environmental Justice Ministry Team
DESCRIPTION:We meet online on the first Tuesday of each month. \nTo get connected to this group\, contact a coordinator.
URL:https://cedarlane.org/calendar/environmental-justice-meeting/2028-02-01/
CATEGORIES:Activism & Justice,Planning and Coordination
ATTACH;FMTTYPE=image/webp:https://cedarlane.org/wp-content/uploads/2025/10/EJM.webp
ORGANIZER;CN="Kathleen Holmay and Nancy Wilkerson":MAILTO:EJMT@cedarlane.org
LOCATION:https://cedarlane.org/calendar/environmental-justice-meeting/2028-02-01/
END:VEVENT
BEGIN:VEVENT
DTSTART;TZID=America/New_York:20280307T190000
DTEND;TZID=America/New_York:20280307T200000
DTSTAMP:20260424T112510
CREATED:20250709T162955Z
LAST-MODIFIED:20251101T214337Z
UID:10016160-1836068400-1836072000@cedarlane.org
SUMMARY:Environmental Justice Ministry Team
DESCRIPTION:We meet online on the first Tuesday of each month. \nTo get connected to this group\, contact a coordinator.
URL:https://cedarlane.org/calendar/environmental-justice-meeting/2028-03-07/
CATEGORIES:Activism & Justice,Planning and Coordination
ATTACH;FMTTYPE=image/webp:https://cedarlane.org/wp-content/uploads/2025/10/EJM.webp
ORGANIZER;CN="Kathleen Holmay and Nancy Wilkerson":MAILTO:EJMT@cedarlane.org
LOCATION:https://cedarlane.org/calendar/environmental-justice-meeting/2028-03-07/
END:VEVENT
BEGIN:VEVENT
DTSTART;TZID=America/New_York:20280404T190000
DTEND;TZID=America/New_York:20280404T200000
DTSTAMP:20260424T112510
CREATED:20250709T162955Z
LAST-MODIFIED:20251101T214337Z
UID:10016161-1838487600-1838491200@cedarlane.org
SUMMARY:Environmental Justice Ministry Team
DESCRIPTION:We meet online on the first Tuesday of each month. \nTo get connected to this group\, contact a coordinator.
URL:https://cedarlane.org/calendar/environmental-justice-meeting/2028-04-04/
CATEGORIES:Activism & Justice,Planning and Coordination
ATTACH;FMTTYPE=image/webp:https://cedarlane.org/wp-content/uploads/2025/10/EJM.webp
ORGANIZER;CN="Kathleen Holmay and Nancy Wilkerson":MAILTO:EJMT@cedarlane.org
LOCATION:https://cedarlane.org/calendar/environmental-justice-meeting/2028-04-04/
END:VEVENT
BEGIN:VEVENT
DTSTART;TZID=America/New_York:20280502T190000
DTEND;TZID=America/New_York:20280502T200000
DTSTAMP:20260424T112510
CREATED:20250709T162955Z
LAST-MODIFIED:20251101T214337Z
UID:10016162-1840906800-1840910400@cedarlane.org
SUMMARY:Environmental Justice Ministry Team
DESCRIPTION:We meet online on the first Tuesday of each month. \nTo get connected to this group\, contact a coordinator.
URL:https://cedarlane.org/calendar/environmental-justice-meeting/2028-05-02/
CATEGORIES:Activism & Justice,Planning and Coordination
ATTACH;FMTTYPE=image/webp:https://cedarlane.org/wp-content/uploads/2025/10/EJM.webp
ORGANIZER;CN="Kathleen Holmay and Nancy Wilkerson":MAILTO:EJMT@cedarlane.org
LOCATION:https://cedarlane.org/calendar/environmental-justice-meeting/2028-05-02/
END:VEVENT
BEGIN:VEVENT
DTSTART;TZID=America/New_York:20280606T190000
DTEND;TZID=America/New_York:20280606T200000
DTSTAMP:20260424T112510
CREATED:20250709T162955Z
LAST-MODIFIED:20251101T214337Z
UID:10016163-1843930800-1843934400@cedarlane.org
SUMMARY:Environmental Justice Ministry Team
DESCRIPTION:We meet online on the first Tuesday of each month. \nTo get connected to this group\, contact a coordinator.
URL:https://cedarlane.org/calendar/environmental-justice-meeting/2028-06-06/
CATEGORIES:Activism & Justice,Planning and Coordination
ATTACH;FMTTYPE=image/webp:https://cedarlane.org/wp-content/uploads/2025/10/EJM.webp
ORGANIZER;CN="Kathleen Holmay and Nancy Wilkerson":MAILTO:EJMT@cedarlane.org
LOCATION:https://cedarlane.org/calendar/environmental-justice-meeting/2028-06-06/
END:VEVENT
BEGIN:VEVENT
DTSTART;TZID=America/New_York:20280704T190000
DTEND;TZID=America/New_York:20280704T200000
DTSTAMP:20260424T112510
CREATED:20250709T162955Z
LAST-MODIFIED:20251101T214337Z
UID:10016164-1846350000-1846353600@cedarlane.org
SUMMARY:Environmental Justice Ministry Team
DESCRIPTION:We meet online on the first Tuesday of each month. \nTo get connected to this group\, contact a coordinator.
URL:https://cedarlane.org/calendar/environmental-justice-meeting/2028-07-04/
CATEGORIES:Activism & Justice,Planning and Coordination
ATTACH;FMTTYPE=image/webp:https://cedarlane.org/wp-content/uploads/2025/10/EJM.webp
ORGANIZER;CN="Kathleen Holmay and Nancy Wilkerson":MAILTO:EJMT@cedarlane.org
LOCATION:https://cedarlane.org/calendar/environmental-justice-meeting/2028-07-04/
END:VEVENT
BEGIN:VEVENT
DTSTART;TZID=America/New_York:20280801T190000
DTEND;TZID=America/New_York:20280801T200000
DTSTAMP:20260424T112510
CREATED:20250709T162955Z
LAST-MODIFIED:20251101T214337Z
UID:10016165-1848769200-1848772800@cedarlane.org
SUMMARY:Environmental Justice Ministry Team
DESCRIPTION:We meet online on the first Tuesday of each month. \nTo get connected to this group\, contact a coordinator.
URL:https://cedarlane.org/calendar/environmental-justice-meeting/2028-08-01/
CATEGORIES:Activism & Justice,Planning and Coordination
ATTACH;FMTTYPE=image/webp:https://cedarlane.org/wp-content/uploads/2025/10/EJM.webp
ORGANIZER;CN="Kathleen Holmay and Nancy Wilkerson":MAILTO:EJMT@cedarlane.org
LOCATION:https://cedarlane.org/calendar/environmental-justice-meeting/2028-08-01/
END:VEVENT
BEGIN:VEVENT
DTSTART;TZID=America/New_York:20280905T190000
DTEND;TZID=America/New_York:20280905T200000
DTSTAMP:20260424T112510
CREATED:20250709T162955Z
LAST-MODIFIED:20251101T214337Z
UID:10016166-1851793200-1851796800@cedarlane.org
SUMMARY:Environmental Justice Ministry Team
DESCRIPTION:We meet online on the first Tuesday of each month. \nTo get connected to this group\, contact a coordinator.
URL:https://cedarlane.org/calendar/environmental-justice-meeting/2028-09-05/
CATEGORIES:Activism & Justice,Planning and Coordination
ATTACH;FMTTYPE=image/webp:https://cedarlane.org/wp-content/uploads/2025/10/EJM.webp
ORGANIZER;CN="Kathleen Holmay and Nancy Wilkerson":MAILTO:EJMT@cedarlane.org
LOCATION:https://cedarlane.org/calendar/environmental-justice-meeting/2028-09-05/
END:VEVENT
BEGIN:VEVENT
DTSTART;TZID=America/New_York:20281003T190000
DTEND;TZID=America/New_York:20281003T200000
DTSTAMP:20260424T112510
CREATED:20250709T162955Z
LAST-MODIFIED:20251101T214337Z
UID:10016167-1854212400-1854216000@cedarlane.org
SUMMARY:Environmental Justice Ministry Team
DESCRIPTION:We meet online on the first Tuesday of each month. \nTo get connected to this group\, contact a coordinator.
URL:https://cedarlane.org/calendar/environmental-justice-meeting/2028-10-03/
CATEGORIES:Activism & Justice,Planning and Coordination
ATTACH;FMTTYPE=image/webp:https://cedarlane.org/wp-content/uploads/2025/10/EJM.webp
ORGANIZER;CN="Kathleen Holmay and Nancy Wilkerson":MAILTO:EJMT@cedarlane.org
LOCATION:https://cedarlane.org/calendar/environmental-justice-meeting/2028-10-03/
END:VEVENT
END:VCALENDAR