BEGIN:VCALENDAR
VERSION:2.0
PRODID:-//Cedar Lane Unitarian Universalist Congregation - ECPv6.15.20//NONSGML v1.0//EN
CALSCALE:GREGORIAN
METHOD:PUBLISH
X-ORIGINAL-URL:https://cedarlane.org
X-WR-CALDESC:Events for Cedar Lane Unitarian Universalist Congregation
REFRESH-INTERVAL;VALUE=DURATION:PT1H
X-Robots-Tag:noindex
X-PUBLISHED-TTL:PT1H
BEGIN:VTIMEZONE
TZID:America/New_York
BEGIN:DAYLIGHT
TZOFFSETFROM:-0500
TZOFFSETTO:-0400
TZNAME:EDT
DTSTART:20250309T070000
END:DAYLIGHT
BEGIN:STANDARD
TZOFFSETFROM:-0400
TZOFFSETTO:-0500
TZNAME:EST
DTSTART:20251102T060000
END:STANDARD
BEGIN:DAYLIGHT
TZOFFSETFROM:-0500
TZOFFSETTO:-0400
TZNAME:EDT
DTSTART:20260308T070000
END:DAYLIGHT
BEGIN:STANDARD
TZOFFSETFROM:-0400
TZOFFSETTO:-0500
TZNAME:EST
DTSTART:20261101T060000
END:STANDARD
BEGIN:DAYLIGHT
TZOFFSETFROM:-0500
TZOFFSETTO:-0400
TZNAME:EDT
DTSTART:20270314T070000
END:DAYLIGHT
BEGIN:STANDARD
TZOFFSETFROM:-0400
TZOFFSETTO:-0500
TZNAME:EST
DTSTART:20271107T060000
END:STANDARD
BEGIN:DAYLIGHT
TZOFFSETFROM:-0500
TZOFFSETTO:-0400
TZNAME:EDT
DTSTART:20280312T070000
END:DAYLIGHT
BEGIN:STANDARD
TZOFFSETFROM:-0400
TZOFFSETTO:-0500
TZNAME:EST
DTSTART:20281105T060000
END:STANDARD
BEGIN:DAYLIGHT
TZOFFSETFROM:-0500
TZOFFSETTO:-0400
TZNAME:EDT
DTSTART:20290311T070000
END:DAYLIGHT
BEGIN:STANDARD
TZOFFSETFROM:-0400
TZOFFSETTO:-0500
TZNAME:EST
DTSTART:20291104T060000
END:STANDARD
END:VTIMEZONE
BEGIN:VEVENT
DTSTART;TZID=America/New_York:20260501T110000
DTEND;TZID=America/New_York:20260501T130000
DTSTAMP:20260424T205738
CREATED:20251029T004852Z
LAST-MODIFIED:20251101T214258Z
UID:10016638-1777633200-1777640400@cedarlane.org
SUMMARY:Alliance Book Club
DESCRIPTION:We gather on first Friday afternoon in the Library. Join us sometime!
URL:https://cedarlane.org/calendar/alliance-book-club/2026-05-01/
LOCATION:Library\, 9601 Cedar Ln\, Bethesda\, MD\, 20814\, United States
CATEGORIES:Fun
ATTACH;FMTTYPE=image/webp:https://cedarlane.org/wp-content/uploads/2025/10/shelby-murphy-figueroa-zezw9q2bc9E-unsplash-scaled.webp
ORGANIZER;CN="Helen Pechacek":MAILTO:helenpechacek@gmail.com
END:VEVENT
BEGIN:VEVENT
DTSTART;TZID=America/New_York:20260605T110000
DTEND;TZID=America/New_York:20260605T130000
DTSTAMP:20260424T205738
CREATED:20251029T004852Z
LAST-MODIFIED:20251101T214258Z
UID:10016639-1780657200-1780664400@cedarlane.org
SUMMARY:Alliance Book Club
DESCRIPTION:We gather on first Friday afternoon in the Library. Join us sometime!
URL:https://cedarlane.org/calendar/alliance-book-club/2026-06-05/
LOCATION:Library\, 9601 Cedar Ln\, Bethesda\, MD\, 20814\, United States
CATEGORIES:Fun
ATTACH;FMTTYPE=image/webp:https://cedarlane.org/wp-content/uploads/2025/10/shelby-murphy-figueroa-zezw9q2bc9E-unsplash-scaled.webp
ORGANIZER;CN="Helen Pechacek":MAILTO:helenpechacek@gmail.com
END:VEVENT
BEGIN:VEVENT
DTSTART;TZID=America/New_York:20260703T110000
DTEND;TZID=America/New_York:20260703T130000
DTSTAMP:20260424T205738
CREATED:20251029T004852Z
LAST-MODIFIED:20251101T214258Z
UID:10016640-1783076400-1783083600@cedarlane.org
SUMMARY:Alliance Book Club
DESCRIPTION:We gather on first Friday afternoon in the Library. Join us sometime!
URL:https://cedarlane.org/calendar/alliance-book-club/2026-07-03/
LOCATION:Library\, 9601 Cedar Ln\, Bethesda\, MD\, 20814\, United States
CATEGORIES:Fun
ATTACH;FMTTYPE=image/webp:https://cedarlane.org/wp-content/uploads/2025/10/shelby-murphy-figueroa-zezw9q2bc9E-unsplash-scaled.webp
ORGANIZER;CN="Helen Pechacek":MAILTO:helenpechacek@gmail.com
END:VEVENT
BEGIN:VEVENT
DTSTART;TZID=America/New_York:20260807T110000
DTEND;TZID=America/New_York:20260807T130000
DTSTAMP:20260424T205738
CREATED:20251029T004852Z
LAST-MODIFIED:20251101T214258Z
UID:10016641-1786100400-1786107600@cedarlane.org
SUMMARY:Alliance Book Club
DESCRIPTION:We gather on first Friday afternoon in the Library. Join us sometime!
URL:https://cedarlane.org/calendar/alliance-book-club/2026-08-07/
LOCATION:Library\, 9601 Cedar Ln\, Bethesda\, MD\, 20814\, United States
CATEGORIES:Fun
ATTACH;FMTTYPE=image/webp:https://cedarlane.org/wp-content/uploads/2025/10/shelby-murphy-figueroa-zezw9q2bc9E-unsplash-scaled.webp
ORGANIZER;CN="Helen Pechacek":MAILTO:helenpechacek@gmail.com
END:VEVENT
BEGIN:VEVENT
DTSTART;TZID=America/New_York:20260904T110000
DTEND;TZID=America/New_York:20260904T130000
DTSTAMP:20260424T205738
CREATED:20251029T004852Z
LAST-MODIFIED:20251101T214258Z
UID:10016642-1788519600-1788526800@cedarlane.org
SUMMARY:Alliance Book Club
DESCRIPTION:We gather on first Friday afternoon in the Library. Join us sometime!
URL:https://cedarlane.org/calendar/alliance-book-club/2026-09-04/
LOCATION:Library\, 9601 Cedar Ln\, Bethesda\, MD\, 20814\, United States
CATEGORIES:Fun
ATTACH;FMTTYPE=image/webp:https://cedarlane.org/wp-content/uploads/2025/10/shelby-murphy-figueroa-zezw9q2bc9E-unsplash-scaled.webp
ORGANIZER;CN="Helen Pechacek":MAILTO:helenpechacek@gmail.com
END:VEVENT
BEGIN:VEVENT
DTSTART;TZID=America/New_York:20261002T110000
DTEND;TZID=America/New_York:20261002T130000
DTSTAMP:20260424T205738
CREATED:20251029T004852Z
LAST-MODIFIED:20251101T214258Z
UID:10016643-1790938800-1790946000@cedarlane.org
SUMMARY:Alliance Book Club
DESCRIPTION:We gather on first Friday afternoon in the Library. Join us sometime!
URL:https://cedarlane.org/calendar/alliance-book-club/2026-10-02/
LOCATION:Library\, 9601 Cedar Ln\, Bethesda\, MD\, 20814\, United States
CATEGORIES:Fun
ATTACH;FMTTYPE=image/webp:https://cedarlane.org/wp-content/uploads/2025/10/shelby-murphy-figueroa-zezw9q2bc9E-unsplash-scaled.webp
ORGANIZER;CN="Helen Pechacek":MAILTO:helenpechacek@gmail.com
END:VEVENT
BEGIN:VEVENT
DTSTART;TZID=America/New_York:20261106T110000
DTEND;TZID=America/New_York:20261106T130000
DTSTAMP:20260424T205738
CREATED:20251029T004852Z
LAST-MODIFIED:20251101T214258Z
UID:10016644-1793962800-1793970000@cedarlane.org
SUMMARY:Alliance Book Club
DESCRIPTION:We gather on first Friday afternoon in the Library. Join us sometime!
URL:https://cedarlane.org/calendar/alliance-book-club/2026-11-06/
LOCATION:Library\, 9601 Cedar Ln\, Bethesda\, MD\, 20814\, United States
CATEGORIES:Fun
ATTACH;FMTTYPE=image/webp:https://cedarlane.org/wp-content/uploads/2025/10/shelby-murphy-figueroa-zezw9q2bc9E-unsplash-scaled.webp
ORGANIZER;CN="Helen Pechacek":MAILTO:helenpechacek@gmail.com
END:VEVENT
BEGIN:VEVENT
DTSTART;TZID=America/New_York:20261204T110000
DTEND;TZID=America/New_York:20261204T130000
DTSTAMP:20260424T205738
CREATED:20251029T004852Z
LAST-MODIFIED:20251101T214258Z
UID:10016645-1796382000-1796389200@cedarlane.org
SUMMARY:Alliance Book Club
DESCRIPTION:We gather on first Friday afternoon in the Library. Join us sometime!
URL:https://cedarlane.org/calendar/alliance-book-club/2026-12-04/
LOCATION:Library\, 9601 Cedar Ln\, Bethesda\, MD\, 20814\, United States
CATEGORIES:Fun
ATTACH;FMTTYPE=image/webp:https://cedarlane.org/wp-content/uploads/2025/10/shelby-murphy-figueroa-zezw9q2bc9E-unsplash-scaled.webp
ORGANIZER;CN="Helen Pechacek":MAILTO:helenpechacek@gmail.com
END:VEVENT
BEGIN:VEVENT
DTSTART;TZID=America/New_York:20270101T110000
DTEND;TZID=America/New_York:20270101T130000
DTSTAMP:20260424T205738
CREATED:20251029T004852Z
LAST-MODIFIED:20251101T214258Z
UID:10016646-1798801200-1798808400@cedarlane.org
SUMMARY:Alliance Book Club
DESCRIPTION:We gather on first Friday afternoon in the Library. Join us sometime!
URL:https://cedarlane.org/calendar/alliance-book-club/2027-01-01/
LOCATION:Library\, 9601 Cedar Ln\, Bethesda\, MD\, 20814\, United States
CATEGORIES:Fun
ATTACH;FMTTYPE=image/webp:https://cedarlane.org/wp-content/uploads/2025/10/shelby-murphy-figueroa-zezw9q2bc9E-unsplash-scaled.webp
ORGANIZER;CN="Helen Pechacek":MAILTO:helenpechacek@gmail.com
END:VEVENT
BEGIN:VEVENT
DTSTART;TZID=America/New_York:20270205T110000
DTEND;TZID=America/New_York:20270205T130000
DTSTAMP:20260424T205738
CREATED:20251029T004852Z
LAST-MODIFIED:20251101T214258Z
UID:10016647-1801825200-1801832400@cedarlane.org
SUMMARY:Alliance Book Club
DESCRIPTION:We gather on first Friday afternoon in the Library. Join us sometime!
URL:https://cedarlane.org/calendar/alliance-book-club/2027-02-05/
LOCATION:Library\, 9601 Cedar Ln\, Bethesda\, MD\, 20814\, United States
CATEGORIES:Fun
ATTACH;FMTTYPE=image/webp:https://cedarlane.org/wp-content/uploads/2025/10/shelby-murphy-figueroa-zezw9q2bc9E-unsplash-scaled.webp
ORGANIZER;CN="Helen Pechacek":MAILTO:helenpechacek@gmail.com
END:VEVENT
BEGIN:VEVENT
DTSTART;TZID=America/New_York:20270305T110000
DTEND;TZID=America/New_York:20270305T130000
DTSTAMP:20260424T205738
CREATED:20251029T004852Z
LAST-MODIFIED:20251101T214258Z
UID:10016648-1804244400-1804251600@cedarlane.org
SUMMARY:Alliance Book Club
DESCRIPTION:We gather on first Friday afternoon in the Library. Join us sometime!
URL:https://cedarlane.org/calendar/alliance-book-club/2027-03-05/
LOCATION:Library\, 9601 Cedar Ln\, Bethesda\, MD\, 20814\, United States
CATEGORIES:Fun
ATTACH;FMTTYPE=image/webp:https://cedarlane.org/wp-content/uploads/2025/10/shelby-murphy-figueroa-zezw9q2bc9E-unsplash-scaled.webp
ORGANIZER;CN="Helen Pechacek":MAILTO:helenpechacek@gmail.com
END:VEVENT
BEGIN:VEVENT
DTSTART;TZID=America/New_York:20270402T110000
DTEND;TZID=America/New_York:20270402T130000
DTSTAMP:20260424T205738
CREATED:20251029T004852Z
LAST-MODIFIED:20251101T214258Z
UID:10016649-1806663600-1806670800@cedarlane.org
SUMMARY:Alliance Book Club
DESCRIPTION:We gather on first Friday afternoon in the Library. Join us sometime!
URL:https://cedarlane.org/calendar/alliance-book-club/2027-04-02/
LOCATION:Library\, 9601 Cedar Ln\, Bethesda\, MD\, 20814\, United States
CATEGORIES:Fun
ATTACH;FMTTYPE=image/webp:https://cedarlane.org/wp-content/uploads/2025/10/shelby-murphy-figueroa-zezw9q2bc9E-unsplash-scaled.webp
ORGANIZER;CN="Helen Pechacek":MAILTO:helenpechacek@gmail.com
END:VEVENT
BEGIN:VEVENT
DTSTART;TZID=America/New_York:20270507T110000
DTEND;TZID=America/New_York:20270507T130000
DTSTAMP:20260424T205738
CREATED:20251029T004852Z
LAST-MODIFIED:20251101T214258Z
UID:10016650-1809687600-1809694800@cedarlane.org
SUMMARY:Alliance Book Club
DESCRIPTION:We gather on first Friday afternoon in the Library. Join us sometime!
URL:https://cedarlane.org/calendar/alliance-book-club/2027-05-07/
LOCATION:Library\, 9601 Cedar Ln\, Bethesda\, MD\, 20814\, United States
CATEGORIES:Fun
ATTACH;FMTTYPE=image/webp:https://cedarlane.org/wp-content/uploads/2025/10/shelby-murphy-figueroa-zezw9q2bc9E-unsplash-scaled.webp
ORGANIZER;CN="Helen Pechacek":MAILTO:helenpechacek@gmail.com
END:VEVENT
BEGIN:VEVENT
DTSTART;TZID=America/New_York:20270604T110000
DTEND;TZID=America/New_York:20270604T130000
DTSTAMP:20260424T205738
CREATED:20251029T004852Z
LAST-MODIFIED:20251101T214258Z
UID:10016651-1812106800-1812114000@cedarlane.org
SUMMARY:Alliance Book Club
DESCRIPTION:We gather on first Friday afternoon in the Library. Join us sometime!
URL:https://cedarlane.org/calendar/alliance-book-club/2027-06-04/
LOCATION:Library\, 9601 Cedar Ln\, Bethesda\, MD\, 20814\, United States
CATEGORIES:Fun
ATTACH;FMTTYPE=image/webp:https://cedarlane.org/wp-content/uploads/2025/10/shelby-murphy-figueroa-zezw9q2bc9E-unsplash-scaled.webp
ORGANIZER;CN="Helen Pechacek":MAILTO:helenpechacek@gmail.com
END:VEVENT
BEGIN:VEVENT
DTSTART;TZID=America/New_York:20270702T110000
DTEND;TZID=America/New_York:20270702T130000
DTSTAMP:20260424T205738
CREATED:20251029T004852Z
LAST-MODIFIED:20251101T214258Z
UID:10016652-1814526000-1814533200@cedarlane.org
SUMMARY:Alliance Book Club
DESCRIPTION:We gather on first Friday afternoon in the Library. Join us sometime!
URL:https://cedarlane.org/calendar/alliance-book-club/2027-07-02/
LOCATION:Library\, 9601 Cedar Ln\, Bethesda\, MD\, 20814\, United States
CATEGORIES:Fun
ATTACH;FMTTYPE=image/webp:https://cedarlane.org/wp-content/uploads/2025/10/shelby-murphy-figueroa-zezw9q2bc9E-unsplash-scaled.webp
ORGANIZER;CN="Helen Pechacek":MAILTO:helenpechacek@gmail.com
END:VEVENT
BEGIN:VEVENT
DTSTART;TZID=America/New_York:20270806T110000
DTEND;TZID=America/New_York:20270806T130000
DTSTAMP:20260424T205738
CREATED:20251029T004852Z
LAST-MODIFIED:20251101T214258Z
UID:10016653-1817550000-1817557200@cedarlane.org
SUMMARY:Alliance Book Club
DESCRIPTION:We gather on first Friday afternoon in the Library. Join us sometime!
URL:https://cedarlane.org/calendar/alliance-book-club/2027-08-06/
LOCATION:Library\, 9601 Cedar Ln\, Bethesda\, MD\, 20814\, United States
CATEGORIES:Fun
ATTACH;FMTTYPE=image/webp:https://cedarlane.org/wp-content/uploads/2025/10/shelby-murphy-figueroa-zezw9q2bc9E-unsplash-scaled.webp
ORGANIZER;CN="Helen Pechacek":MAILTO:helenpechacek@gmail.com
END:VEVENT
BEGIN:VEVENT
DTSTART;TZID=America/New_York:20270903T110000
DTEND;TZID=America/New_York:20270903T130000
DTSTAMP:20260424T205738
CREATED:20251029T004852Z
LAST-MODIFIED:20251101T214258Z
UID:10016654-1819969200-1819976400@cedarlane.org
SUMMARY:Alliance Book Club
DESCRIPTION:We gather on first Friday afternoon in the Library. Join us sometime!
URL:https://cedarlane.org/calendar/alliance-book-club/2027-09-03/
LOCATION:Library\, 9601 Cedar Ln\, Bethesda\, MD\, 20814\, United States
CATEGORIES:Fun
ATTACH;FMTTYPE=image/webp:https://cedarlane.org/wp-content/uploads/2025/10/shelby-murphy-figueroa-zezw9q2bc9E-unsplash-scaled.webp
ORGANIZER;CN="Helen Pechacek":MAILTO:helenpechacek@gmail.com
END:VEVENT
BEGIN:VEVENT
DTSTART;TZID=America/New_York:20271001T110000
DTEND;TZID=America/New_York:20271001T130000
DTSTAMP:20260424T205738
CREATED:20251029T004852Z
LAST-MODIFIED:20251101T214258Z
UID:10016655-1822388400-1822395600@cedarlane.org
SUMMARY:Alliance Book Club
DESCRIPTION:We gather on first Friday afternoon in the Library. Join us sometime!
URL:https://cedarlane.org/calendar/alliance-book-club/2027-10-01/
LOCATION:Library\, 9601 Cedar Ln\, Bethesda\, MD\, 20814\, United States
CATEGORIES:Fun
ATTACH;FMTTYPE=image/webp:https://cedarlane.org/wp-content/uploads/2025/10/shelby-murphy-figueroa-zezw9q2bc9E-unsplash-scaled.webp
ORGANIZER;CN="Helen Pechacek":MAILTO:helenpechacek@gmail.com
END:VEVENT
BEGIN:VEVENT
DTSTART;TZID=America/New_York:20271105T110000
DTEND;TZID=America/New_York:20271105T130000
DTSTAMP:20260424T205738
CREATED:20251029T004852Z
LAST-MODIFIED:20251101T214258Z
UID:10016656-1825412400-1825419600@cedarlane.org
SUMMARY:Alliance Book Club
DESCRIPTION:We gather on first Friday afternoon in the Library. Join us sometime!
URL:https://cedarlane.org/calendar/alliance-book-club/2027-11-05/
LOCATION:Library\, 9601 Cedar Ln\, Bethesda\, MD\, 20814\, United States
CATEGORIES:Fun
ATTACH;FMTTYPE=image/webp:https://cedarlane.org/wp-content/uploads/2025/10/shelby-murphy-figueroa-zezw9q2bc9E-unsplash-scaled.webp
ORGANIZER;CN="Helen Pechacek":MAILTO:helenpechacek@gmail.com
END:VEVENT
BEGIN:VEVENT
DTSTART;TZID=America/New_York:20271203T110000
DTEND;TZID=America/New_York:20271203T130000
DTSTAMP:20260424T205738
CREATED:20251029T004852Z
LAST-MODIFIED:20251101T214258Z
UID:10016657-1827831600-1827838800@cedarlane.org
SUMMARY:Alliance Book Club
DESCRIPTION:We gather on first Friday afternoon in the Library. Join us sometime!
URL:https://cedarlane.org/calendar/alliance-book-club/2027-12-03/
LOCATION:Library\, 9601 Cedar Ln\, Bethesda\, MD\, 20814\, United States
CATEGORIES:Fun
ATTACH;FMTTYPE=image/webp:https://cedarlane.org/wp-content/uploads/2025/10/shelby-murphy-figueroa-zezw9q2bc9E-unsplash-scaled.webp
ORGANIZER;CN="Helen Pechacek":MAILTO:helenpechacek@gmail.com
END:VEVENT
BEGIN:VEVENT
DTSTART;TZID=America/New_York:20280107T110000
DTEND;TZID=America/New_York:20280107T130000
DTSTAMP:20260424T205738
CREATED:20251029T004852Z
LAST-MODIFIED:20251101T214258Z
UID:10016658-1830855600-1830862800@cedarlane.org
SUMMARY:Alliance Book Club
DESCRIPTION:We gather on first Friday afternoon in the Library. Join us sometime!
URL:https://cedarlane.org/calendar/alliance-book-club/2028-01-07/
LOCATION:Library\, 9601 Cedar Ln\, Bethesda\, MD\, 20814\, United States
CATEGORIES:Fun
ATTACH;FMTTYPE=image/webp:https://cedarlane.org/wp-content/uploads/2025/10/shelby-murphy-figueroa-zezw9q2bc9E-unsplash-scaled.webp
ORGANIZER;CN="Helen Pechacek":MAILTO:helenpechacek@gmail.com
END:VEVENT
BEGIN:VEVENT
DTSTART;TZID=America/New_York:20280204T110000
DTEND;TZID=America/New_York:20280204T130000
DTSTAMP:20260424T205738
CREATED:20251029T004852Z
LAST-MODIFIED:20251101T214258Z
UID:10016659-1833274800-1833282000@cedarlane.org
SUMMARY:Alliance Book Club
DESCRIPTION:We gather on first Friday afternoon in the Library. Join us sometime!
URL:https://cedarlane.org/calendar/alliance-book-club/2028-02-04/
LOCATION:Library\, 9601 Cedar Ln\, Bethesda\, MD\, 20814\, United States
CATEGORIES:Fun
ATTACH;FMTTYPE=image/webp:https://cedarlane.org/wp-content/uploads/2025/10/shelby-murphy-figueroa-zezw9q2bc9E-unsplash-scaled.webp
ORGANIZER;CN="Helen Pechacek":MAILTO:helenpechacek@gmail.com
END:VEVENT
BEGIN:VEVENT
DTSTART;TZID=America/New_York:20280303T110000
DTEND;TZID=America/New_York:20280303T130000
DTSTAMP:20260424T205738
CREATED:20251029T004852Z
LAST-MODIFIED:20251101T214258Z
UID:10016660-1835694000-1835701200@cedarlane.org
SUMMARY:Alliance Book Club
DESCRIPTION:We gather on first Friday afternoon in the Library. Join us sometime!
URL:https://cedarlane.org/calendar/alliance-book-club/2028-03-03/
LOCATION:Library\, 9601 Cedar Ln\, Bethesda\, MD\, 20814\, United States
CATEGORIES:Fun
ATTACH;FMTTYPE=image/webp:https://cedarlane.org/wp-content/uploads/2025/10/shelby-murphy-figueroa-zezw9q2bc9E-unsplash-scaled.webp
ORGANIZER;CN="Helen Pechacek":MAILTO:helenpechacek@gmail.com
END:VEVENT
BEGIN:VEVENT
DTSTART;TZID=America/New_York:20280407T110000
DTEND;TZID=America/New_York:20280407T130000
DTSTAMP:20260424T205738
CREATED:20251029T004852Z
LAST-MODIFIED:20251101T214258Z
UID:10016661-1838718000-1838725200@cedarlane.org
SUMMARY:Alliance Book Club
DESCRIPTION:We gather on first Friday afternoon in the Library. Join us sometime!
URL:https://cedarlane.org/calendar/alliance-book-club/2028-04-07/
LOCATION:Library\, 9601 Cedar Ln\, Bethesda\, MD\, 20814\, United States
CATEGORIES:Fun
ATTACH;FMTTYPE=image/webp:https://cedarlane.org/wp-content/uploads/2025/10/shelby-murphy-figueroa-zezw9q2bc9E-unsplash-scaled.webp
ORGANIZER;CN="Helen Pechacek":MAILTO:helenpechacek@gmail.com
END:VEVENT
BEGIN:VEVENT
DTSTART;TZID=America/New_York:20280505T110000
DTEND;TZID=America/New_York:20280505T130000
DTSTAMP:20260424T205738
CREATED:20251029T004852Z
LAST-MODIFIED:20251101T214258Z
UID:10016662-1841137200-1841144400@cedarlane.org
SUMMARY:Alliance Book Club
DESCRIPTION:We gather on first Friday afternoon in the Library. Join us sometime!
URL:https://cedarlane.org/calendar/alliance-book-club/2028-05-05/
LOCATION:Library\, 9601 Cedar Ln\, Bethesda\, MD\, 20814\, United States
CATEGORIES:Fun
ATTACH;FMTTYPE=image/webp:https://cedarlane.org/wp-content/uploads/2025/10/shelby-murphy-figueroa-zezw9q2bc9E-unsplash-scaled.webp
ORGANIZER;CN="Helen Pechacek":MAILTO:helenpechacek@gmail.com
END:VEVENT
BEGIN:VEVENT
DTSTART;TZID=America/New_York:20280602T110000
DTEND;TZID=America/New_York:20280602T130000
DTSTAMP:20260424T205738
CREATED:20251029T004852Z
LAST-MODIFIED:20251101T214258Z
UID:10016663-1843556400-1843563600@cedarlane.org
SUMMARY:Alliance Book Club
DESCRIPTION:We gather on first Friday afternoon in the Library. Join us sometime!
URL:https://cedarlane.org/calendar/alliance-book-club/2028-06-02/
LOCATION:Library\, 9601 Cedar Ln\, Bethesda\, MD\, 20814\, United States
CATEGORIES:Fun
ATTACH;FMTTYPE=image/webp:https://cedarlane.org/wp-content/uploads/2025/10/shelby-murphy-figueroa-zezw9q2bc9E-unsplash-scaled.webp
ORGANIZER;CN="Helen Pechacek":MAILTO:helenpechacek@gmail.com
END:VEVENT
BEGIN:VEVENT
DTSTART;TZID=America/New_York:20280707T110000
DTEND;TZID=America/New_York:20280707T130000
DTSTAMP:20260424T205738
CREATED:20251029T004852Z
LAST-MODIFIED:20251101T214258Z
UID:10016664-1846580400-1846587600@cedarlane.org
SUMMARY:Alliance Book Club
DESCRIPTION:We gather on first Friday afternoon in the Library. Join us sometime!
URL:https://cedarlane.org/calendar/alliance-book-club/2028-07-07/
LOCATION:Library\, 9601 Cedar Ln\, Bethesda\, MD\, 20814\, United States
CATEGORIES:Fun
ATTACH;FMTTYPE=image/webp:https://cedarlane.org/wp-content/uploads/2025/10/shelby-murphy-figueroa-zezw9q2bc9E-unsplash-scaled.webp
ORGANIZER;CN="Helen Pechacek":MAILTO:helenpechacek@gmail.com
END:VEVENT
BEGIN:VEVENT
DTSTART;TZID=America/New_York:20280804T110000
DTEND;TZID=America/New_York:20280804T130000
DTSTAMP:20260424T205738
CREATED:20251029T004852Z
LAST-MODIFIED:20251101T214258Z
UID:10016665-1848999600-1849006800@cedarlane.org
SUMMARY:Alliance Book Club
DESCRIPTION:We gather on first Friday afternoon in the Library. Join us sometime!
URL:https://cedarlane.org/calendar/alliance-book-club/2028-08-04/
LOCATION:Library\, 9601 Cedar Ln\, Bethesda\, MD\, 20814\, United States
CATEGORIES:Fun
ATTACH;FMTTYPE=image/webp:https://cedarlane.org/wp-content/uploads/2025/10/shelby-murphy-figueroa-zezw9q2bc9E-unsplash-scaled.webp
ORGANIZER;CN="Helen Pechacek":MAILTO:helenpechacek@gmail.com
END:VEVENT
BEGIN:VEVENT
DTSTART;TZID=America/New_York:20280901T110000
DTEND;TZID=America/New_York:20280901T130000
DTSTAMP:20260424T205738
CREATED:20251029T004852Z
LAST-MODIFIED:20251101T214258Z
UID:10016666-1851418800-1851426000@cedarlane.org
SUMMARY:Alliance Book Club
DESCRIPTION:We gather on first Friday afternoon in the Library. Join us sometime!
URL:https://cedarlane.org/calendar/alliance-book-club/2028-09-01/
LOCATION:Library\, 9601 Cedar Ln\, Bethesda\, MD\, 20814\, United States
CATEGORIES:Fun
ATTACH;FMTTYPE=image/webp:https://cedarlane.org/wp-content/uploads/2025/10/shelby-murphy-figueroa-zezw9q2bc9E-unsplash-scaled.webp
ORGANIZER;CN="Helen Pechacek":MAILTO:helenpechacek@gmail.com
END:VEVENT
BEGIN:VEVENT
DTSTART;TZID=America/New_York:20281006T110000
DTEND;TZID=America/New_York:20281006T130000
DTSTAMP:20260424T205738
CREATED:20251029T004852Z
LAST-MODIFIED:20251101T214258Z
UID:10016667-1854442800-1854450000@cedarlane.org
SUMMARY:Alliance Book Club
DESCRIPTION:We gather on first Friday afternoon in the Library. Join us sometime!
URL:https://cedarlane.org/calendar/alliance-book-club/2028-10-06/
LOCATION:Library\, 9601 Cedar Ln\, Bethesda\, MD\, 20814\, United States
CATEGORIES:Fun
ATTACH;FMTTYPE=image/webp:https://cedarlane.org/wp-content/uploads/2025/10/shelby-murphy-figueroa-zezw9q2bc9E-unsplash-scaled.webp
ORGANIZER;CN="Helen Pechacek":MAILTO:helenpechacek@gmail.com
END:VEVENT
END:VCALENDAR