BEGIN:VCALENDAR
VERSION:2.0
PRODID:-//Cedar Lane Unitarian Universalist Congregation - ECPv6.15.20//NONSGML v1.0//EN
CALSCALE:GREGORIAN
METHOD:PUBLISH
X-WR-CALNAME:Cedar Lane Unitarian Universalist Congregation
X-ORIGINAL-URL:https://cedarlane.org
X-WR-CALDESC:Events for Cedar Lane Unitarian Universalist Congregation
REFRESH-INTERVAL;VALUE=DURATION:PT1H
X-Robots-Tag:noindex
X-PUBLISHED-TTL:PT1H
BEGIN:VTIMEZONE
TZID:America/New_York
BEGIN:DAYLIGHT
TZOFFSETFROM:-0500
TZOFFSETTO:-0400
TZNAME:EDT
DTSTART:20250309T070000
END:DAYLIGHT
BEGIN:STANDARD
TZOFFSETFROM:-0400
TZOFFSETTO:-0500
TZNAME:EST
DTSTART:20251102T060000
END:STANDARD
BEGIN:DAYLIGHT
TZOFFSETFROM:-0500
TZOFFSETTO:-0400
TZNAME:EDT
DTSTART:20260308T070000
END:DAYLIGHT
BEGIN:STANDARD
TZOFFSETFROM:-0400
TZOFFSETTO:-0500
TZNAME:EST
DTSTART:20261101T060000
END:STANDARD
BEGIN:DAYLIGHT
TZOFFSETFROM:-0500
TZOFFSETTO:-0400
TZNAME:EDT
DTSTART:20270314T070000
END:DAYLIGHT
BEGIN:STANDARD
TZOFFSETFROM:-0400
TZOFFSETTO:-0500
TZNAME:EST
DTSTART:20271107T060000
END:STANDARD
BEGIN:DAYLIGHT
TZOFFSETFROM:-0500
TZOFFSETTO:-0400
TZNAME:EDT
DTSTART:20280312T070000
END:DAYLIGHT
BEGIN:STANDARD
TZOFFSETFROM:-0400
TZOFFSETTO:-0500
TZNAME:EST
DTSTART:20281105T060000
END:STANDARD
END:VTIMEZONE
BEGIN:VEVENT
DTSTART;TZID=America/New_York:20260810T100000
DTEND;TZID=America/New_York:20260810T120000
DTSTAMP:20260424T011417
CREATED:20250709T163356Z
LAST-MODIFIED:20251101T214305Z
UID:10015535-1786356000-1786363200@cedarlane.org
SUMMARY:Science and Religion
DESCRIPTION:
URL:https://cedarlane.org/calendar/science-religion-discussion/2026-08-10/
CATEGORIES:Learn and Grow
ATTACH;FMTTYPE=image/webp:https://cedarlane.org/wp-content/uploads/2025/10/science.webp
END:VEVENT
BEGIN:VEVENT
DTSTART;TZID=America/New_York:20260817T100000
DTEND;TZID=America/New_York:20260817T120000
DTSTAMP:20260424T011417
CREATED:20250709T163356Z
LAST-MODIFIED:20251101T214305Z
UID:10015536-1786960800-1786968000@cedarlane.org
SUMMARY:Science and Religion
DESCRIPTION:
URL:https://cedarlane.org/calendar/science-religion-discussion/2026-08-17/
CATEGORIES:Learn and Grow
ATTACH;FMTTYPE=image/webp:https://cedarlane.org/wp-content/uploads/2025/10/science.webp
END:VEVENT
BEGIN:VEVENT
DTSTART;TZID=America/New_York:20260824T100000
DTEND;TZID=America/New_York:20260824T120000
DTSTAMP:20260424T011417
CREATED:20250709T163356Z
LAST-MODIFIED:20251101T214305Z
UID:10015537-1787565600-1787572800@cedarlane.org
SUMMARY:Science and Religion
DESCRIPTION:
URL:https://cedarlane.org/calendar/science-religion-discussion/2026-08-24/
CATEGORIES:Learn and Grow
ATTACH;FMTTYPE=image/webp:https://cedarlane.org/wp-content/uploads/2025/10/science.webp
END:VEVENT
BEGIN:VEVENT
DTSTART;TZID=America/New_York:20260831T100000
DTEND;TZID=America/New_York:20260831T120000
DTSTAMP:20260424T011417
CREATED:20250709T163356Z
LAST-MODIFIED:20251101T214305Z
UID:10015538-1788170400-1788177600@cedarlane.org
SUMMARY:Science and Religion
DESCRIPTION:
URL:https://cedarlane.org/calendar/science-religion-discussion/2026-08-31/
CATEGORIES:Learn and Grow
ATTACH;FMTTYPE=image/webp:https://cedarlane.org/wp-content/uploads/2025/10/science.webp
END:VEVENT
BEGIN:VEVENT
DTSTART;TZID=America/New_York:20260907T100000
DTEND;TZID=America/New_York:20260907T120000
DTSTAMP:20260424T011417
CREATED:20250709T163356Z
LAST-MODIFIED:20251101T214305Z
UID:10015539-1788775200-1788782400@cedarlane.org
SUMMARY:Science and Religion
DESCRIPTION:
URL:https://cedarlane.org/calendar/science-religion-discussion/2026-09-07/
CATEGORIES:Learn and Grow
ATTACH;FMTTYPE=image/webp:https://cedarlane.org/wp-content/uploads/2025/10/science.webp
END:VEVENT
BEGIN:VEVENT
DTSTART;TZID=America/New_York:20260914T100000
DTEND;TZID=America/New_York:20260914T120000
DTSTAMP:20260424T011417
CREATED:20250709T163356Z
LAST-MODIFIED:20251101T214305Z
UID:10015540-1789380000-1789387200@cedarlane.org
SUMMARY:Science and Religion
DESCRIPTION:
URL:https://cedarlane.org/calendar/science-religion-discussion/2026-09-14/
CATEGORIES:Learn and Grow
ATTACH;FMTTYPE=image/webp:https://cedarlane.org/wp-content/uploads/2025/10/science.webp
END:VEVENT
BEGIN:VEVENT
DTSTART;TZID=America/New_York:20260921T100000
DTEND;TZID=America/New_York:20260921T120000
DTSTAMP:20260424T011417
CREATED:20250709T163356Z
LAST-MODIFIED:20251101T214305Z
UID:10015541-1789984800-1789992000@cedarlane.org
SUMMARY:Science and Religion
DESCRIPTION:
URL:https://cedarlane.org/calendar/science-religion-discussion/2026-09-21/
CATEGORIES:Learn and Grow
ATTACH;FMTTYPE=image/webp:https://cedarlane.org/wp-content/uploads/2025/10/science.webp
END:VEVENT
BEGIN:VEVENT
DTSTART;TZID=America/New_York:20260928T100000
DTEND;TZID=America/New_York:20260928T120000
DTSTAMP:20260424T011417
CREATED:20250709T163356Z
LAST-MODIFIED:20251101T214305Z
UID:10015542-1790589600-1790596800@cedarlane.org
SUMMARY:Science and Religion
DESCRIPTION:
URL:https://cedarlane.org/calendar/science-religion-discussion/2026-09-28/
CATEGORIES:Learn and Grow
ATTACH;FMTTYPE=image/webp:https://cedarlane.org/wp-content/uploads/2025/10/science.webp
END:VEVENT
BEGIN:VEVENT
DTSTART;TZID=America/New_York:20261005T100000
DTEND;TZID=America/New_York:20261005T120000
DTSTAMP:20260424T011417
CREATED:20250709T163356Z
LAST-MODIFIED:20251101T214305Z
UID:10015543-1791194400-1791201600@cedarlane.org
SUMMARY:Science and Religion
DESCRIPTION:
URL:https://cedarlane.org/calendar/science-religion-discussion/2026-10-05/
CATEGORIES:Learn and Grow
ATTACH;FMTTYPE=image/webp:https://cedarlane.org/wp-content/uploads/2025/10/science.webp
END:VEVENT
BEGIN:VEVENT
DTSTART;TZID=America/New_York:20261012T100000
DTEND;TZID=America/New_York:20261012T120000
DTSTAMP:20260424T011417
CREATED:20250709T163356Z
LAST-MODIFIED:20251101T214305Z
UID:10015544-1791799200-1791806400@cedarlane.org
SUMMARY:Science and Religion
DESCRIPTION:
URL:https://cedarlane.org/calendar/science-religion-discussion/2026-10-12/
CATEGORIES:Learn and Grow
ATTACH;FMTTYPE=image/webp:https://cedarlane.org/wp-content/uploads/2025/10/science.webp
END:VEVENT
BEGIN:VEVENT
DTSTART;TZID=America/New_York:20261019T100000
DTEND;TZID=America/New_York:20261019T120000
DTSTAMP:20260424T011417
CREATED:20250709T163356Z
LAST-MODIFIED:20251101T214305Z
UID:10015545-1792404000-1792411200@cedarlane.org
SUMMARY:Science and Religion
DESCRIPTION:
URL:https://cedarlane.org/calendar/science-religion-discussion/2026-10-19/
CATEGORIES:Learn and Grow
ATTACH;FMTTYPE=image/webp:https://cedarlane.org/wp-content/uploads/2025/10/science.webp
END:VEVENT
BEGIN:VEVENT
DTSTART;TZID=America/New_York:20261026T100000
DTEND;TZID=America/New_York:20261026T120000
DTSTAMP:20260424T011417
CREATED:20250709T163356Z
LAST-MODIFIED:20251101T214305Z
UID:10015546-1793008800-1793016000@cedarlane.org
SUMMARY:Science and Religion
DESCRIPTION:
URL:https://cedarlane.org/calendar/science-religion-discussion/2026-10-26/
CATEGORIES:Learn and Grow
ATTACH;FMTTYPE=image/webp:https://cedarlane.org/wp-content/uploads/2025/10/science.webp
END:VEVENT
BEGIN:VEVENT
DTSTART;TZID=America/New_York:20261102T100000
DTEND;TZID=America/New_York:20261102T120000
DTSTAMP:20260424T011417
CREATED:20250709T163356Z
LAST-MODIFIED:20251101T214305Z
UID:10015547-1793613600-1793620800@cedarlane.org
SUMMARY:Science and Religion
DESCRIPTION:
URL:https://cedarlane.org/calendar/science-religion-discussion/2026-11-02/
CATEGORIES:Learn and Grow
ATTACH;FMTTYPE=image/webp:https://cedarlane.org/wp-content/uploads/2025/10/science.webp
END:VEVENT
BEGIN:VEVENT
DTSTART;TZID=America/New_York:20261109T100000
DTEND;TZID=America/New_York:20261109T120000
DTSTAMP:20260424T011417
CREATED:20250709T163356Z
LAST-MODIFIED:20251101T214305Z
UID:10015548-1794218400-1794225600@cedarlane.org
SUMMARY:Science and Religion
DESCRIPTION:
URL:https://cedarlane.org/calendar/science-religion-discussion/2026-11-09/
CATEGORIES:Learn and Grow
ATTACH;FMTTYPE=image/webp:https://cedarlane.org/wp-content/uploads/2025/10/science.webp
END:VEVENT
BEGIN:VEVENT
DTSTART;TZID=America/New_York:20261116T100000
DTEND;TZID=America/New_York:20261116T120000
DTSTAMP:20260424T011417
CREATED:20250709T163356Z
LAST-MODIFIED:20251101T214305Z
UID:10015549-1794823200-1794830400@cedarlane.org
SUMMARY:Science and Religion
DESCRIPTION:
URL:https://cedarlane.org/calendar/science-religion-discussion/2026-11-16/
CATEGORIES:Learn and Grow
ATTACH;FMTTYPE=image/webp:https://cedarlane.org/wp-content/uploads/2025/10/science.webp
END:VEVENT
BEGIN:VEVENT
DTSTART;TZID=America/New_York:20261123T100000
DTEND;TZID=America/New_York:20261123T120000
DTSTAMP:20260424T011417
CREATED:20250709T163356Z
LAST-MODIFIED:20251101T214305Z
UID:10015550-1795428000-1795435200@cedarlane.org
SUMMARY:Science and Religion
DESCRIPTION:
URL:https://cedarlane.org/calendar/science-religion-discussion/2026-11-23/
CATEGORIES:Learn and Grow
ATTACH;FMTTYPE=image/webp:https://cedarlane.org/wp-content/uploads/2025/10/science.webp
END:VEVENT
BEGIN:VEVENT
DTSTART;TZID=America/New_York:20261130T100000
DTEND;TZID=America/New_York:20261130T120000
DTSTAMP:20260424T011417
CREATED:20250709T163356Z
LAST-MODIFIED:20251101T214305Z
UID:10015551-1796032800-1796040000@cedarlane.org
SUMMARY:Science and Religion
DESCRIPTION:
URL:https://cedarlane.org/calendar/science-religion-discussion/2026-11-30/
CATEGORIES:Learn and Grow
ATTACH;FMTTYPE=image/webp:https://cedarlane.org/wp-content/uploads/2025/10/science.webp
END:VEVENT
BEGIN:VEVENT
DTSTART;TZID=America/New_York:20261207T100000
DTEND;TZID=America/New_York:20261207T120000
DTSTAMP:20260424T011417
CREATED:20250709T163356Z
LAST-MODIFIED:20251101T214305Z
UID:10015552-1796637600-1796644800@cedarlane.org
SUMMARY:Science and Religion
DESCRIPTION:
URL:https://cedarlane.org/calendar/science-religion-discussion/2026-12-07/
CATEGORIES:Learn and Grow
ATTACH;FMTTYPE=image/webp:https://cedarlane.org/wp-content/uploads/2025/10/science.webp
END:VEVENT
BEGIN:VEVENT
DTSTART;TZID=America/New_York:20261214T100000
DTEND;TZID=America/New_York:20261214T120000
DTSTAMP:20260424T011417
CREATED:20250709T163356Z
LAST-MODIFIED:20251101T214305Z
UID:10015553-1797242400-1797249600@cedarlane.org
SUMMARY:Science and Religion
DESCRIPTION:
URL:https://cedarlane.org/calendar/science-religion-discussion/2026-12-14/
CATEGORIES:Learn and Grow
ATTACH;FMTTYPE=image/webp:https://cedarlane.org/wp-content/uploads/2025/10/science.webp
END:VEVENT
BEGIN:VEVENT
DTSTART;TZID=America/New_York:20261221T100000
DTEND;TZID=America/New_York:20261221T120000
DTSTAMP:20260424T011417
CREATED:20250709T163356Z
LAST-MODIFIED:20251101T214305Z
UID:10015554-1797847200-1797854400@cedarlane.org
SUMMARY:Science and Religion
DESCRIPTION:
URL:https://cedarlane.org/calendar/science-religion-discussion/2026-12-21/
CATEGORIES:Learn and Grow
ATTACH;FMTTYPE=image/webp:https://cedarlane.org/wp-content/uploads/2025/10/science.webp
END:VEVENT
BEGIN:VEVENT
DTSTART;TZID=America/New_York:20261228T100000
DTEND;TZID=America/New_York:20261228T120000
DTSTAMP:20260424T011417
CREATED:20250709T163356Z
LAST-MODIFIED:20251101T214305Z
UID:10015555-1798452000-1798459200@cedarlane.org
SUMMARY:Science and Religion
DESCRIPTION:
URL:https://cedarlane.org/calendar/science-religion-discussion/2026-12-28/
CATEGORIES:Learn and Grow
ATTACH;FMTTYPE=image/webp:https://cedarlane.org/wp-content/uploads/2025/10/science.webp
END:VEVENT
BEGIN:VEVENT
DTSTART;TZID=America/New_York:20270104T100000
DTEND;TZID=America/New_York:20270104T120000
DTSTAMP:20260424T011417
CREATED:20250709T163356Z
LAST-MODIFIED:20251101T214305Z
UID:10015556-1799056800-1799064000@cedarlane.org
SUMMARY:Science and Religion
DESCRIPTION:
URL:https://cedarlane.org/calendar/science-religion-discussion/2027-01-04/
CATEGORIES:Learn and Grow
ATTACH;FMTTYPE=image/webp:https://cedarlane.org/wp-content/uploads/2025/10/science.webp
END:VEVENT
BEGIN:VEVENT
DTSTART;TZID=America/New_York:20270111T100000
DTEND;TZID=America/New_York:20270111T120000
DTSTAMP:20260424T011417
CREATED:20250709T163356Z
LAST-MODIFIED:20251101T214305Z
UID:10015557-1799661600-1799668800@cedarlane.org
SUMMARY:Science and Religion
DESCRIPTION:
URL:https://cedarlane.org/calendar/science-religion-discussion/2027-01-11/
CATEGORIES:Learn and Grow
ATTACH;FMTTYPE=image/webp:https://cedarlane.org/wp-content/uploads/2025/10/science.webp
END:VEVENT
BEGIN:VEVENT
DTSTART;TZID=America/New_York:20270118T100000
DTEND;TZID=America/New_York:20270118T120000
DTSTAMP:20260424T011417
CREATED:20250709T163356Z
LAST-MODIFIED:20251101T214305Z
UID:10015558-1800266400-1800273600@cedarlane.org
SUMMARY:Science and Religion
DESCRIPTION:
URL:https://cedarlane.org/calendar/science-religion-discussion/2027-01-18/
CATEGORIES:Learn and Grow
ATTACH;FMTTYPE=image/webp:https://cedarlane.org/wp-content/uploads/2025/10/science.webp
END:VEVENT
BEGIN:VEVENT
DTSTART;TZID=America/New_York:20270125T100000
DTEND;TZID=America/New_York:20270125T120000
DTSTAMP:20260424T011417
CREATED:20250709T163356Z
LAST-MODIFIED:20251101T214305Z
UID:10015559-1800871200-1800878400@cedarlane.org
SUMMARY:Science and Religion
DESCRIPTION:
URL:https://cedarlane.org/calendar/science-religion-discussion/2027-01-25/
CATEGORIES:Learn and Grow
ATTACH;FMTTYPE=image/webp:https://cedarlane.org/wp-content/uploads/2025/10/science.webp
END:VEVENT
BEGIN:VEVENT
DTSTART;TZID=America/New_York:20270201T100000
DTEND;TZID=America/New_York:20270201T120000
DTSTAMP:20260424T011417
CREATED:20250709T163356Z
LAST-MODIFIED:20251101T214305Z
UID:10015560-1801476000-1801483200@cedarlane.org
SUMMARY:Science and Religion
DESCRIPTION:
URL:https://cedarlane.org/calendar/science-religion-discussion/2027-02-01/
CATEGORIES:Learn and Grow
ATTACH;FMTTYPE=image/webp:https://cedarlane.org/wp-content/uploads/2025/10/science.webp
END:VEVENT
BEGIN:VEVENT
DTSTART;TZID=America/New_York:20270208T100000
DTEND;TZID=America/New_York:20270208T120000
DTSTAMP:20260424T011417
CREATED:20250709T163356Z
LAST-MODIFIED:20251101T214305Z
UID:10015561-1802080800-1802088000@cedarlane.org
SUMMARY:Science and Religion
DESCRIPTION:
URL:https://cedarlane.org/calendar/science-religion-discussion/2027-02-08/
CATEGORIES:Learn and Grow
ATTACH;FMTTYPE=image/webp:https://cedarlane.org/wp-content/uploads/2025/10/science.webp
END:VEVENT
BEGIN:VEVENT
DTSTART;TZID=America/New_York:20270215T100000
DTEND;TZID=America/New_York:20270215T120000
DTSTAMP:20260424T011417
CREATED:20250709T163356Z
LAST-MODIFIED:20251101T214305Z
UID:10015562-1802685600-1802692800@cedarlane.org
SUMMARY:Science and Religion
DESCRIPTION:
URL:https://cedarlane.org/calendar/science-religion-discussion/2027-02-15/
CATEGORIES:Learn and Grow
ATTACH;FMTTYPE=image/webp:https://cedarlane.org/wp-content/uploads/2025/10/science.webp
END:VEVENT
BEGIN:VEVENT
DTSTART;TZID=America/New_York:20270222T100000
DTEND;TZID=America/New_York:20270222T120000
DTSTAMP:20260424T011417
CREATED:20250709T163356Z
LAST-MODIFIED:20251101T214305Z
UID:10015563-1803290400-1803297600@cedarlane.org
SUMMARY:Science and Religion
DESCRIPTION:
URL:https://cedarlane.org/calendar/science-religion-discussion/2027-02-22/
CATEGORIES:Learn and Grow
ATTACH;FMTTYPE=image/webp:https://cedarlane.org/wp-content/uploads/2025/10/science.webp
END:VEVENT
BEGIN:VEVENT
DTSTART;TZID=America/New_York:20270301T100000
DTEND;TZID=America/New_York:20270301T120000
DTSTAMP:20260424T011417
CREATED:20250709T163356Z
LAST-MODIFIED:20251101T214305Z
UID:10015564-1803895200-1803902400@cedarlane.org
SUMMARY:Science and Religion
DESCRIPTION:
URL:https://cedarlane.org/calendar/science-religion-discussion/2027-03-01/
CATEGORIES:Learn and Grow
ATTACH;FMTTYPE=image/webp:https://cedarlane.org/wp-content/uploads/2025/10/science.webp
END:VEVENT
END:VCALENDAR