BEGIN:VCALENDAR
VERSION:2.0
PRODID:-//Cedar Lane Unitarian Universalist Congregation - ECPv6.15.20//NONSGML v1.0//EN
CALSCALE:GREGORIAN
METHOD:PUBLISH
X-WR-CALNAME:Cedar Lane Unitarian Universalist Congregation
X-ORIGINAL-URL:https://cedarlane.org
X-WR-CALDESC:Events for Cedar Lane Unitarian Universalist Congregation
REFRESH-INTERVAL;VALUE=DURATION:PT1H
X-Robots-Tag:noindex
X-PUBLISHED-TTL:PT1H
BEGIN:VTIMEZONE
TZID:America/New_York
BEGIN:DAYLIGHT
TZOFFSETFROM:-0500
TZOFFSETTO:-0400
TZNAME:EDT
DTSTART:20240310T070000
END:DAYLIGHT
BEGIN:STANDARD
TZOFFSETFROM:-0400
TZOFFSETTO:-0500
TZNAME:EST
DTSTART:20241103T060000
END:STANDARD
BEGIN:DAYLIGHT
TZOFFSETFROM:-0500
TZOFFSETTO:-0400
TZNAME:EDT
DTSTART:20250309T070000
END:DAYLIGHT
BEGIN:STANDARD
TZOFFSETFROM:-0400
TZOFFSETTO:-0500
TZNAME:EST
DTSTART:20251102T060000
END:STANDARD
BEGIN:DAYLIGHT
TZOFFSETFROM:-0500
TZOFFSETTO:-0400
TZNAME:EDT
DTSTART:20260308T070000
END:DAYLIGHT
BEGIN:STANDARD
TZOFFSETFROM:-0400
TZOFFSETTO:-0500
TZNAME:EST
DTSTART:20261101T060000
END:STANDARD
END:VTIMEZONE
BEGIN:VEVENT
DTSTART;TZID=America/New_York:20251114T180000
DTEND;TZID=America/New_York:20251114T210000
DTSTAMP:20260425T093919
CREATED:20251031T194841Z
LAST-MODIFIED:20251112T050814Z
UID:7026-1763143200-1763154000@cedarlane.org
SUMMARY:Parent and Caregiver Night Out
DESCRIPTION:Drop off your kids with our two caregivers every 2nd Friday\, 6–9PM! Dinner provided plus fun activities. \nWe’ll make tape-resistant tote bags and paint on canvases. We will also have pizza and snacks\, you don’t want to miss this! \n\n	\n		\n			\n				\n					November Sign Up\n				\n			\n		\n	\n\nWe have fun activities planned for each month \n\n11/14/2025:  Decorating bags w/ tape resistance\n12/12/2025:  Cookie decorating/ polar express/ hot coco\n1/9/2026:  Vision board collaging\n2/13/2026:  Kids yoga\n3/13/2026:  “Paint and Sip” Washable paint/ water colors and juice boxes\n4/10/2026:  Game Night\n5/8/2026:  Movie Night w/ popcorn machine\n\nWant to stay on-site? Check out our new Parents Night In offering! \n 
URL:https://cedarlane.org/calendar/parent-and-caregiver-night-out-2/
LOCATION:Rm 30-31 (Lower Level)\, 9601 Cedar Ln\, Bethesda\, MD\, 20814\, United States
CATEGORIES:Families,Fun
ATTACH;FMTTYPE=image/webp:https://cedarlane.org/wp-content/uploads/2025/10/Parent-Night-Out.webp
ORGANIZER;CN="Faith Formation":MAILTO:RE@cedarlane.org
END:VEVENT
END:VCALENDAR