BEGIN:VCALENDAR
VERSION:2.0
PRODID:-//Cedar Lane Unitarian Universalist Congregation - ECPv6.15.20//NONSGML v1.0//EN
CALSCALE:GREGORIAN
METHOD:PUBLISH
X-WR-CALNAME:Cedar Lane Unitarian Universalist Congregation
X-ORIGINAL-URL:https://cedarlane.org
X-WR-CALDESC:Events for Cedar Lane Unitarian Universalist Congregation
REFRESH-INTERVAL;VALUE=DURATION:PT1H
X-Robots-Tag:noindex
X-PUBLISHED-TTL:PT1H
BEGIN:VTIMEZONE
TZID:America/New_York
BEGIN:DAYLIGHT
TZOFFSETFROM:-0500
TZOFFSETTO:-0400
TZNAME:EDT
DTSTART:20250309T070000
END:DAYLIGHT
BEGIN:STANDARD
TZOFFSETFROM:-0400
TZOFFSETTO:-0500
TZNAME:EST
DTSTART:20251102T060000
END:STANDARD
BEGIN:DAYLIGHT
TZOFFSETFROM:-0500
TZOFFSETTO:-0400
TZNAME:EDT
DTSTART:20260308T070000
END:DAYLIGHT
BEGIN:STANDARD
TZOFFSETFROM:-0400
TZOFFSETTO:-0500
TZNAME:EST
DTSTART:20261101T060000
END:STANDARD
BEGIN:DAYLIGHT
TZOFFSETFROM:-0500
TZOFFSETTO:-0400
TZNAME:EDT
DTSTART:20270314T070000
END:DAYLIGHT
BEGIN:STANDARD
TZOFFSETFROM:-0400
TZOFFSETTO:-0500
TZNAME:EST
DTSTART:20271107T060000
END:STANDARD
END:VTIMEZONE
BEGIN:VEVENT
DTSTART;TZID=America/New_York:20260425T100000
DTEND;TZID=America/New_York:20260425T113000
DTSTAMP:20260424T011226
CREATED:20260406T170226Z
LAST-MODIFIED:20260406T171506Z
UID:9574-1777111200-1777116600@cedarlane.org
SUMMARY:Raga Sound Bath Experience
DESCRIPTION:A Raga Bath is a guided sound immersion that blends Indian classical ragas with the tones of crystal singing bowls and bells. Participants are invited to lie down or sit comfortably while the music unfolds around them – slow melodic phrases\, sustained notes\, and resonant vibrations that invite the body to relax and the mind to settle. \nThe session moves gradually\, beginning with gentle tones and simple melodic lines and deepening into layered sound that supports quiet attention and rest. Many people leave feeling grounded\, rested\, and clear. \nPlease bring a yoga mat or blanket that will help you lie down comfortably during the session. \nAshwin Baliga is a US-based Indian classical vocalist trained by Guru Milind Chittal and Mahesh Kale. Ashwin often shares translations and context during performances and collaborates with musicians\, sound practitioners\, and artists across traditions. He is the lead singer of the electronic–classical group VIBRAHA and a member of the National Sufi Ensemble in Washington\, DC. \nBrian Eubanks is a singer songwriter and multi instrumentalist who creates musical soundscapes for meditation and reflection. Trained in classical music and jazz improvisation\, he combines voice\, acoustic and electronic instruments\, and crystal and metal singing bowls to shape immersive listening experiences that invite stillness and attentive presence. \nFee: $20 per person\, (love offering with sliding scale)\nLimit: 20 participants \n\n	\n		\n			\n				\n					Reserve Your Spot
URL:https://cedarlane.org/calendar/raga-sound-bath-experiance/
LOCATION:Chapel\, 9601 Cedar Lane\, Bethesda\, MD\, 20814\, United States
CATEGORIES:Healing,In the Spotlight,Newcomers,Spirituality
ATTACH;FMTTYPE=image/webp:https://cedarlane.org/wp-content/uploads/2026/04/RagaBath.webp
END:VEVENT
END:VCALENDAR