BEGIN:VCALENDAR
VERSION:2.0
PRODID:-//Cedar Lane Unitarian Universalist Congregation - ECPv6.15.20//NONSGML v1.0//EN
CALSCALE:GREGORIAN
METHOD:PUBLISH
X-ORIGINAL-URL:https://cedarlane.org
X-WR-CALDESC:Events for Cedar Lane Unitarian Universalist Congregation
REFRESH-INTERVAL;VALUE=DURATION:PT1H
X-Robots-Tag:noindex
X-PUBLISHED-TTL:PT1H
BEGIN:VTIMEZONE
TZID:America/New_York
BEGIN:DAYLIGHT
TZOFFSETFROM:-0500
TZOFFSETTO:-0400
TZNAME:EDT
DTSTART:20240310T070000
END:DAYLIGHT
BEGIN:STANDARD
TZOFFSETFROM:-0400
TZOFFSETTO:-0500
TZNAME:EST
DTSTART:20241103T060000
END:STANDARD
BEGIN:DAYLIGHT
TZOFFSETFROM:-0500
TZOFFSETTO:-0400
TZNAME:EDT
DTSTART:20250309T070000
END:DAYLIGHT
BEGIN:STANDARD
TZOFFSETFROM:-0400
TZOFFSETTO:-0500
TZNAME:EST
DTSTART:20251102T060000
END:STANDARD
BEGIN:DAYLIGHT
TZOFFSETFROM:-0500
TZOFFSETTO:-0400
TZNAME:EDT
DTSTART:20260308T070000
END:DAYLIGHT
BEGIN:STANDARD
TZOFFSETFROM:-0400
TZOFFSETTO:-0500
TZNAME:EST
DTSTART:20261101T060000
END:STANDARD
END:VTIMEZONE
BEGIN:VEVENT
DTSTART;TZID=America/New_York:20251123T090000
DTEND;TZID=America/New_York:20251123T103000
DTSTAMP:20260425T201229
CREATED:20251029T194321Z
LAST-MODIFIED:20251110T145939Z
UID:10016373-1763888400-1763893800@cedarlane.org
SUMMARY:Food and Diaper Drop-off
DESCRIPTION:You are invited to bring food and diapers and place them in the collection bin found in the chapel hallway. Volunteers collect these items on Sunday mornings and take them to our partner\, Mid-County United Ministries (MUM)\, to be distributed in the community. \nYour donations are greatly appreciated! \nCurrent Urgent Needs\n\nThree children need diapers sizes 3 and 5-6T pull-ups\n\nOn-going Needs\n\nHot/Cold Cereals\nCanned Fruits/Vegetables\nDry/Canned Beans\, Pastas\, Rice\nPasta Sauces\nCanned Meats/Tuna\nSoups/Stews/Chilies\nPeanut Butter/Jelly\nDiet Specific Foods\nToiletries\nDiapers and wipes\nFresh produce
URL:https://cedarlane.org/calendar/food-and-diaper-drop-off/2025-11-23/
LOCATION:Cedar Lane UU Congregation\, 9601 Cedar Ln\, Bethesda\, Maryland\, 20814
CATEGORIES:Activism & Justice,Volunteer Opportunity
ATTACH;FMTTYPE=image/webp:https://cedarlane.org/wp-content/uploads/2025/10/MUM.webp
ORGANIZER;CN="Roger DeLucia":MAILTO:mum@cedarlane.org
END:VEVENT
BEGIN:VEVENT
DTSTART;TZID=America/New_York:20251123T093000
DTEND;TZID=America/New_York:20251123T222000
DTSTAMP:20260425T201229
CREATED:20250822T182728Z
LAST-MODIFIED:20251110T141403Z
UID:10017467-1763890200-1763936400@cedarlane.org
SUMMARY:Quiet Callings
DESCRIPTION:Gather with us on Sunday mornings at 9:30 in the Chalice House for gentle music\, meditation\, and quiet reflection. This is a welcoming space for renewal\, sharing what’s on our hearts\, and finding connection\, healing\, and peace.
URL:https://cedarlane.org/calendar/quiet-callings/2025-11-23/
LOCATION:Chalice House\, 9601 Cedar Ln\, Bethesda\, MD\, 20814\, United States
CATEGORIES:Newcomers,Spirituality
ATTACH;FMTTYPE=image/png:https://cedarlane.org/wp-content/uploads/2025/08/Quiet-Callings-AM-1.png
GEO:39.013542080457;-77.088487850511
X-APPLE-STRUCTURED-LOCATION;VALUE=URI;X-ADDRESS=Chalice House 9601 Cedar Ln Bethesda MD 20814 United States;X-APPLE-RADIUS=500;X-TITLE=9601 Cedar Ln:geo:-77.088487850511,39.013542080457
END:VEVENT
BEGIN:VEVENT
DTSTART;TZID=America/New_York:20251123T103000
DTEND;TZID=America/New_York:20251123T113000
DTSTAMP:20260425T201229
CREATED:20251102T021042Z
LAST-MODIFIED:20251110T145900Z
UID:10000022-1763893800-1763897400@cedarlane.org
SUMMARY:Sunday Worship Service
DESCRIPTION:Join us on Sundays in person or online for inspiring music\, thoughtful reflections\, and a warm\, welcoming community. \n\n	\n		\n			\n				\n					This Week's Worship Topic\n				\n			\n		\n	\n\nYou are welcome to join us!
URL:https://cedarlane.org/calendar/sunday-worship-service-3/2025-11-23/
LOCATION:Sanctuary\, 9601 Cedar Ln\, Bethesda\, MD\, 20814\, United States
CATEGORIES:Livestream Event,Newcomers,Spirituality,Youth
ATTACH;FMTTYPE=image/jpeg:https://cedarlane.org/wp-content/uploads/2025/05/2017cedarlane-530.jpg
END:VEVENT
BEGIN:VEVENT
DTSTART;TZID=America/New_York:20251123T120000
DTEND;TZID=America/New_York:20251123T133000
DTSTAMP:20260425T201230
CREATED:20251108T061235Z
LAST-MODIFIED:20251112T050213Z
UID:10017863-1763899200-1763904600@cedarlane.org
SUMMARY:Congregational Potluck Lunch After Service
DESCRIPTION:Join us for a potluck lunch to celebrate the fall season! \nBring your friends & share–everyone is welcome! \nLet’s celebrate our community and be in solidarity together! \n\n	\n		\n			\n				\n					Sign Up to Bring a Dish
URL:https://cedarlane.org/calendar/congregational-potluck-lunch-after-service/
LOCATION:Fellowship Hall\, 9601 Cedar Ln\, Bethesda\, MD\, 20814\, United States
CATEGORIES:After the Service,Families,Fun,Volunteer Opportunity
ATTACH;FMTTYPE=image/webp:https://cedarlane.org/wp-content/uploads/2025/11/IMG_1377-scaled.webp
END:VEVENT
BEGIN:VEVENT
DTSTART;TZID=America/New_York:20251123T173000
DTEND;TZID=America/New_York:20251123T190000
DTSTAMP:20260425T201230
CREATED:20250915T143439Z
LAST-MODIFIED:20251101T214303Z
UID:10014496-1763919000-1763924400@cedarlane.org
SUMMARY:High-Schoolers Hang Out
DESCRIPTION:Join fellow teens on Sunday Evenings in room 2 for this weekly get-together — Enjoy food\, music (choir & instrumental breakout groups)\, games\, crafts\, & space to chill with friends.
URL:https://cedarlane.org/calendar/high-schoolers-hang-out/2025-11-23/
LOCATION:Cedar Lane UU Congregation\, 9601 Cedar Ln\, Bethesda\, Maryland\, 20814
CATEGORIES:Newcomers,Youth
ATTACH;FMTTYPE=image/webp:https://cedarlane.org/wp-content/uploads/2025/10/hangout.webp
ORGANIZER;CN="Regina Dull":MAILTO:youthhangouts@cedarlane.org
END:VEVENT
BEGIN:VEVENT
DTSTART;TZID=America/New_York:20251124T100000
DTEND;TZID=America/New_York:20251124T120000
DTSTAMP:20260425T201230
CREATED:20250709T163356Z
LAST-MODIFIED:20251101T214305Z
UID:10015498-1763978400-1763985600@cedarlane.org
SUMMARY:Science and Religion
DESCRIPTION:
URL:https://cedarlane.org/calendar/science-religion-discussion/2025-11-24/
CATEGORIES:Learn and Grow
ATTACH;FMTTYPE=image/webp:https://cedarlane.org/wp-content/uploads/2025/10/science.webp
END:VEVENT
BEGIN:VEVENT
DTSTART;TZID=America/New_York:20251124T193000
DTEND;TZID=America/New_York:20251124T203000
DTSTAMP:20260425T201230
CREATED:20250828T202129Z
LAST-MODIFIED:20251101T214304Z
UID:10014231-1764012600-1764016200@cedarlane.org
SUMMARY:Meditation
DESCRIPTION:This online meditation class focuses on finding peace of mind and stress reduction through the teachings of the Buddha on mindfulness and compassion. All levels are welcome to our drop in class. \n\n	\n		\n			\n				\n					Join via Zoom\n				\n			\n		\n	\n\n 
URL:https://cedarlane.org/calendar/meditation-26/2025-11-24/
CATEGORIES:Healing,Spirituality
ATTACH;FMTTYPE=image/webp:https://cedarlane.org/wp-content/uploads/2025/10/meditation.webp
ORGANIZER;CN="Carole Rogentine":MAILTO:meditation@cedarlane.org
LOCATION:https://cedarlane.org/calendar/meditation-26/2025-11-24/
END:VEVENT
BEGIN:VEVENT
DTSTART;TZID=America/New_York:20251125T100000
DTEND;TZID=America/New_York:20251125T120000
DTSTAMP:20260425T201230
CREATED:20251029T005217Z
LAST-MODIFIED:20251101T214300Z
UID:10016695-1764064800-1764072000@cedarlane.org
SUMMARY:Alliance Bridge Club
DESCRIPTION:Join us to play Bridge weekly on Tuesday from 10am-noon in the Fellowship Hall.
URL:https://cedarlane.org/calendar/alliance-bridge-club/2025-11-25/
LOCATION:Fellowship Hall\, 9601 Cedar Ln\, Bethesda\, MD\, 20814\, United States
CATEGORIES:Fun
ATTACH;FMTTYPE=image/webp:https://cedarlane.org/wp-content/uploads/2025/10/alessandro-bogliari-43LcbfI-tok-unsplash.webp
END:VEVENT
BEGIN:VEVENT
DTSTART;TZID=America/New_York:20251125T190000
DTEND;TZID=America/New_York:20251125T203000
DTSTAMP:20260425T201230
CREATED:20250813T175818Z
LAST-MODIFIED:20251101T214305Z
UID:10001003-1764097200-1764102600@cedarlane.org
SUMMARY:Diverse Voices Book Club
DESCRIPTION:This discussion group meets on the 4th Tuesday of each month on zoom. To get more information or join the group\, reach out to Sandy Shaw.
URL:https://cedarlane.org/calendar/diverse-voices-book-club/2025-11-25/
CATEGORIES:Learn and Grow
ATTACH;FMTTYPE=image/webp:https://cedarlane.org/wp-content/uploads/2025/10/diversevoices.webp
ORGANIZER;CN="Sandy Shaw":MAILTO:DVBC@cedarlane.org
LOCATION:https://cedarlane.org/calendar/diverse-voices-book-club/2025-11-25/
END:VEVENT
BEGIN:VEVENT
DTSTART;TZID=America/New_York:20251126T193000
DTEND;TZID=America/New_York:20251126T213000
DTSTAMP:20260425T201230
CREATED:20250825T185252Z
LAST-MODIFIED:20251112T052706Z
UID:10001823-1764185400-1764192600@cedarlane.org
SUMMARY:Adult Choir Rehearsal
DESCRIPTION:Join the Cedar Lane choir for the 2025-26 season! \nThere’s always a place for you in the choir. Young\, old\, new\, experienced\, and lesser experienced all welcome! Individual training can be provided. Come share the joy of singing with your fellow Cedar Lane members and friends to provide regular music for worship services and other events throughout the church year. Rehearsals meet on Wednesdays at 7:30pm in the choir loft (upstairs from the sanctuary). \nFor more information\, please contact Michael Holmes\, director of Music and Arts\, at mholmes@cedarlane.org.
URL:https://cedarlane.org/calendar/adult-choir-rehearsal/2025-11-26/
LOCATION:Sanctuary\, 9601 Cedar Ln\, Bethesda\, MD\, 20814\, United States
CATEGORIES:Music
ATTACH;FMTTYPE=image/webp:https://cedarlane.org/wp-content/uploads/2025/10/choir.webp
ORGANIZER;CN="Michael Holmes":MAILTO:mholmes@cedarlane.org
END:VEVENT
BEGIN:VEVENT
DTSTART;TZID=America/New_York:20251127T180000
DTEND;TZID=America/New_York:20251127T203000
DTSTAMP:20260425T201230
CREATED:20251031T204421Z
LAST-MODIFIED:20251101T214258Z
UID:10011059-1764266400-1764275400@cedarlane.org
SUMMARY:Bell-choir Rehearsal
DESCRIPTION:Join the Cedar Lane bell choir! \nFor information\, please contact Michael Holmes\, director of Music and Arts\, at mholmes@cedarlane.org.
URL:https://cedarlane.org/calendar/bell-choir-rehearsal-2/
LOCATION:Sanctuary\, 9601 Cedar Ln\, Bethesda\, MD\, 20814\, United States
CATEGORIES:Music
ATTACH;FMTTYPE=image/webp:https://cedarlane.org/wp-content/uploads/2025/10/bell-choir.webp
ORGANIZER;CN="Michael Holmes":MAILTO:mholmes@cedarlane.org
END:VEVENT
BEGIN:VEVENT
DTSTART;TZID=America/New_York:20251128T090000
DTEND;TZID=America/New_York:20251128T113000
DTSTAMP:20260425T201230
CREATED:20250923T150016Z
LAST-MODIFIED:20251101T214303Z
UID:10014750-1764320400-1764329400@cedarlane.org
SUMMARY:Asian American Forum
DESCRIPTION:
URL:https://cedarlane.org/calendar/asian-american-forum-4/2025-11-28/
CATEGORIES:External (rental)
ATTACH;FMTTYPE=image/webp:https://cedarlane.org/wp-content/uploads/2025/10/Asian-Forum.webp
END:VEVENT
BEGIN:VEVENT
DTSTART;TZID=America/New_York:20251128T140000
DTEND;TZID=America/New_York:20251128T160000
DTSTAMP:20260425T201230
CREATED:20250709T163340Z
LAST-MODIFIED:20260406T204233Z
UID:10000754-1764338400-1764345600@cedarlane.org
SUMMARY:Fiber Arts Club
DESCRIPTION:Each Friday Cedar Lane fiber artists gather on zoom for 2 hours of creativity and connection. All are welcome! \n\n	\n		\n			\n				\n					Join via Zoom
URL:https://cedarlane.org/calendar/fiber-arts-club-6/2025-11-28/
CATEGORIES:Fun
ATTACH;FMTTYPE=image/webp:https://cedarlane.org/wp-content/uploads/2025/10/fiber-arts.webp
ORGANIZER;CN="Fiber Arts Coordinator":MAILTO:fiberarts@cedarlane.org
LOCATION:https://cedarlane.org/calendar/fiber-arts-club-6/2025-11-28/
END:VEVENT
BEGIN:VEVENT
DTSTART;TZID=America/New_York:20251130T090000
DTEND;TZID=America/New_York:20251130T103000
DTSTAMP:20260425T201230
CREATED:20251029T194321Z
LAST-MODIFIED:20251110T145939Z
UID:10016374-1764493200-1764498600@cedarlane.org
SUMMARY:Food and Diaper Drop-off
DESCRIPTION:You are invited to bring food and diapers and place them in the collection bin found in the chapel hallway. Volunteers collect these items on Sunday mornings and take them to our partner\, Mid-County United Ministries (MUM)\, to be distributed in the community. \nYour donations are greatly appreciated! \nCurrent Urgent Needs\n\nThree children need diapers sizes 3 and 5-6T pull-ups\n\nOn-going Needs\n\nHot/Cold Cereals\nCanned Fruits/Vegetables\nDry/Canned Beans\, Pastas\, Rice\nPasta Sauces\nCanned Meats/Tuna\nSoups/Stews/Chilies\nPeanut Butter/Jelly\nDiet Specific Foods\nToiletries\nDiapers and wipes\nFresh produce
URL:https://cedarlane.org/calendar/food-and-diaper-drop-off/2025-11-30/
LOCATION:Cedar Lane UU Congregation\, 9601 Cedar Ln\, Bethesda\, Maryland\, 20814
CATEGORIES:Activism & Justice,Volunteer Opportunity
ATTACH;FMTTYPE=image/webp:https://cedarlane.org/wp-content/uploads/2025/10/MUM.webp
ORGANIZER;CN="Roger DeLucia":MAILTO:mum@cedarlane.org
END:VEVENT
BEGIN:VEVENT
DTSTART;TZID=America/New_York:20251130T093000
DTEND;TZID=America/New_York:20251130T222000
DTSTAMP:20260425T201230
CREATED:20250822T182728Z
LAST-MODIFIED:20251110T141403Z
UID:10017468-1764495000-1764541200@cedarlane.org
SUMMARY:Quiet Callings
DESCRIPTION:Gather with us on Sunday mornings at 9:30 in the Chalice House for gentle music\, meditation\, and quiet reflection. This is a welcoming space for renewal\, sharing what’s on our hearts\, and finding connection\, healing\, and peace.
URL:https://cedarlane.org/calendar/quiet-callings/2025-11-30/
LOCATION:Chalice House\, 9601 Cedar Ln\, Bethesda\, MD\, 20814\, United States
CATEGORIES:Newcomers,Spirituality
ATTACH;FMTTYPE=image/png:https://cedarlane.org/wp-content/uploads/2025/08/Quiet-Callings-AM-1.png
GEO:39.013542080457;-77.088487850511
X-APPLE-STRUCTURED-LOCATION;VALUE=URI;X-ADDRESS=Chalice House 9601 Cedar Ln Bethesda MD 20814 United States;X-APPLE-RADIUS=500;X-TITLE=9601 Cedar Ln:geo:-77.088487850511,39.013542080457
END:VEVENT
BEGIN:VEVENT
DTSTART;TZID=America/New_York:20251130T103000
DTEND;TZID=America/New_York:20251130T113000
DTSTAMP:20260425T201230
CREATED:20251102T021042Z
LAST-MODIFIED:20251110T145900Z
UID:10000023-1764498600-1764502200@cedarlane.org
SUMMARY:Sunday Worship Service
DESCRIPTION:Join us on Sundays in person or online for inspiring music\, thoughtful reflections\, and a warm\, welcoming community. \n\n	\n		\n			\n				\n					This Week's Worship Topic\n				\n			\n		\n	\n\nYou are welcome to join us!
URL:https://cedarlane.org/calendar/sunday-worship-service-3/2025-11-30/
LOCATION:Sanctuary\, 9601 Cedar Ln\, Bethesda\, MD\, 20814\, United States
CATEGORIES:Livestream Event,Newcomers,Spirituality,Youth
ATTACH;FMTTYPE=image/jpeg:https://cedarlane.org/wp-content/uploads/2025/05/2017cedarlane-530.jpg
END:VEVENT
BEGIN:VEVENT
DTSTART;TZID=America/New_York:20251130T173000
DTEND;TZID=America/New_York:20251130T190000
DTSTAMP:20260425T201230
CREATED:20250915T143439Z
LAST-MODIFIED:20251101T214303Z
UID:10014497-1764523800-1764529200@cedarlane.org
SUMMARY:High-Schoolers Hang Out
DESCRIPTION:Join fellow teens on Sunday Evenings in room 2 for this weekly get-together — Enjoy food\, music (choir & instrumental breakout groups)\, games\, crafts\, & space to chill with friends.
URL:https://cedarlane.org/calendar/high-schoolers-hang-out/2025-11-30/
LOCATION:Cedar Lane UU Congregation\, 9601 Cedar Ln\, Bethesda\, Maryland\, 20814
CATEGORIES:Newcomers,Youth
ATTACH;FMTTYPE=image/webp:https://cedarlane.org/wp-content/uploads/2025/10/hangout.webp
ORGANIZER;CN="Regina Dull":MAILTO:youthhangouts@cedarlane.org
END:VEVENT
BEGIN:VEVENT
DTSTART;TZID=America/New_York:20251201T100000
DTEND;TZID=America/New_York:20251201T120000
DTSTAMP:20260425T201230
CREATED:20250709T163356Z
LAST-MODIFIED:20251101T214305Z
UID:10015499-1764583200-1764590400@cedarlane.org
SUMMARY:Science and Religion
DESCRIPTION:
URL:https://cedarlane.org/calendar/science-religion-discussion/2025-12-01/
CATEGORIES:Learn and Grow
ATTACH;FMTTYPE=image/webp:https://cedarlane.org/wp-content/uploads/2025/10/science.webp
END:VEVENT
BEGIN:VEVENT
DTSTART;TZID=America/New_York:20251201T193000
DTEND;TZID=America/New_York:20251201T203000
DTSTAMP:20260425T201230
CREATED:20250828T202129Z
LAST-MODIFIED:20251101T214304Z
UID:10014232-1764617400-1764621000@cedarlane.org
SUMMARY:Meditation
DESCRIPTION:This online meditation class focuses on finding peace of mind and stress reduction through the teachings of the Buddha on mindfulness and compassion. All levels are welcome to our drop in class. \n\n	\n		\n			\n				\n					Join via Zoom\n				\n			\n		\n	\n\n 
URL:https://cedarlane.org/calendar/meditation-26/2025-12-01/
CATEGORIES:Healing,Spirituality
ATTACH;FMTTYPE=image/webp:https://cedarlane.org/wp-content/uploads/2025/10/meditation.webp
ORGANIZER;CN="Carole Rogentine":MAILTO:meditation@cedarlane.org
LOCATION:https://cedarlane.org/calendar/meditation-26/2025-12-01/
END:VEVENT
BEGIN:VEVENT
DTSTART;TZID=America/New_York:20251202T100000
DTEND;TZID=America/New_York:20251202T120000
DTSTAMP:20260425T201230
CREATED:20251029T005217Z
LAST-MODIFIED:20251101T214300Z
UID:10016696-1764669600-1764676800@cedarlane.org
SUMMARY:Alliance Bridge Club
DESCRIPTION:Join us to play Bridge weekly on Tuesday from 10am-noon in the Fellowship Hall.
URL:https://cedarlane.org/calendar/alliance-bridge-club/2025-12-02/
LOCATION:Fellowship Hall\, 9601 Cedar Ln\, Bethesda\, MD\, 20814\, United States
CATEGORIES:Fun
ATTACH;FMTTYPE=image/webp:https://cedarlane.org/wp-content/uploads/2025/10/alessandro-bogliari-43LcbfI-tok-unsplash.webp
END:VEVENT
BEGIN:VEVENT
DTSTART;TZID=America/New_York:20251202T173000
DTEND;TZID=America/New_York:20251202T190000
DTSTAMP:20260425T201230
CREATED:20250923T161713Z
LAST-MODIFIED:20251101T214303Z
UID:10014765-1764696600-1764702000@cedarlane.org
SUMMARY:French Choir of Washington children's choir rehearsal
DESCRIPTION:
URL:https://cedarlane.org/calendar/french-choir-of-washington-childrens-choir-rehearsal/2025-12-02/
CATEGORIES:External (rental)
ATTACH;FMTTYPE=image/webp:https://cedarlane.org/wp-content/uploads/2025/10/frenchchoir-youth.webp
END:VEVENT
BEGIN:VEVENT
DTSTART;TZID=America/New_York:20251202T190000
DTEND;TZID=America/New_York:20251202T200000
DTSTAMP:20260425T201230
CREATED:20250709T162955Z
LAST-MODIFIED:20251101T214337Z
UID:10016133-1764702000-1764705600@cedarlane.org
SUMMARY:Environmental Justice Ministry Team
DESCRIPTION:We meet online on the first Tuesday of each month. \nTo get connected to this group\, contact a coordinator.
URL:https://cedarlane.org/calendar/environmental-justice-meeting/2025-12-02/
CATEGORIES:Activism & Justice,Planning and Coordination
ATTACH;FMTTYPE=image/webp:https://cedarlane.org/wp-content/uploads/2025/10/EJM.webp
ORGANIZER;CN="Kathleen Holmay and Nancy Wilkerson":MAILTO:EJMT@cedarlane.org
LOCATION:https://cedarlane.org/calendar/environmental-justice-meeting/2025-12-02/
END:VEVENT
BEGIN:VEVENT
DTSTART;TZID=America/New_York:20251202T200000
DTEND;TZID=America/New_York:20251202T220000
DTSTAMP:20260425T201230
CREATED:20250923T161807Z
LAST-MODIFIED:20251101T214303Z
UID:10014823-1764705600-1764712800@cedarlane.org
SUMMARY:French Choir of Washington adult choir rehearsal
DESCRIPTION:
URL:https://cedarlane.org/calendar/french-choir-of-washington-adult/2025-12-02/
CATEGORIES:External (rental)
ATTACH;FMTTYPE=image/webp:https://cedarlane.org/wp-content/uploads/2025/10/frenchchoir-adult.webp
END:VEVENT
BEGIN:VEVENT
DTSTART;TZID=America/New_York:20251203T183000
DTEND;TZID=America/New_York:20251203T193000
DTSTAMP:20260425T201230
CREATED:20251029T173106Z
LAST-MODIFIED:20251101T214300Z
UID:10016196-1764786600-1764790200@cedarlane.org
SUMMARY:Executive Committee
DESCRIPTION:This meeting is closed to executive committee members.
URL:https://cedarlane.org/calendar/executive-committee-7/2025-12-03/
CATEGORIES:Governance,Planning and Coordination
ATTACH;FMTTYPE=image/webp:https://cedarlane.org/wp-content/uploads/2025/10/ExComm.webp
END:VEVENT
BEGIN:VEVENT
DTSTART;TZID=America/New_York:20251203T193000
DTEND;TZID=America/New_York:20251203T213000
DTSTAMP:20260425T201230
CREATED:20250825T185252Z
LAST-MODIFIED:20251112T052706Z
UID:10001824-1764790200-1764797400@cedarlane.org
SUMMARY:Adult Choir Rehearsal
DESCRIPTION:Join the Cedar Lane choir for the 2025-26 season! \nThere’s always a place for you in the choir. Young\, old\, new\, experienced\, and lesser experienced all welcome! Individual training can be provided. Come share the joy of singing with your fellow Cedar Lane members and friends to provide regular music for worship services and other events throughout the church year. Rehearsals meet on Wednesdays at 7:30pm in the choir loft (upstairs from the sanctuary). \nFor more information\, please contact Michael Holmes\, director of Music and Arts\, at mholmes@cedarlane.org.
URL:https://cedarlane.org/calendar/adult-choir-rehearsal/2025-12-03/
LOCATION:Sanctuary\, 9601 Cedar Ln\, Bethesda\, MD\, 20814\, United States
CATEGORIES:Music
ATTACH;FMTTYPE=image/webp:https://cedarlane.org/wp-content/uploads/2025/10/choir.webp
ORGANIZER;CN="Michael Holmes":MAILTO:mholmes@cedarlane.org
END:VEVENT
BEGIN:VEVENT
DTSTART;TZID=America/New_York:20251204T180000
DTEND;TZID=America/New_York:20251204T203000
DTSTAMP:20260425T201230
CREATED:20250825T185702Z
LAST-MODIFIED:20251101T214304Z
UID:10011060-1764871200-1764880200@cedarlane.org
SUMMARY:Bell-choir Rehearsal
DESCRIPTION:Join the Cedar Lane bell choir! \nFor information\, please contact Michael Holmes\, director of Music and Arts\, at mholmes@cedarlane.org.
URL:https://cedarlane.org/calendar/bell-choir-rehearsal/2025-12-04/
LOCATION:Sanctuary\, 9601 Cedar Ln\, Bethesda\, MD\, 20814\, United States
CATEGORIES:Music
ATTACH;FMTTYPE=image/webp:https://cedarlane.org/wp-content/uploads/2025/10/bell-choir.webp
ORGANIZER;CN="Michael Holmes":MAILTO:mholmes@cedarlane.org
END:VEVENT
BEGIN:VEVENT
DTSTART;TZID=America/New_York:20251205T110000
DTEND;TZID=America/New_York:20251205T130000
DTSTAMP:20260425T201230
CREATED:20251029T004852Z
LAST-MODIFIED:20251101T214258Z
UID:10016633-1764932400-1764939600@cedarlane.org
SUMMARY:Alliance Book Club
DESCRIPTION:We gather on first Friday afternoon in the Library. Join us sometime!
URL:https://cedarlane.org/calendar/alliance-book-club/2025-12-05/
LOCATION:Library\, 9601 Cedar Ln\, Bethesda\, MD\, 20814\, United States
CATEGORIES:Fun
ATTACH;FMTTYPE=image/webp:https://cedarlane.org/wp-content/uploads/2025/10/shelby-murphy-figueroa-zezw9q2bc9E-unsplash-scaled.webp
ORGANIZER;CN="Helen Pechacek":MAILTO:helenpechacek@gmail.com
END:VEVENT
BEGIN:VEVENT
DTSTART;TZID=America/New_York:20251205T140000
DTEND;TZID=America/New_York:20251205T160000
DTSTAMP:20260425T201230
CREATED:20250709T163340Z
LAST-MODIFIED:20260406T204233Z
UID:10000755-1764943200-1764950400@cedarlane.org
SUMMARY:Fiber Arts Club
DESCRIPTION:Each Friday Cedar Lane fiber artists gather on zoom for 2 hours of creativity and connection. All are welcome! \n\n	\n		\n			\n				\n					Join via Zoom
URL:https://cedarlane.org/calendar/fiber-arts-club-6/2025-12-05/
CATEGORIES:Fun
ATTACH;FMTTYPE=image/webp:https://cedarlane.org/wp-content/uploads/2025/10/fiber-arts.webp
ORGANIZER;CN="Fiber Arts Coordinator":MAILTO:fiberarts@cedarlane.org
LOCATION:https://cedarlane.org/calendar/fiber-arts-club-6/2025-12-05/
END:VEVENT
BEGIN:VEVENT
DTSTART;TZID=America/New_York:20251206T100000
DTEND;TZID=America/New_York:20251206T150000
DTSTAMP:20260425T201231
CREATED:20250709T164555Z
LAST-MODIFIED:20260216T233253Z
UID:10000574-1765015200-1765033200@cedarlane.org
SUMMARY:Holiday Craft Day
DESCRIPTION:Craft Day Activities – A to Z! Click to enlarge.\nJoin us for one of the most exciting events of the year! People of all ages make holiday crafts! There will be a morning shift\, break for lunch and caroling\, followed by an afternoon shift. Bring a picnic or bag lunch and blankets or chairs. Note some activities will require signing up due to the need for spacing to do the craft and the cost. \nVolunteer slots run from 9am to 5pm on Saturday\, with some additional opportunities to help from 6 to 9pm the night before. SSL hours available! \nContact Rev. Dayna to volunteer: dedwards@cedarlane.org \nCollecting Donations for Holiday Craft Day \nWe are collecting donations for this years Holiday Craft Fair happening on December 6\, 2025. \nPlease bring any of the following. There will be a box for them in the hallway by the chapel. \n\nleft over candy from Halloween for Gingerbread houses\nshells (oyster or clam)\nold men’s ties (for door draft stoppers)\njars for “stain glass decoupage\nmilk weed pods\npressed flowers or leaves\n\n\n	\n		\n			\n				\n					Register to Participate\n				\n			\n		\n	\n\n\n	\n		\n			\n				\n					Volunteer to Help Out\n				\n			\n		\n	\n\n 
URL:https://cedarlane.org/calendar/holiday-craft-day-2/
LOCATION:Sanctuary\, 9601 Cedar Ln\, Bethesda\, MD\, 20814\, United States
CATEGORIES:Creativity,Families,Fun,Newcomers,Volunteer Opportunity,Youth
ATTACH;FMTTYPE=image/webp:https://cedarlane.org/wp-content/uploads/2025/11/cover-image.webp
ORGANIZER;CN="Clare N":MAILTO:holidaycraftday@cedarlane.org
END:VEVENT
BEGIN:VEVENT
DTSTART;TZID=America/New_York:20251207T090000
DTEND;TZID=America/New_York:20251207T100000
DTSTAMP:20260425T201231
CREATED:20251029T014624Z
LAST-MODIFIED:20260122T170419Z
UID:10017014-1765098000-1765101600@cedarlane.org
SUMMARY:JourneyWomen
DESCRIPTION:We experience silence and share what is important in our lives through readings from varied sources. We listen\, witness\, and offer nonverbal support. We light candles for our departed group members and other ancestors. Sometimes we speak into the silence and other times to the group with a spiritual or otherwise personal check-in. We sometimes use the monthly Soul Circles packet of resources as a springboard for our readings. Probably more often\, each of us brings poetry\, book excerpts\, a video clip\, or a photo whose meaning we want to explore.\n\n \n\nIn our reflective listening\, we privilege humility toward the natural world as much as we do human cultures.\n\nWe gather in person and online on the 1st and 3rd Sundays at 9:00 am Eastern. You are welcome to join us. Please contact us for zoom link info.
URL:https://cedarlane.org/calendar/journeywomen/2025-12-07/
LOCATION:Cedar Lane UU Congregation\, 9601 Cedar Ln\, Bethesda\, Maryland\, 20814
CATEGORIES:Spirituality,Women
ATTACH;FMTTYPE=image/webp:https://cedarlane.org/wp-content/uploads/2025/10/sarah-brown-cVt0u781VGo-unsplash.webp
END:VEVENT
END:VCALENDAR