BEGIN:VCALENDAR
VERSION:2.0
PRODID:-//Cedar Lane Unitarian Universalist Congregation - ECPv6.15.20//NONSGML v1.0//EN
CALSCALE:GREGORIAN
METHOD:PUBLISH
X-WR-CALNAME:Cedar Lane Unitarian Universalist Congregation
X-ORIGINAL-URL:https://cedarlane.org
X-WR-CALDESC:Events for Cedar Lane Unitarian Universalist Congregation
REFRESH-INTERVAL;VALUE=DURATION:PT1H
X-Robots-Tag:noindex
X-PUBLISHED-TTL:PT1H
BEGIN:VTIMEZONE
TZID:America/New_York
BEGIN:DAYLIGHT
TZOFFSETFROM:-0500
TZOFFSETTO:-0400
TZNAME:EDT
DTSTART:20250309T070000
END:DAYLIGHT
BEGIN:STANDARD
TZOFFSETFROM:-0400
TZOFFSETTO:-0500
TZNAME:EST
DTSTART:20251102T060000
END:STANDARD
BEGIN:DAYLIGHT
TZOFFSETFROM:-0500
TZOFFSETTO:-0400
TZNAME:EDT
DTSTART:20260308T070000
END:DAYLIGHT
BEGIN:STANDARD
TZOFFSETFROM:-0400
TZOFFSETTO:-0500
TZNAME:EST
DTSTART:20261101T060000
END:STANDARD
BEGIN:DAYLIGHT
TZOFFSETFROM:-0500
TZOFFSETTO:-0400
TZNAME:EDT
DTSTART:20270314T070000
END:DAYLIGHT
BEGIN:STANDARD
TZOFFSETFROM:-0400
TZOFFSETTO:-0500
TZNAME:EST
DTSTART:20271107T060000
END:STANDARD
END:VTIMEZONE
BEGIN:VEVENT
DTSTART;TZID=America/New_York:20260501T110000
DTEND;TZID=America/New_York:20260501T130000
DTSTAMP:20260425T075553
CREATED:20251029T004852Z
LAST-MODIFIED:20251101T214258Z
UID:10016638-1777633200-1777640400@cedarlane.org
SUMMARY:Alliance Book Club
DESCRIPTION:We gather on first Friday afternoon in the Library. Join us sometime!
URL:https://cedarlane.org/calendar/alliance-book-club/2026-05-01/
LOCATION:Library\, 9601 Cedar Ln\, Bethesda\, MD\, 20814\, United States
CATEGORIES:Fun
ATTACH;FMTTYPE=image/webp:https://cedarlane.org/wp-content/uploads/2025/10/shelby-murphy-figueroa-zezw9q2bc9E-unsplash-scaled.webp
ORGANIZER;CN="Helen Pechacek":MAILTO:helenpechacek@gmail.com
END:VEVENT
BEGIN:VEVENT
DTSTART;TZID=America/New_York:20260501T140000
DTEND;TZID=America/New_York:20260501T160000
DTSTAMP:20260425T075553
CREATED:20260406T203659Z
LAST-MODIFIED:20260406T203701Z
UID:10000776-1777644000-1777651200@cedarlane.org
SUMMARY:Fiber Arts Club
DESCRIPTION:Each Friday Cedar Lane fiber artists gather on zoom for 2 hours of creativity and connection. All are welcome! \n\n	\n		\n			\n				\n					Join via Zoom
URL:https://cedarlane.org/calendar/fiber-arts-club-6-2/2026-05-01/
CATEGORIES:Fun
ATTACH;FMTTYPE=image/webp:https://cedarlane.org/wp-content/uploads/2025/10/fiber-arts.webp
ORGANIZER;CN="Fiber Arts Coordinator":MAILTO:fiberarts@cedarlane.org
LOCATION:https://cedarlane.org/calendar/fiber-arts-club-6-2/2026-05-01/
END:VEVENT
BEGIN:VEVENT
DTSTART;TZID=America/New_York:20260503T090000
DTEND;TZID=America/New_York:20260503T100000
DTSTAMP:20260425T075553
CREATED:20251029T014624Z
LAST-MODIFIED:20260122T170419Z
UID:10017019-1777798800-1777802400@cedarlane.org
SUMMARY:JourneyWomen
DESCRIPTION:We experience silence and share what is important in our lives through readings from varied sources. We listen\, witness\, and offer nonverbal support. We light candles for our departed group members and other ancestors. Sometimes we speak into the silence and other times to the group with a spiritual or otherwise personal check-in. We sometimes use the monthly Soul Circles packet of resources as a springboard for our readings. Probably more often\, each of us brings poetry\, book excerpts\, a video clip\, or a photo whose meaning we want to explore.\n\n \n\nIn our reflective listening\, we privilege humility toward the natural world as much as we do human cultures.\n\nWe gather in person and online on the 1st and 3rd Sundays at 9:00 am Eastern. You are welcome to join us. Please contact us for zoom link info.
URL:https://cedarlane.org/calendar/journeywomen/2026-05-03/
LOCATION:Cedar Lane UU Congregation\, 9601 Cedar Ln\, Bethesda\, Maryland\, 20814
CATEGORIES:Spirituality,Women
ATTACH;FMTTYPE=image/webp:https://cedarlane.org/wp-content/uploads/2025/10/sarah-brown-cVt0u781VGo-unsplash.webp
END:VEVENT
BEGIN:VEVENT
DTSTART;TZID=America/New_York:20260503T090000
DTEND;TZID=America/New_York:20260503T103000
DTSTAMP:20260425T075553
CREATED:20251029T194321Z
LAST-MODIFIED:20251110T145939Z
UID:10016396-1777798800-1777804200@cedarlane.org
SUMMARY:Food and Diaper Drop-off
DESCRIPTION:You are invited to bring food and diapers and place them in the collection bin found in the chapel hallway. Volunteers collect these items on Sunday mornings and take them to our partner\, Mid-County United Ministries (MUM)\, to be distributed in the community. \nYour donations are greatly appreciated! \nCurrent Urgent Needs\n\nThree children need diapers sizes 3 and 5-6T pull-ups\n\nOn-going Needs\n\nHot/Cold Cereals\nCanned Fruits/Vegetables\nDry/Canned Beans\, Pastas\, Rice\nPasta Sauces\nCanned Meats/Tuna\nSoups/Stews/Chilies\nPeanut Butter/Jelly\nDiet Specific Foods\nToiletries\nDiapers and wipes\nFresh produce
URL:https://cedarlane.org/calendar/food-and-diaper-drop-off/2026-05-03/
LOCATION:Cedar Lane UU Congregation\, 9601 Cedar Ln\, Bethesda\, Maryland\, 20814
CATEGORIES:Activism & Justice,Volunteer Opportunity
ATTACH;FMTTYPE=image/webp:https://cedarlane.org/wp-content/uploads/2025/10/MUM.webp
ORGANIZER;CN="Roger DeLucia":MAILTO:mum@cedarlane.org
END:VEVENT
BEGIN:VEVENT
DTSTART;TZID=America/New_York:20260503T093000
DTEND;TZID=America/New_York:20260503T222000
DTSTAMP:20260425T075553
CREATED:20250822T182728Z
LAST-MODIFIED:20251110T141403Z
UID:10017490-1777800600-1777846800@cedarlane.org
SUMMARY:Quiet Callings
DESCRIPTION:Gather with us on Sunday mornings at 9:30 in the Chalice House for gentle music\, meditation\, and quiet reflection. This is a welcoming space for renewal\, sharing what’s on our hearts\, and finding connection\, healing\, and peace.
URL:https://cedarlane.org/calendar/quiet-callings/2026-05-03/
LOCATION:Chalice House\, 9601 Cedar Ln\, Bethesda\, MD\, 20814\, United States
CATEGORIES:Newcomers,Spirituality
ATTACH;FMTTYPE=image/png:https://cedarlane.org/wp-content/uploads/2025/08/Quiet-Callings-AM-1.png
GEO:39.013542080457;-77.088487850511
X-APPLE-STRUCTURED-LOCATION;VALUE=URI;X-ADDRESS=Chalice House 9601 Cedar Ln Bethesda MD 20814 United States;X-APPLE-RADIUS=500;X-TITLE=9601 Cedar Ln:geo:-77.088487850511,39.013542080457
END:VEVENT
BEGIN:VEVENT
DTSTART;TZID=America/New_York:20260503T103000
DTEND;TZID=America/New_York:20260503T113000
DTSTAMP:20260425T075553
CREATED:20251102T021042Z
LAST-MODIFIED:20251110T145900Z
UID:10000045-1777804200-1777807800@cedarlane.org
SUMMARY:Sunday Worship Service
DESCRIPTION:Join us on Sundays in person or online for inspiring music\, thoughtful reflections\, and a warm\, welcoming community. \n\n	\n		\n			\n				\n					This Week's Worship Topic\n				\n			\n		\n	\n \nYou are welcome to join us!
URL:https://cedarlane.org/calendar/sunday-worship-service-3/2026-05-03/
LOCATION:Sanctuary\, 9601 Cedar Ln\, Bethesda\, MD\, 20814\, United States
CATEGORIES:Livestream Event,Newcomers,Spirituality,Youth
ATTACH;FMTTYPE=image/jpeg:https://cedarlane.org/wp-content/uploads/2025/05/2017cedarlane-530.jpg
END:VEVENT
BEGIN:VEVENT
DTSTART;TZID=America/New_York:20260503T120000
DTEND;TZID=America/New_York:20260503T130000
DTSTAMP:20260425T075554
CREATED:20251104T163418Z
LAST-MODIFIED:20251110T140623Z
UID:10017806-1777809600-1777813200@cedarlane.org
SUMMARY:Newcomers Circle
DESCRIPTION:Join us after worship in this informal space to meet others\, ask questions\, and get a sense of our community. This is a great opportunity to meet other newcomers and explore how to get more connected in the Cedar Lane community.
URL:https://cedarlane.org/calendar/newcomers-circle-2/2026-05-03/
LOCATION:Library\, 9601 Cedar Ln\, Bethesda\, MD\, 20814\, United States
CATEGORIES:After the Service,Path to Membership
ATTACH;FMTTYPE=image/webp:https://cedarlane.org/wp-content/uploads/2025/10/Newcomer-Circle.webp
ORGANIZER;CN="Nicolle Singer":MAILTO:nsinger@cedarlane.org
END:VEVENT
BEGIN:VEVENT
DTSTART;TZID=America/New_York:20260503T173000
DTEND;TZID=America/New_York:20260503T190000
DTSTAMP:20260425T075554
CREATED:20250915T143439Z
LAST-MODIFIED:20251101T214303Z
UID:10014519-1777829400-1777834800@cedarlane.org
SUMMARY:High-Schoolers Hang Out
DESCRIPTION:Join fellow teens on Sunday Evenings in room 2 for this weekly get-together — Enjoy food\, music (choir & instrumental breakout groups)\, games\, crafts\, & space to chill with friends.
URL:https://cedarlane.org/calendar/high-schoolers-hang-out/2026-05-03/
LOCATION:Cedar Lane UU Congregation\, 9601 Cedar Ln\, Bethesda\, Maryland\, 20814
CATEGORIES:Newcomers,Youth
ATTACH;FMTTYPE=image/webp:https://cedarlane.org/wp-content/uploads/2025/10/hangout.webp
ORGANIZER;CN="Regina Dull":MAILTO:youthhangouts@cedarlane.org
END:VEVENT
BEGIN:VEVENT
DTSTART;TZID=America/New_York:20260504T100000
DTEND;TZID=America/New_York:20260504T120000
DTSTAMP:20260425T075554
CREATED:20250709T163356Z
LAST-MODIFIED:20251101T214305Z
UID:10015521-1777888800-1777896000@cedarlane.org
SUMMARY:Science and Religion
DESCRIPTION:
URL:https://cedarlane.org/calendar/science-religion-discussion/2026-05-04/
CATEGORIES:Learn and Grow
ATTACH;FMTTYPE=image/webp:https://cedarlane.org/wp-content/uploads/2025/10/science.webp
END:VEVENT
BEGIN:VEVENT
DTSTART;TZID=America/New_York:20260504T193000
DTEND;TZID=America/New_York:20260504T203000
DTSTAMP:20260425T075554
CREATED:20250828T202129Z
LAST-MODIFIED:20251101T214304Z
UID:10014254-1777923000-1777926600@cedarlane.org
SUMMARY:Meditation
DESCRIPTION:This online meditation class focuses on finding peace of mind and stress reduction through the teachings of the Buddha on mindfulness and compassion. All levels are welcome to our drop in class. \n\n	\n		\n			\n				\n					Join via Zoom\n				\n			\n		\n	\n \n 
URL:https://cedarlane.org/calendar/meditation-26/2026-05-04/
CATEGORIES:Healing,Spirituality
ATTACH;FMTTYPE=image/webp:https://cedarlane.org/wp-content/uploads/2025/10/meditation.webp
ORGANIZER;CN="Carole Rogentine":MAILTO:meditation@cedarlane.org
LOCATION:https://cedarlane.org/calendar/meditation-26/2026-05-04/
END:VEVENT
BEGIN:VEVENT
DTSTART;TZID=America/New_York:20260505T100000
DTEND;TZID=America/New_York:20260505T120000
DTSTAMP:20260425T075554
CREATED:20251029T005217Z
LAST-MODIFIED:20251101T214300Z
UID:10016718-1777975200-1777982400@cedarlane.org
SUMMARY:Alliance Bridge Club
DESCRIPTION:Join us to play Bridge weekly on Tuesday from 10am-noon in the Fellowship Hall.
URL:https://cedarlane.org/calendar/alliance-bridge-club/2026-05-05/
LOCATION:Fellowship Hall\, 9601 Cedar Ln\, Bethesda\, MD\, 20814\, United States
CATEGORIES:Fun
ATTACH;FMTTYPE=image/webp:https://cedarlane.org/wp-content/uploads/2025/10/alessandro-bogliari-43LcbfI-tok-unsplash.webp
END:VEVENT
BEGIN:VEVENT
DTSTART;TZID=America/New_York:20260505T173000
DTEND;TZID=America/New_York:20260505T190000
DTSTAMP:20260425T075554
CREATED:20250923T161713Z
LAST-MODIFIED:20251101T214303Z
UID:10014783-1778002200-1778007600@cedarlane.org
SUMMARY:French Choir of Washington children's choir rehearsal
DESCRIPTION:
URL:https://cedarlane.org/calendar/french-choir-of-washington-childrens-choir-rehearsal/2026-05-05/
CATEGORIES:External (rental)
ATTACH;FMTTYPE=image/webp:https://cedarlane.org/wp-content/uploads/2025/10/frenchchoir-youth.webp
END:VEVENT
BEGIN:VEVENT
DTSTART;TZID=America/New_York:20260505T190000
DTEND;TZID=America/New_York:20260505T200000
DTSTAMP:20260425T075554
CREATED:20250709T162955Z
LAST-MODIFIED:20251101T214337Z
UID:10016138-1778007600-1778011200@cedarlane.org
SUMMARY:Environmental Justice Ministry Team
DESCRIPTION:We meet online on the first Tuesday of each month. \nTo get connected to this group\, contact a coordinator.
URL:https://cedarlane.org/calendar/environmental-justice-meeting/2026-05-05/
CATEGORIES:Activism & Justice,Planning and Coordination
ATTACH;FMTTYPE=image/webp:https://cedarlane.org/wp-content/uploads/2025/10/EJM.webp
ORGANIZER;CN="Kathleen Holmay and Nancy Wilkerson":MAILTO:EJMT@cedarlane.org
LOCATION:https://cedarlane.org/calendar/environmental-justice-meeting/2026-05-05/
END:VEVENT
BEGIN:VEVENT
DTSTART;TZID=America/New_York:20260505T190000
DTEND;TZID=America/New_York:20260505T203000
DTSTAMP:20260425T075554
CREATED:20260407T013321Z
LAST-MODIFIED:20260407T022626Z
UID:10018072-1778007600-1778013000@cedarlane.org
SUMMARY:LGBTQ+ and Gender Justice Team Meeting
DESCRIPTION:Monthly meeting of the LGBTQ+ and Gender Justice Ministry Team.\n\nWe challenge harmful\, unfair and limiting stereotypes based on gender. We advocate for justice and equity for LGBTQ+ people and for reproductive rights by educating ourselves and the congregation on relevant issues; collaborating with groups that support/promote the pursuit of justice and equity for these individuals and communities; following the lead of LGBTQ+\, gender minority\, and women-led groups we partner with; and integrating intersectional perspectives throughout all of our endeavors.\n\nTo participate\, contact us at lgbtqgenderjustice@cedarlane.org
URL:https://cedarlane.org/calendar/lgbtq-and-gender-justice/2026-05-05/
CATEGORIES:Activism & Justice,LGBTQIA+
ATTACH;FMTTYPE=image/webp:https://cedarlane.org/wp-content/uploads/2026/04/LGBTQGenderJustice-2.webp
LOCATION:https://cedarlane.org/calendar/lgbtq-and-gender-justice/2026-05-05/
END:VEVENT
BEGIN:VEVENT
DTSTART;TZID=America/New_York:20260505T200000
DTEND;TZID=America/New_York:20260505T220000
DTSTAMP:20260425T075554
CREATED:20250923T161807Z
LAST-MODIFIED:20251101T214303Z
UID:10014841-1778011200-1778018400@cedarlane.org
SUMMARY:French Choir of Washington adult choir rehearsal
DESCRIPTION:
URL:https://cedarlane.org/calendar/french-choir-of-washington-adult/2026-05-05/
CATEGORIES:External (rental)
ATTACH;FMTTYPE=image/webp:https://cedarlane.org/wp-content/uploads/2025/10/frenchchoir-adult.webp
END:VEVENT
BEGIN:VEVENT
DTSTART;TZID=America/New_York:20260506T183000
DTEND;TZID=America/New_York:20260506T193000
DTSTAMP:20260425T075554
CREATED:20251029T173106Z
LAST-MODIFIED:20251101T214300Z
UID:10016201-1778092200-1778095800@cedarlane.org
SUMMARY:Executive Committee
DESCRIPTION:This meeting is closed to executive committee members.
URL:https://cedarlane.org/calendar/executive-committee-7/2026-05-06/
CATEGORIES:Governance,Planning and Coordination
ATTACH;FMTTYPE=image/webp:https://cedarlane.org/wp-content/uploads/2025/10/ExComm.webp
END:VEVENT
BEGIN:VEVENT
DTSTART;TZID=America/New_York:20260506T193000
DTEND;TZID=America/New_York:20260506T213000
DTSTAMP:20260425T075554
CREATED:20250825T185252Z
LAST-MODIFIED:20251112T052706Z
UID:10001846-1778095800-1778103000@cedarlane.org
SUMMARY:Adult Choir Rehearsal
DESCRIPTION:Join the Cedar Lane choir for the 2025-26 season! \nThere’s always a place for you in the choir. Young\, old\, new\, experienced\, and lesser experienced all welcome! Individual training can be provided. Come share the joy of singing with your fellow Cedar Lane members and friends to provide regular music for worship services and other events throughout the church year. Rehearsals meet on Wednesdays at 7:30pm in the choir loft (upstairs from the sanctuary). \nFor more information\, please contact Michael Holmes\, director of Music and Arts\, at mholmes@cedarlane.org.
URL:https://cedarlane.org/calendar/adult-choir-rehearsal/2026-05-06/
LOCATION:Sanctuary\, 9601 Cedar Ln\, Bethesda\, MD\, 20814\, United States
CATEGORIES:Music
ATTACH;FMTTYPE=image/webp:https://cedarlane.org/wp-content/uploads/2025/10/choir.webp
ORGANIZER;CN="Michael Holmes":MAILTO:mholmes@cedarlane.org
END:VEVENT
BEGIN:VEVENT
DTSTART;TZID=America/New_York:20260507T180000
DTEND;TZID=America/New_York:20260507T203000
DTSTAMP:20260425T075554
CREATED:20250825T185702Z
LAST-MODIFIED:20251101T214304Z
UID:10011082-1778176800-1778185800@cedarlane.org
SUMMARY:Bell-choir Rehearsal
DESCRIPTION:Join the Cedar Lane bell choir! \nFor information\, please contact Michael Holmes\, director of Music and Arts\, at mholmes@cedarlane.org.
URL:https://cedarlane.org/calendar/bell-choir-rehearsal/2026-05-07/
LOCATION:Sanctuary\, 9601 Cedar Ln\, Bethesda\, MD\, 20814\, United States
CATEGORIES:Music
ATTACH;FMTTYPE=image/webp:https://cedarlane.org/wp-content/uploads/2025/10/bell-choir.webp
ORGANIZER;CN="Michael Holmes":MAILTO:mholmes@cedarlane.org
END:VEVENT
BEGIN:VEVENT
DTSTART;TZID=America/New_York:20260508T100000
DTEND;TZID=America/New_York:20260508T113000
DTSTAMP:20260425T075554
CREATED:20250709T164026Z
LAST-MODIFIED:20251101T214302Z
UID:10014970-1778234400-1778239800@cedarlane.org
SUMMARY:Dementia / Alzheimer's Caregivers Support Group
DESCRIPTION:An online support group for family and caregivers of loved ones with memory decline. \nMeets every on the second Friday of each month. Contact Kay for more information.
URL:https://cedarlane.org/calendar/dementia-alzheimes/2026-05-08/
CATEGORIES:Healing
ATTACH;FMTTYPE=image/webp:https://cedarlane.org/wp-content/uploads/2025/10/Caregivers-Support.webp
ORGANIZER;CN="Kay Gottesman":MAILTO:kgottesman@verizon.net
END:VEVENT
BEGIN:VEVENT
DTSTART;TZID=America/New_York:20260508T140000
DTEND;TZID=America/New_York:20260508T160000
DTSTAMP:20260425T075554
CREATED:20260406T203659Z
LAST-MODIFIED:20260406T203701Z
UID:10000777-1778248800-1778256000@cedarlane.org
SUMMARY:Fiber Arts Club
DESCRIPTION:Each Friday Cedar Lane fiber artists gather on zoom for 2 hours of creativity and connection. All are welcome! \n\n	\n		\n			\n				\n					Join via Zoom
URL:https://cedarlane.org/calendar/fiber-arts-club-6-2/2026-05-08/
CATEGORIES:Fun
ATTACH;FMTTYPE=image/webp:https://cedarlane.org/wp-content/uploads/2025/10/fiber-arts.webp
ORGANIZER;CN="Fiber Arts Coordinator":MAILTO:fiberarts@cedarlane.org
LOCATION:https://cedarlane.org/calendar/fiber-arts-club-6-2/2026-05-08/
END:VEVENT
BEGIN:VEVENT
DTSTART;TZID=America/New_York:20260508T180000
DTEND;TZID=America/New_York:20260508T210000
DTSTAMP:20260425T075554
CREATED:20251003T180703Z
LAST-MODIFIED:20251101T214302Z
UID:10014889-1778263200-1778274000@cedarlane.org
SUMMARY:Parent and Caregiver Night Out
DESCRIPTION:Drop off your kids with our 2 caregivers every 2nd Friday\, 6–9PM! Dinner provided plus fun activities. \n\n	\n		\n			\n				\n					Sign Up\n				\n			\n		\n	\n \nWe have fun activates planned for each month \n\n10/10/2025:  Soap making\n11/14/2025:  Decorating bags w/ tape resistance\n12/12/2025:  Cookie decorating/ polar express/ hot coco\n1/9/2026:  Vision board collaging\n2/13/2026:  Kids yoga\n3/13/2026:  “Paint and Sip” Washable paint/ water colors and juice boxes\n4/10/2026:  Game Night\n5/8/2026:  Movie Night w/ popcorn machine\n\n  \nWant to stay on-site? Check out our new Parents Night In offering! \n 
URL:https://cedarlane.org/calendar/parent-and-caregiver-night-out/2026-05-08/
LOCATION:Cedar Lane UU Congregation\, 9601 Cedar Ln\, Bethesda\, Maryland\, 20814
CATEGORIES:Families,Fun
ATTACH;FMTTYPE=image/webp:https://cedarlane.org/wp-content/uploads/2025/10/Parent-Night-Out.webp
ORGANIZER;CN="Faith Formation":MAILTO:RE@cedarlane.org
END:VEVENT
BEGIN:VEVENT
DTSTART;TZID=America/New_York:20260508T180000
DTEND;TZID=America/New_York:20260508T210000
DTSTAMP:20260425T075554
CREATED:20251031T195322Z
LAST-MODIFIED:20260315T154354Z
UID:10017962-1778263200-1778274000@cedarlane.org
SUMMARY:Friday Night Flourish
DESCRIPTION:An Evening of Spiritual Development for Adults\nNot your typical church program\, Friday Night Flourish is a monthly gathering where spiritual curiosity meets embodied experience\, and the week gently gives way to wonder. \nJoin us on second Fridays of each month for this adults-only evening is designed for seekers who want spirituality that is alive\, immersive\, and felt in the body as much as the mind. Think candlelight instead of fluorescent lights\, exploration instead of lecture\, connection instead of obligation. \nEach Flourish features an experiential offering such as sound baths that melt stress\, heart-opening cacao ceremonies\, community tarot readings\, massage\, and other soulful practices meant to awaken insight\, release tension\, and invite joy. This is your opportunity to try something new and let curiosity lead the way. \nGrounded in Unitarian Universalist values and open to all\, The Friday Night Flourish is a place to expand your spiritual vocabulary\, deepen self-awareness\, and connect with others who are also asking big questions and living them out loud. \nRegister for each event individually\, you can come to one of them or all of them.  \nSliding-Scale Donations Encouraged \n\nSponsorship Rate: $20 per adult per event\nStandard Rate: $10 per adult per event\nCommunity Supported Rate: $5 per adult per event\n\nTo request a further registration reduction\, contact one of the ministers. \nAll are welcome!\nYou may come for all or part of the time. \nKnowing how many to expect helps us plan\, so we appreciate registration by the day before or further in advance if possible. \nLook for registration links in the weekly eNews or onRealm.
URL:https://cedarlane.org/calendar/friday-flourish/2026-05-08/
LOCATION:Cedar Lane UU Congregation\, 9601 Cedar Ln\, Bethesda\, Maryland\, 20814
CATEGORIES:Fun,Healing,Learn and Grow,Spirituality
ATTACH;FMTTYPE=image/webp:https://cedarlane.org/wp-content/uploads/2025/10/FridayNightFLourish.webp
ORGANIZER;CN="Rev. Dayna Edwards":MAILTO:dedwards@cedarlane.org
END:VEVENT
BEGIN:VEVENT
DTSTART;TZID=America/New_York:20260509T083000
DTEND;TZID=America/New_York:20260509T103000
DTSTAMP:20260425T075554
CREATED:20250709T163048Z
LAST-MODIFIED:20251101T214306Z
UID:10015307-1778315400-1778322600@cedarlane.org
SUMMARY:Men's Group (online)
DESCRIPTION:The Men’s Group meeting twice a month on the 2nd and 4th Saturday mornings alternating online (2nd Saturday) and in-person (4th Saturday).
URL:https://cedarlane.org/calendar/mens-group-2nd/2026-05-09/
CATEGORIES:Connect & Engage,Healing,Men
ATTACH;FMTTYPE=image/jpeg:https://cedarlane.org/wp-content/uploads/2025/05/2017cedarlane-3709.jpg
LOCATION:https://cedarlane.org/calendar/mens-group-2nd/2026-05-09/
END:VEVENT
BEGIN:VEVENT
DTSTART;TZID=America/New_York:20260509T163000
DTEND;TZID=America/New_York:20260509T193000
DTSTAMP:20260425T075554
CREATED:20260315T145020Z
LAST-MODIFIED:20260318T195530Z
UID:10017960-1778344200-1778355000@cedarlane.org
SUMMARY:Spring Auction Celebration
DESCRIPTION:Let’s Celebrate 75 Years and Beyond!\nKeep Cedar Lane strong for the next 75 years! The auction team is currently seeking volunteers to help with this year’s auction. Discover how you can help with one of Cedar Lane’s major fundraisers. There are many short term volunteer opportunities and it’s a great way to make or cement friendships. \nYour ticket for the May 9 event includes\n\nDinner (wine and beer available separately)\nRaffles (50/50 and Quilt)\nOpportunity to bid on fabulous member-hosted dinners\nTravis Ploeger\, Cedar Lane’s own piano man\, playing requests and leading the crowd \nFREE childcare programming\nActivities for children and teens\n\nHow you can participate in Cedar Lane’s biggest fundraiser of the year?\n\nDonate!  Need ideas?\nSolicit donations from your favorite local businesses. Print a business donation kit and carry it with you.\nVolunteer to help – lots of short-term needs before\, during\, and after the auction\nBid online for special services\, events\, items\, gift cards\, and more from April 26 – May 11\nBid in person May 9 on our legendary member-hosted dinners\nAttend the Celebration May 9\, 4:30 – 7:30!\n\n\n	\n		\n			\n				\n					Learn More
URL:https://cedarlane.org/calendar/spring-auction-celebration/
LOCATION:Cedar Lane UU Congregation\, 9601 Cedar Ln\, Bethesda\, Maryland\, 20814
CATEGORIES:Fun,In the Spotlight,Volunteer Opportunity
ATTACH;FMTTYPE=image/webp:https://cedarlane.org/wp-content/uploads/2026/03/auction.webp
ORGANIZER;CN="Auction Team":MAILTO:auction@cedarlane.org
END:VEVENT
BEGIN:VEVENT
DTSTART;TZID=America/New_York:20260510T090000
DTEND;TZID=America/New_York:20260510T103000
DTSTAMP:20260425T075554
CREATED:20251029T194321Z
LAST-MODIFIED:20251110T145939Z
UID:10016397-1778403600-1778409000@cedarlane.org
SUMMARY:Food and Diaper Drop-off
DESCRIPTION:You are invited to bring food and diapers and place them in the collection bin found in the chapel hallway. Volunteers collect these items on Sunday mornings and take them to our partner\, Mid-County United Ministries (MUM)\, to be distributed in the community. \nYour donations are greatly appreciated! \nCurrent Urgent Needs\n\nThree children need diapers sizes 3 and 5-6T pull-ups\n\nOn-going Needs\n\nHot/Cold Cereals\nCanned Fruits/Vegetables\nDry/Canned Beans\, Pastas\, Rice\nPasta Sauces\nCanned Meats/Tuna\nSoups/Stews/Chilies\nPeanut Butter/Jelly\nDiet Specific Foods\nToiletries\nDiapers and wipes\nFresh produce
URL:https://cedarlane.org/calendar/food-and-diaper-drop-off/2026-05-10/
LOCATION:Cedar Lane UU Congregation\, 9601 Cedar Ln\, Bethesda\, Maryland\, 20814
CATEGORIES:Activism & Justice,Volunteer Opportunity
ATTACH;FMTTYPE=image/webp:https://cedarlane.org/wp-content/uploads/2025/10/MUM.webp
ORGANIZER;CN="Roger DeLucia":MAILTO:mum@cedarlane.org
END:VEVENT
BEGIN:VEVENT
DTSTART;TZID=America/New_York:20260510T093000
DTEND;TZID=America/New_York:20260510T222000
DTSTAMP:20260425T075554
CREATED:20250822T182728Z
LAST-MODIFIED:20251110T141403Z
UID:10017491-1778405400-1778451600@cedarlane.org
SUMMARY:Quiet Callings
DESCRIPTION:Gather with us on Sunday mornings at 9:30 in the Chalice House for gentle music\, meditation\, and quiet reflection. This is a welcoming space for renewal\, sharing what’s on our hearts\, and finding connection\, healing\, and peace.
URL:https://cedarlane.org/calendar/quiet-callings/2026-05-10/
LOCATION:Chalice House\, 9601 Cedar Ln\, Bethesda\, MD\, 20814\, United States
CATEGORIES:Newcomers,Spirituality
ATTACH;FMTTYPE=image/png:https://cedarlane.org/wp-content/uploads/2025/08/Quiet-Callings-AM-1.png
GEO:39.013542080457;-77.088487850511
X-APPLE-STRUCTURED-LOCATION;VALUE=URI;X-ADDRESS=Chalice House 9601 Cedar Ln Bethesda MD 20814 United States;X-APPLE-RADIUS=500;X-TITLE=9601 Cedar Ln:geo:-77.088487850511,39.013542080457
END:VEVENT
BEGIN:VEVENT
DTSTART;TZID=America/New_York:20260510T103000
DTEND;TZID=America/New_York:20260510T113000
DTSTAMP:20260425T075554
CREATED:20251102T021042Z
LAST-MODIFIED:20251110T145900Z
UID:10000046-1778409000-1778412600@cedarlane.org
SUMMARY:Sunday Worship Service
DESCRIPTION:Join us on Sundays in person or online for inspiring music\, thoughtful reflections\, and a warm\, welcoming community. \n\n	\n		\n			\n				\n					This Week's Worship Topic\n				\n			\n		\n	\n \nYou are welcome to join us!
URL:https://cedarlane.org/calendar/sunday-worship-service-3/2026-05-10/
LOCATION:Sanctuary\, 9601 Cedar Ln\, Bethesda\, MD\, 20814\, United States
CATEGORIES:Livestream Event,Newcomers,Spirituality,Youth
ATTACH;FMTTYPE=image/jpeg:https://cedarlane.org/wp-content/uploads/2025/05/2017cedarlane-530.jpg
END:VEVENT
BEGIN:VEVENT
DTSTART;TZID=America/New_York:20260510T173000
DTEND;TZID=America/New_York:20260510T190000
DTSTAMP:20260425T075555
CREATED:20250915T143439Z
LAST-MODIFIED:20251101T214303Z
UID:10014520-1778434200-1778439600@cedarlane.org
SUMMARY:High-Schoolers Hang Out
DESCRIPTION:Join fellow teens on Sunday Evenings in room 2 for this weekly get-together — Enjoy food\, music (choir & instrumental breakout groups)\, games\, crafts\, & space to chill with friends.
URL:https://cedarlane.org/calendar/high-schoolers-hang-out/2026-05-10/
LOCATION:Cedar Lane UU Congregation\, 9601 Cedar Ln\, Bethesda\, Maryland\, 20814
CATEGORIES:Newcomers,Youth
ATTACH;FMTTYPE=image/webp:https://cedarlane.org/wp-content/uploads/2025/10/hangout.webp
ORGANIZER;CN="Regina Dull":MAILTO:youthhangouts@cedarlane.org
END:VEVENT
BEGIN:VEVENT
DTSTART;TZID=America/New_York:20260511T100000
DTEND;TZID=America/New_York:20260511T120000
DTSTAMP:20260425T075555
CREATED:20250709T163356Z
LAST-MODIFIED:20251101T214305Z
UID:10015522-1778493600-1778500800@cedarlane.org
SUMMARY:Science and Religion
DESCRIPTION:
URL:https://cedarlane.org/calendar/science-religion-discussion/2026-05-11/
CATEGORIES:Learn and Grow
ATTACH;FMTTYPE=image/webp:https://cedarlane.org/wp-content/uploads/2025/10/science.webp
END:VEVENT
BEGIN:VEVENT
DTSTART;TZID=America/New_York:20260511T193000
DTEND;TZID=America/New_York:20260511T203000
DTSTAMP:20260425T075555
CREATED:20250828T202129Z
LAST-MODIFIED:20251101T214304Z
UID:10014255-1778527800-1778531400@cedarlane.org
SUMMARY:Meditation
DESCRIPTION:This online meditation class focuses on finding peace of mind and stress reduction through the teachings of the Buddha on mindfulness and compassion. All levels are welcome to our drop in class. \n\n	\n		\n			\n				\n					Join via Zoom\n				\n			\n		\n	\n \n 
URL:https://cedarlane.org/calendar/meditation-26/2026-05-11/
CATEGORIES:Healing,Spirituality
ATTACH;FMTTYPE=image/webp:https://cedarlane.org/wp-content/uploads/2025/10/meditation.webp
ORGANIZER;CN="Carole Rogentine":MAILTO:meditation@cedarlane.org
LOCATION:https://cedarlane.org/calendar/meditation-26/2026-05-11/
END:VEVENT
END:VCALENDAR