BEGIN:VCALENDAR
VERSION:2.0
PRODID:-//Cedar Lane Unitarian Universalist Congregation - ECPv6.15.20//NONSGML v1.0//EN
CALSCALE:GREGORIAN
METHOD:PUBLISH
X-WR-CALNAME:Cedar Lane Unitarian Universalist Congregation
X-ORIGINAL-URL:https://cedarlane.org
X-WR-CALDESC:Events for Cedar Lane Unitarian Universalist Congregation
REFRESH-INTERVAL;VALUE=DURATION:PT1H
X-Robots-Tag:noindex
X-PUBLISHED-TTL:PT1H
BEGIN:VTIMEZONE
TZID:America/New_York
BEGIN:DAYLIGHT
TZOFFSETFROM:-0500
TZOFFSETTO:-0400
TZNAME:EDT
DTSTART:20250309T070000
END:DAYLIGHT
BEGIN:STANDARD
TZOFFSETFROM:-0400
TZOFFSETTO:-0500
TZNAME:EST
DTSTART:20251102T060000
END:STANDARD
BEGIN:DAYLIGHT
TZOFFSETFROM:-0500
TZOFFSETTO:-0400
TZNAME:EDT
DTSTART:20260308T070000
END:DAYLIGHT
BEGIN:STANDARD
TZOFFSETFROM:-0400
TZOFFSETTO:-0500
TZNAME:EST
DTSTART:20261101T060000
END:STANDARD
BEGIN:DAYLIGHT
TZOFFSETFROM:-0500
TZOFFSETTO:-0400
TZNAME:EDT
DTSTART:20270314T070000
END:DAYLIGHT
BEGIN:STANDARD
TZOFFSETFROM:-0400
TZOFFSETTO:-0500
TZNAME:EST
DTSTART:20271107T060000
END:STANDARD
END:VTIMEZONE
BEGIN:VEVENT
DTSTART;TZID=America/New_York:20260310T200000
DTEND;TZID=America/New_York:20260310T220000
DTSTAMP:20260425T202405
CREATED:20250923T161807Z
LAST-MODIFIED:20251101T214303Z
UID:10014834-1773172800-1773180000@cedarlane.org
SUMMARY:French Choir of Washington adult choir rehearsal
DESCRIPTION:
URL:https://cedarlane.org/calendar/french-choir-of-washington-adult/2026-03-10/
CATEGORIES:External (rental)
ATTACH;FMTTYPE=image/webp:https://cedarlane.org/wp-content/uploads/2025/10/frenchchoir-adult.webp
END:VEVENT
BEGIN:VEVENT
DTSTART;TZID=America/New_York:20260311T160000
DTEND;TZID=America/New_York:20260311T173000
DTSTAMP:20260425T202405
CREATED:20250709T163033Z
LAST-MODIFIED:20251101T214336Z
UID:10016073-1773244800-1773250200@cedarlane.org
SUMMARY:Caring Ministry Team Meeting
DESCRIPTION:We gather on the 2nd Wednesday of each month to coordinate the activities of the caring team. If you would like to talk to someone from the caring team\, please reach out.
URL:https://cedarlane.org/calendar/caring-ministry/2026-03-11/
CATEGORIES:Healing,Planning and Coordination
ATTACH;FMTTYPE=image/webp:https://cedarlane.org/wp-content/uploads/2025/10/caringteam.webp
ORGANIZER;CN="Betsy Binkes and Kathleen Holmay":MAILTO:caringteam@cedarlane.org
END:VEVENT
BEGIN:VEVENT
DTSTART;TZID=America/New_York:20260311T184500
DTEND;TZID=America/New_York:20260311T203000
DTSTAMP:20260425T202405
CREATED:20251011T231107Z
LAST-MODIFIED:20260415T144537Z
UID:10016347-1773254700-1773261000@cedarlane.org
SUMMARY:Shepherd's Table Veggie Chopping
DESCRIPTION:We meet to chop vegetables at Shepherd’s Table monthly on the 2nd Tuesday evening and the following Wednesday evening. Join us for this hands-on volunteer activity that helps feed our neighbors.
URL:https://cedarlane.org/calendar/shepherds-table-veggies2/2026-03-11/
LOCATION:Shepherd’s Table\, 8106 Georgia Ave\, Silver Spring\, 20910\, United States
CATEGORIES:Fun,In the Spotlight,Volunteer Opportunity
ATTACH;FMTTYPE=image/webp:https://cedarlane.org/wp-content/uploads/2025/10/veggie-chopping.webp
ORGANIZER;CN="Anne Fretz":MAILTO:veggiechoppers@cedarlane.org
END:VEVENT
BEGIN:VEVENT
DTSTART;TZID=America/New_York:20260311T190000
DTEND;TZID=America/New_York:20260311T203000
DTSTAMP:20260425T202405
CREATED:20250728T205232Z
LAST-MODIFIED:20251101T214305Z
UID:10000624-1773255600-1773261000@cedarlane.org
SUMMARY:Ecosystems Study Group
DESCRIPTION:What are the root causes of climate change\, biodiversity loss\, ocean acidification\, and other symptoms of our “overshoot” of Earth’s carrying capacity? What are the best ways to address our predicament? What is our moral and ethical response? ESG was founded in 2017 to explore these questions and more using a “systems thinking” approach. Our goal is to educate ourselves\, activist groups\, and the general public. We have a very active Google Group that allows us to share a wide variety of information\, and we meet twice per month to discuss what we’ve learned. We also host a number of speakers at events which we open to the wider public. Past speakers include Nate Hagens\, Charlie Hall\, Richard Heinberg\, Alice Friedemann\, Chris Clugston\, Jack Alpert\, John Seager\, Terry Spahr\, and Gaya Herrington.
URL:https://cedarlane.org/calendar/ecosystems-study-group/2026-03-11/
CATEGORIES:Activism & Justice,Learn and Grow,Nature
ATTACH;FMTTYPE=image/webp:https://cedarlane.org/wp-content/uploads/2025/10/ecosystems.webp
ORGANIZER;CN="Jim Laurenson":MAILTO:ecosystemsstudygroup@gmail.com
END:VEVENT
BEGIN:VEVENT
DTSTART;TZID=America/New_York:20260311T193000
DTEND;TZID=America/New_York:20260311T213000
DTSTAMP:20260425T202405
CREATED:20250825T185252Z
LAST-MODIFIED:20251112T052706Z
UID:10001838-1773257400-1773264600@cedarlane.org
SUMMARY:Adult Choir Rehearsal
DESCRIPTION:Join the Cedar Lane choir for the 2025-26 season! \nThere’s always a place for you in the choir. Young\, old\, new\, experienced\, and lesser experienced all welcome! Individual training can be provided. Come share the joy of singing with your fellow Cedar Lane members and friends to provide regular music for worship services and other events throughout the church year. Rehearsals meet on Wednesdays at 7:30pm in the choir loft (upstairs from the sanctuary). \nFor more information\, please contact Michael Holmes\, director of Music and Arts\, at mholmes@cedarlane.org.
URL:https://cedarlane.org/calendar/adult-choir-rehearsal/2026-03-11/
LOCATION:Sanctuary\, 9601 Cedar Ln\, Bethesda\, MD\, 20814\, United States
CATEGORIES:Music
ATTACH;FMTTYPE=image/webp:https://cedarlane.org/wp-content/uploads/2025/10/choir.webp
ORGANIZER;CN="Michael Holmes":MAILTO:mholmes@cedarlane.org
END:VEVENT
BEGIN:VEVENT
DTSTART;TZID=America/New_York:20260312T113000
DTEND;TZID=America/New_York:20260312T140000
DTSTAMP:20260425T202405
CREATED:20251029T013407Z
LAST-MODIFIED:20251101T214258Z
UID:10016957-1773315000-1773324000@cedarlane.org
SUMMARY:Alliance Luncheon
DESCRIPTION:Join us for a monthly luncheon on 2nd Thursdays from 11:30 AM-2 pm in the Fellowship Hall.
URL:https://cedarlane.org/calendar/alliance-luncheon/2026-03-12/
LOCATION:Fellowship Hall\, 9601 Cedar Ln\, Bethesda\, MD\, 20814\, United States
CATEGORIES:Fun
ATTACH;FMTTYPE=image/webp:https://cedarlane.org/wp-content/uploads/2025/10/sidral-mundet-vinT9vPUQaI-unsplash-scaled.webp
END:VEVENT
BEGIN:VEVENT
DTSTART;TZID=America/New_York:20260312T180000
DTEND;TZID=America/New_York:20260312T203000
DTSTAMP:20260425T202405
CREATED:20250825T185702Z
LAST-MODIFIED:20251101T214304Z
UID:10011074-1773338400-1773347400@cedarlane.org
SUMMARY:Bell-choir Rehearsal
DESCRIPTION:Join the Cedar Lane bell choir! \nFor information\, please contact Michael Holmes\, director of Music and Arts\, at mholmes@cedarlane.org.
URL:https://cedarlane.org/calendar/bell-choir-rehearsal/2026-03-12/
LOCATION:Sanctuary\, 9601 Cedar Ln\, Bethesda\, MD\, 20814\, United States
CATEGORIES:Music
ATTACH;FMTTYPE=image/webp:https://cedarlane.org/wp-content/uploads/2025/10/bell-choir.webp
ORGANIZER;CN="Michael Holmes":MAILTO:mholmes@cedarlane.org
END:VEVENT
BEGIN:VEVENT
DTSTART;TZID=America/New_York:20260313T100000
DTEND;TZID=America/New_York:20260313T113000
DTSTAMP:20260425T202405
CREATED:20250709T164026Z
LAST-MODIFIED:20251101T214302Z
UID:10014968-1773396000-1773401400@cedarlane.org
SUMMARY:Dementia / Alzheimer's Caregivers Support Group
DESCRIPTION:An online support group for family and caregivers of loved ones with memory decline. \nMeets every on the second Friday of each month. Contact Kay for more information.
URL:https://cedarlane.org/calendar/dementia-alzheimes/2026-03-13/
CATEGORIES:Healing
ATTACH;FMTTYPE=image/webp:https://cedarlane.org/wp-content/uploads/2025/10/Caregivers-Support.webp
ORGANIZER;CN="Kay Gottesman":MAILTO:kgottesman@verizon.net
END:VEVENT
BEGIN:VEVENT
DTSTART;TZID=America/New_York:20260313T140000
DTEND;TZID=America/New_York:20260313T160000
DTSTAMP:20260425T202405
CREATED:20250709T163340Z
LAST-MODIFIED:20260406T204233Z
UID:10000769-1773410400-1773417600@cedarlane.org
SUMMARY:Fiber Arts Club
DESCRIPTION:Each Friday Cedar Lane fiber artists gather on zoom for 2 hours of creativity and connection. All are welcome! \n\n	\n		\n			\n				\n					Join via Zoom
URL:https://cedarlane.org/calendar/fiber-arts-club-6/2026-03-13/
CATEGORIES:Fun
ATTACH;FMTTYPE=image/webp:https://cedarlane.org/wp-content/uploads/2025/10/fiber-arts.webp
ORGANIZER;CN="Fiber Arts Coordinator":MAILTO:fiberarts@cedarlane.org
LOCATION:https://cedarlane.org/calendar/fiber-arts-club-6/2026-03-13/
END:VEVENT
BEGIN:VEVENT
DTSTART;TZID=America/New_York:20260313T180000
DTEND;TZID=America/New_York:20260313T210000
DTSTAMP:20260425T202405
CREATED:20251003T180703Z
LAST-MODIFIED:20251101T214302Z
UID:10014887-1773424800-1773435600@cedarlane.org
SUMMARY:Parent and Caregiver Night Out
DESCRIPTION:Drop off your kids with our 2 caregivers every 2nd Friday\, 6–9PM! Dinner provided plus fun activities. \n\n	\n		\n			\n				\n					Sign Up\n				\n			\n		\n	\n\nWe have fun activates planned for each month \n\n10/10/2025:  Soap making\n11/14/2025:  Decorating bags w/ tape resistance\n12/12/2025:  Cookie decorating/ polar express/ hot coco\n1/9/2026:  Vision board collaging\n2/13/2026:  Kids yoga\n3/13/2026:  “Paint and Sip” Washable paint/ water colors and juice boxes\n4/10/2026:  Game Night\n5/8/2026:  Movie Night w/ popcorn machine\n\n  \nWant to stay on-site? Check out our new Parents Night In offering! \n 
URL:https://cedarlane.org/calendar/parent-and-caregiver-night-out/2026-03-13/
LOCATION:Cedar Lane UU Congregation\, 9601 Cedar Ln\, Bethesda\, Maryland\, 20814
CATEGORIES:Families,Fun
ATTACH;FMTTYPE=image/webp:https://cedarlane.org/wp-content/uploads/2025/10/Parent-Night-Out.webp
ORGANIZER;CN="Faith Formation":MAILTO:RE@cedarlane.org
END:VEVENT
BEGIN:VEVENT
DTSTART;TZID=America/New_York:20260313T180000
DTEND;TZID=America/New_York:20260313T210000
DTSTAMP:20260425T202405
CREATED:20251005T014932Z
LAST-MODIFIED:20251112T045752Z
UID:10014895-1773424800-1773435600@cedarlane.org
SUMMARY:Parents Night In
DESCRIPTION:We are excited to announce Parents Night In opportunities! \nWhile you drop off your children with our 2 caregivers we invite you to stay at Cedar Lane for fun and rejuvenating activities. \nOr come solo—everyone’s welcome! \nDate                  Activities for Adults \n12/12/2025       Winter Retreat w/ Maureen \n1/9/2026           Setting Intentions w/ Dayna \n2/13/2026        Sound Bath with Jessica \n3/13/2026        Massages with Maya \n4/10/2026         Author Talk with Lane Smith (Author of 78 Acts of Liberation: Tarot to Transform Our World) \n5/8/2026           TBD \nSliding-Scale Donations Encouraged \n\nSponsorship Rate: $20 per adult per event\nStandard Rate: $10 per adult per event\nCommunity Supported Rate: $5 per adult per event\n\n  \nTo request a further registration reduction\, contact one of the ministers. \nAll are welcome!\nYou may come for all or part of the time. \nKnowing how many to expect helps us plan\, so we appreciate registration by the day before or further in advance if possible. \n\n	\n		\n			\n				\n					Register Today
URL:https://cedarlane.org/calendar/parents-night-in-2/2026-03-13/
LOCATION:Chalice House\, 9601 Cedar Ln\, Bethesda\, MD\, 20814\, United States
CATEGORIES:Families,Fun,Healing
ATTACH;FMTTYPE=image/webp:https://cedarlane.org/wp-content/uploads/2025/10/Parent-Night-In.webp
GEO:39.013542080457;-77.088487850511
X-APPLE-STRUCTURED-LOCATION;VALUE=URI;X-ADDRESS=Chalice House 9601 Cedar Ln Bethesda MD 20814 United States;X-APPLE-RADIUS=500;X-TITLE=9601 Cedar Ln:geo:-77.088487850511,39.013542080457
END:VEVENT
BEGIN:VEVENT
DTSTART;TZID=America/New_York:20260314T083000
DTEND;TZID=America/New_York:20260314T103000
DTSTAMP:20260425T202406
CREATED:20250709T163048Z
LAST-MODIFIED:20251101T214306Z
UID:10015305-1773477000-1773484200@cedarlane.org
SUMMARY:Men's Group (online)
DESCRIPTION:The Men’s Group meeting twice a month on the 2nd and 4th Saturday mornings alternating online (2nd Saturday) and in-person (4th Saturday).
URL:https://cedarlane.org/calendar/mens-group-2nd/2026-03-14/
CATEGORIES:Connect & Engage,Healing,Men
ATTACH;FMTTYPE=image/jpeg:https://cedarlane.org/wp-content/uploads/2025/05/2017cedarlane-3709.jpg
LOCATION:https://cedarlane.org/calendar/mens-group-2nd/2026-03-14/
END:VEVENT
BEGIN:VEVENT
DTSTART;TZID=America/New_York:20260315T090000
DTEND;TZID=America/New_York:20260315T100000
DTSTAMP:20260425T202406
CREATED:20251029T020321Z
LAST-MODIFIED:20260122T200256Z
UID:10017137-1773565200-1773568800@cedarlane.org
SUMMARY:JourneyWomen
DESCRIPTION:We experience silence and share what is important in our lives through readings from varied sources. We listen\, witness\, and offer nonverbal support. We light candles for our departed group members and other ancestors. Sometimes we speak into the silence and other times to the group with a spiritual or otherwise personal check-in. We sometimes use the monthly Soul Circles packet of resources as a springboard for our readings. Probably more often\, each of us brings poetry\, book excerpts\, a video clip\, or a photo whose meaning we want to explore. \n\n\n\nIn our reflective listening\, we privilege humility toward the natural world as much as we do human cultures. \n\nWe gather in person and online on the 1st and 3rd Sundays at 9:00 am Eastern. You are welcome to join us. Please contact us for zoom link info.
URL:https://cedarlane.org/calendar/journeywomen-2/2026-03-15/
CATEGORIES:Spirituality,Women
ATTACH;FMTTYPE=image/webp:https://cedarlane.org/wp-content/uploads/2025/10/sarah-brown-cVt0u781VGo-unsplash.webp
ORGANIZER;CN="JourneyWomen":MAILTO:journeywomen@cedarlane.org
LOCATION:https://cedarlane.org/calendar/journeywomen-2/2026-03-15/
END:VEVENT
BEGIN:VEVENT
DTSTART;TZID=America/New_York:20260315T090000
DTEND;TZID=America/New_York:20260315T103000
DTSTAMP:20260425T202406
CREATED:20251029T194321Z
LAST-MODIFIED:20251110T145939Z
UID:10016389-1773565200-1773570600@cedarlane.org
SUMMARY:Food and Diaper Drop-off
DESCRIPTION:You are invited to bring food and diapers and place them in the collection bin found in the chapel hallway. Volunteers collect these items on Sunday mornings and take them to our partner\, Mid-County United Ministries (MUM)\, to be distributed in the community. \nYour donations are greatly appreciated! \nCurrent Urgent Needs\n\nThree children need diapers sizes 3 and 5-6T pull-ups\n\nOn-going Needs\n\nHot/Cold Cereals\nCanned Fruits/Vegetables\nDry/Canned Beans\, Pastas\, Rice\nPasta Sauces\nCanned Meats/Tuna\nSoups/Stews/Chilies\nPeanut Butter/Jelly\nDiet Specific Foods\nToiletries\nDiapers and wipes\nFresh produce
URL:https://cedarlane.org/calendar/food-and-diaper-drop-off/2026-03-15/
LOCATION:Cedar Lane UU Congregation\, 9601 Cedar Ln\, Bethesda\, Maryland\, 20814
CATEGORIES:Activism & Justice,Volunteer Opportunity
ATTACH;FMTTYPE=image/webp:https://cedarlane.org/wp-content/uploads/2025/10/MUM.webp
ORGANIZER;CN="Roger DeLucia":MAILTO:mum@cedarlane.org
END:VEVENT
BEGIN:VEVENT
DTSTART;TZID=America/New_York:20260315T093000
DTEND;TZID=America/New_York:20260315T222000
DTSTAMP:20260425T202406
CREATED:20250822T182728Z
LAST-MODIFIED:20251110T141403Z
UID:10017483-1773567000-1773613200@cedarlane.org
SUMMARY:Quiet Callings
DESCRIPTION:Gather with us on Sunday mornings at 9:30 in the Chalice House for gentle music\, meditation\, and quiet reflection. This is a welcoming space for renewal\, sharing what’s on our hearts\, and finding connection\, healing\, and peace.
URL:https://cedarlane.org/calendar/quiet-callings/2026-03-15/
LOCATION:Chalice House\, 9601 Cedar Ln\, Bethesda\, MD\, 20814\, United States
CATEGORIES:Newcomers,Spirituality
ATTACH;FMTTYPE=image/png:https://cedarlane.org/wp-content/uploads/2025/08/Quiet-Callings-AM-1.png
GEO:39.013542080457;-77.088487850511
X-APPLE-STRUCTURED-LOCATION;VALUE=URI;X-ADDRESS=Chalice House 9601 Cedar Ln Bethesda MD 20814 United States;X-APPLE-RADIUS=500;X-TITLE=9601 Cedar Ln:geo:-77.088487850511,39.013542080457
END:VEVENT
BEGIN:VEVENT
DTSTART;TZID=America/New_York:20260315T103000
DTEND;TZID=America/New_York:20260315T113000
DTSTAMP:20260425T202406
CREATED:20251102T021042Z
LAST-MODIFIED:20251110T145900Z
UID:10000038-1773570600-1773574200@cedarlane.org
SUMMARY:Sunday Worship Service
DESCRIPTION:Join us on Sundays in person or online for inspiring music\, thoughtful reflections\, and a warm\, welcoming community. \n\n	\n		\n			\n				\n					This Week's Worship Topic\n				\n			\n		\n	\n \nYou are welcome to join us!
URL:https://cedarlane.org/calendar/sunday-worship-service-3/2026-03-15/
LOCATION:Sanctuary\, 9601 Cedar Ln\, Bethesda\, MD\, 20814\, United States
CATEGORIES:Livestream Event,Newcomers,Spirituality,Youth
ATTACH;FMTTYPE=image/jpeg:https://cedarlane.org/wp-content/uploads/2025/05/2017cedarlane-530.jpg
END:VEVENT
BEGIN:VEVENT
DTSTART;TZID=America/New_York:20260315T120000
DTEND;TZID=America/New_York:20260315T130000
DTSTAMP:20260425T202406
CREATED:20250709T163151Z
LAST-MODIFIED:20251116T145317Z
UID:10015884-1773576000-1773579600@cedarlane.org
SUMMARY:Member Engagement and Connection Conversations
DESCRIPTION:
URL:https://cedarlane.org/calendar/member-connection/2026-03-15/
CATEGORIES:After the Service,Newcomers
ATTACH;FMTTYPE=image/webp:https://cedarlane.org/wp-content/uploads/2025/10/newcomers.webp
END:VEVENT
BEGIN:VEVENT
DTSTART;TZID=America/New_York:20260315T173000
DTEND;TZID=America/New_York:20260315T190000
DTSTAMP:20260425T202406
CREATED:20250915T143439Z
LAST-MODIFIED:20251101T214303Z
UID:10014512-1773595800-1773601200@cedarlane.org
SUMMARY:High-Schoolers Hang Out
DESCRIPTION:Join fellow teens on Sunday Evenings in room 2 for this weekly get-together — Enjoy food\, music (choir & instrumental breakout groups)\, games\, crafts\, & space to chill with friends.
URL:https://cedarlane.org/calendar/high-schoolers-hang-out/2026-03-15/
LOCATION:Cedar Lane UU Congregation\, 9601 Cedar Ln\, Bethesda\, Maryland\, 20814
CATEGORIES:Newcomers,Youth
ATTACH;FMTTYPE=image/webp:https://cedarlane.org/wp-content/uploads/2025/10/hangout.webp
ORGANIZER;CN="Regina Dull":MAILTO:youthhangouts@cedarlane.org
END:VEVENT
BEGIN:VEVENT
DTSTART;TZID=America/New_York:20260316T100000
DTEND;TZID=America/New_York:20260316T120000
DTSTAMP:20260425T202406
CREATED:20250709T163356Z
LAST-MODIFIED:20251101T214305Z
UID:10015514-1773655200-1773662400@cedarlane.org
SUMMARY:Science and Religion
DESCRIPTION:
URL:https://cedarlane.org/calendar/science-religion-discussion/2026-03-16/
CATEGORIES:Learn and Grow
ATTACH;FMTTYPE=image/webp:https://cedarlane.org/wp-content/uploads/2025/10/science.webp
END:VEVENT
BEGIN:VEVENT
DTSTART;TZID=America/New_York:20260316T193000
DTEND;TZID=America/New_York:20260316T203000
DTSTAMP:20260425T202406
CREATED:20250828T202129Z
LAST-MODIFIED:20251101T214304Z
UID:10014247-1773689400-1773693000@cedarlane.org
SUMMARY:Meditation
DESCRIPTION:This online meditation class focuses on finding peace of mind and stress reduction through the teachings of the Buddha on mindfulness and compassion. All levels are welcome to our drop in class. \n\n	\n		\n			\n				\n					Join via Zoom\n				\n			\n		\n	\n \n 
URL:https://cedarlane.org/calendar/meditation-26/2026-03-16/
CATEGORIES:Healing,Spirituality
ATTACH;FMTTYPE=image/webp:https://cedarlane.org/wp-content/uploads/2025/10/meditation.webp
ORGANIZER;CN="Carole Rogentine":MAILTO:meditation@cedarlane.org
LOCATION:https://cedarlane.org/calendar/meditation-26/2026-03-16/
END:VEVENT
BEGIN:VEVENT
DTSTART;TZID=America/New_York:20260317T100000
DTEND;TZID=America/New_York:20260317T120000
DTSTAMP:20260425T202406
CREATED:20251029T005217Z
LAST-MODIFIED:20251101T214300Z
UID:10016711-1773741600-1773748800@cedarlane.org
SUMMARY:Alliance Bridge Club
DESCRIPTION:Join us to play Bridge weekly on Tuesday from 10am-noon in the Fellowship Hall.
URL:https://cedarlane.org/calendar/alliance-bridge-club/2026-03-17/
LOCATION:Fellowship Hall\, 9601 Cedar Ln\, Bethesda\, MD\, 20814\, United States
CATEGORIES:Fun
ATTACH;FMTTYPE=image/webp:https://cedarlane.org/wp-content/uploads/2025/10/alessandro-bogliari-43LcbfI-tok-unsplash.webp
END:VEVENT
BEGIN:VEVENT
DTSTART;TZID=America/New_York:20260317T173000
DTEND;TZID=America/New_York:20260317T190000
DTSTAMP:20260425T202406
CREATED:20250923T161713Z
LAST-MODIFIED:20251101T214303Z
UID:10014777-1773768600-1773774000@cedarlane.org
SUMMARY:French Choir of Washington children's choir rehearsal
DESCRIPTION:
URL:https://cedarlane.org/calendar/french-choir-of-washington-childrens-choir-rehearsal/2026-03-17/
CATEGORIES:External (rental)
ATTACH;FMTTYPE=image/webp:https://cedarlane.org/wp-content/uploads/2025/10/frenchchoir-youth.webp
END:VEVENT
BEGIN:VEVENT
DTSTART;TZID=America/New_York:20260317T190000
DTEND;TZID=America/New_York:20260317T210000
DTSTAMP:20260425T202406
CREATED:20250709T163120Z
LAST-MODIFIED:20251101T214306Z
UID:10015429-1773774000-1773781200@cedarlane.org
SUMMARY:Board Meeting
DESCRIPTION:
URL:https://cedarlane.org/calendar/bot/2026-03-17/
CATEGORIES:Planning and Coordination
ATTACH;FMTTYPE=image/webp:https://cedarlane.org/wp-content/uploads/2025/10/Board-Meeting.webp
LOCATION:https://cedarlane.org/calendar/bot/2026-03-17/
END:VEVENT
BEGIN:VEVENT
DTSTART;TZID=America/New_York:20260317T200000
DTEND;TZID=America/New_York:20260317T220000
DTSTAMP:20260425T202406
CREATED:20250923T161807Z
LAST-MODIFIED:20251101T214303Z
UID:10014835-1773777600-1773784800@cedarlane.org
SUMMARY:French Choir of Washington adult choir rehearsal
DESCRIPTION:
URL:https://cedarlane.org/calendar/french-choir-of-washington-adult/2026-03-17/
CATEGORIES:External (rental)
ATTACH;FMTTYPE=image/webp:https://cedarlane.org/wp-content/uploads/2025/10/frenchchoir-adult.webp
END:VEVENT
BEGIN:VEVENT
DTSTART;TZID=America/New_York:20260318T180000
DTEND;TZID=America/New_York:20260318T193000
DTSTAMP:20260425T202406
CREATED:20250821T164743Z
LAST-MODIFIED:20260415T144725Z
UID:10015946-1773856800-1773862200@cedarlane.org
SUMMARY:Welcome Wednesday
DESCRIPTION:Come as you are and enjoy good food\, conversation\, and community activities with friends old and new. We meet on the 3rd Wednesday of each month to nourish body and spirit\, and build lasting connections. \nWhen RSVP’ing\, let us know if you can volunteer to bring a dish to share. \nThen stay with us at 7pm (or just come at 7pm) for our drop-in Newcomers Soul Circle. \nGet more info and let us know you’re coming – or just show up! \n\n	\n		\n			\n				\n					RSVP
URL:https://cedarlane.org/calendar/welcome-wednesday-4/2026-03-18/
LOCATION:Fellowship Hall\, 9601 Cedar Ln\, Bethesda\, MD\, 20814\, United States
CATEGORIES:In the Spotlight,Newcomers,Volunteer Opportunity
ATTACH;FMTTYPE=image/webp:https://cedarlane.org/wp-content/uploads/2025/10/welcome-wednesday.webp
ORGANIZER;CN="Nicolle Singer":MAILTO:nsinger@cedarlane.org
END:VEVENT
BEGIN:VEVENT
DTSTART;TZID=America/New_York:20260318T190000
DTEND;TZID=America/New_York:20260318T210000
DTSTAMP:20260425T202406
CREATED:20251031T201525Z
LAST-MODIFIED:20251112T050343Z
UID:10017736-1773860400-1773867600@cedarlane.org
SUMMARY:Newcomers Soul Circle
DESCRIPTION:The Newcomers Soul Circle is facilitated by Rev. Dayna Edwards for people who started attending in 2024 or 2025. Soul Circles meet once per month and are a great way to get connected and enjoy spiritual exploration with a small group. Come early to attend the Welcome Wednesday potluck before the meeting.
URL:https://cedarlane.org/calendar/newcomers-circle/2026-03-18/
LOCATION:Library\, 9601 Cedar Ln\, Bethesda\, MD\, 20814\, United States
CATEGORIES:Newcomers
ATTACH;FMTTYPE=image/webp:https://cedarlane.org/wp-content/uploads/2025/10/small-groups.webp
END:VEVENT
BEGIN:VEVENT
DTSTART;TZID=America/New_York:20260318T193000
DTEND;TZID=America/New_York:20260318T213000
DTSTAMP:20260425T202406
CREATED:20250825T185252Z
LAST-MODIFIED:20251112T052706Z
UID:10001839-1773862200-1773869400@cedarlane.org
SUMMARY:Adult Choir Rehearsal
DESCRIPTION:Join the Cedar Lane choir for the 2025-26 season! \nThere’s always a place for you in the choir. Young\, old\, new\, experienced\, and lesser experienced all welcome! Individual training can be provided. Come share the joy of singing with your fellow Cedar Lane members and friends to provide regular music for worship services and other events throughout the church year. Rehearsals meet on Wednesdays at 7:30pm in the choir loft (upstairs from the sanctuary). \nFor more information\, please contact Michael Holmes\, director of Music and Arts\, at mholmes@cedarlane.org.
URL:https://cedarlane.org/calendar/adult-choir-rehearsal/2026-03-18/
LOCATION:Sanctuary\, 9601 Cedar Ln\, Bethesda\, MD\, 20814\, United States
CATEGORIES:Music
ATTACH;FMTTYPE=image/webp:https://cedarlane.org/wp-content/uploads/2025/10/choir.webp
ORGANIZER;CN="Michael Holmes":MAILTO:mholmes@cedarlane.org
END:VEVENT
BEGIN:VEVENT
DTSTART;TZID=America/New_York:20260319T110000
DTEND;TZID=America/New_York:20260319T123000
DTSTAMP:20260425T202406
CREATED:20250709T163135Z
LAST-MODIFIED:20251101T214306Z
UID:10016011-1773918000-1773923400@cedarlane.org
SUMMARY:Alliance Board Meeting
DESCRIPTION:
URL:https://cedarlane.org/calendar/alliance-board-meeting/2026-03-19/
CATEGORIES:Planning and Coordination
ATTACH;FMTTYPE=image/webp:https://cedarlane.org/wp-content/uploads/2025/10/alliance-board.webp
END:VEVENT
BEGIN:VEVENT
DTSTART;TZID=America/New_York:20260319T180000
DTEND;TZID=America/New_York:20260319T203000
DTSTAMP:20260425T202406
CREATED:20250825T185702Z
LAST-MODIFIED:20251101T214304Z
UID:10011075-1773943200-1773952200@cedarlane.org
SUMMARY:Bell-choir Rehearsal
DESCRIPTION:Join the Cedar Lane bell choir! \nFor information\, please contact Michael Holmes\, director of Music and Arts\, at mholmes@cedarlane.org.
URL:https://cedarlane.org/calendar/bell-choir-rehearsal/2026-03-19/
LOCATION:Sanctuary\, 9601 Cedar Ln\, Bethesda\, MD\, 20814\, United States
CATEGORIES:Music
ATTACH;FMTTYPE=image/webp:https://cedarlane.org/wp-content/uploads/2025/10/bell-choir.webp
ORGANIZER;CN="Michael Holmes":MAILTO:mholmes@cedarlane.org
END:VEVENT
BEGIN:VEVENT
DTSTART;TZID=America/New_York:20260319T184500
DTEND;TZID=America/New_York:20260319T201500
DTSTAMP:20260425T202406
CREATED:20250709T163135Z
LAST-MODIFIED:20251101T214306Z
UID:10015822-1773945900-1773951300@cedarlane.org
SUMMARY:Financial Policy Committee Meeting
DESCRIPTION:
URL:https://cedarlane.org/calendar/financial-policy/2026-03-19/
CATEGORIES:Planning and Coordination
ATTACH;FMTTYPE=image/webp:https://cedarlane.org/wp-content/uploads/2025/10/financial-policy.webp
LOCATION:https://cedarlane.org/calendar/financial-policy/2026-03-19/
END:VEVENT
END:VCALENDAR