BEGIN:VCALENDAR
VERSION:2.0
PRODID:-//Cedar Lane Unitarian Universalist Congregation - ECPv6.15.20//NONSGML v1.0//EN
CALSCALE:GREGORIAN
METHOD:PUBLISH
X-ORIGINAL-URL:https://cedarlane.org
X-WR-CALDESC:Events for Cedar Lane Unitarian Universalist Congregation
REFRESH-INTERVAL;VALUE=DURATION:PT1H
X-Robots-Tag:noindex
X-PUBLISHED-TTL:PT1H
BEGIN:VTIMEZONE
TZID:America/New_York
BEGIN:DAYLIGHT
TZOFFSETFROM:-0500
TZOFFSETTO:-0400
TZNAME:EDT
DTSTART:20250309T070000
END:DAYLIGHT
BEGIN:STANDARD
TZOFFSETFROM:-0400
TZOFFSETTO:-0500
TZNAME:EST
DTSTART:20251102T060000
END:STANDARD
BEGIN:DAYLIGHT
TZOFFSETFROM:-0500
TZOFFSETTO:-0400
TZNAME:EDT
DTSTART:20260308T070000
END:DAYLIGHT
BEGIN:STANDARD
TZOFFSETFROM:-0400
TZOFFSETTO:-0500
TZNAME:EST
DTSTART:20261101T060000
END:STANDARD
BEGIN:DAYLIGHT
TZOFFSETFROM:-0500
TZOFFSETTO:-0400
TZNAME:EDT
DTSTART:20270314T070000
END:DAYLIGHT
BEGIN:STANDARD
TZOFFSETFROM:-0400
TZOFFSETTO:-0500
TZNAME:EST
DTSTART:20271107T060000
END:STANDARD
END:VTIMEZONE
BEGIN:VEVENT
DTSTART;TZID=America/New_York:20260324T173000
DTEND;TZID=America/New_York:20260324T190000
DTSTAMP:20260425T100743
CREATED:20250923T161713Z
LAST-MODIFIED:20251101T214303Z
UID:10014778-1774373400-1774378800@cedarlane.org
SUMMARY:French Choir of Washington children's choir rehearsal
DESCRIPTION:
URL:https://cedarlane.org/calendar/french-choir-of-washington-childrens-choir-rehearsal/2026-03-24/
CATEGORIES:External (rental)
ATTACH;FMTTYPE=image/webp:https://cedarlane.org/wp-content/uploads/2025/10/frenchchoir-youth.webp
END:VEVENT
BEGIN:VEVENT
DTSTART;TZID=America/New_York:20260324T190000
DTEND;TZID=America/New_York:20260324T203000
DTSTAMP:20260425T100743
CREATED:20250813T175818Z
LAST-MODIFIED:20251101T214305Z
UID:10001007-1774378800-1774384200@cedarlane.org
SUMMARY:Diverse Voices Book Club
DESCRIPTION:This discussion group meets on the 4th Tuesday of each month on zoom. To get more information or join the group\, reach out to Sandy Shaw.
URL:https://cedarlane.org/calendar/diverse-voices-book-club/2026-03-24/
CATEGORIES:Learn and Grow
ATTACH;FMTTYPE=image/webp:https://cedarlane.org/wp-content/uploads/2025/10/diversevoices.webp
ORGANIZER;CN="Sandy Shaw":MAILTO:DVBC@cedarlane.org
LOCATION:https://cedarlane.org/calendar/diverse-voices-book-club/2026-03-24/
END:VEVENT
BEGIN:VEVENT
DTSTART;TZID=America/New_York:20260324T200000
DTEND;TZID=America/New_York:20260324T220000
DTSTAMP:20260425T100743
CREATED:20250923T161807Z
LAST-MODIFIED:20251101T214303Z
UID:10014836-1774382400-1774389600@cedarlane.org
SUMMARY:French Choir of Washington adult choir rehearsal
DESCRIPTION:
URL:https://cedarlane.org/calendar/french-choir-of-washington-adult/2026-03-24/
CATEGORIES:External (rental)
ATTACH;FMTTYPE=image/webp:https://cedarlane.org/wp-content/uploads/2025/10/frenchchoir-adult.webp
END:VEVENT
BEGIN:VEVENT
DTSTART;TZID=America/New_York:20260325T193000
DTEND;TZID=America/New_York:20260325T213000
DTSTAMP:20260425T100743
CREATED:20250825T185252Z
LAST-MODIFIED:20251112T052706Z
UID:10001840-1774467000-1774474200@cedarlane.org
SUMMARY:Adult Choir Rehearsal
DESCRIPTION:Join the Cedar Lane choir for the 2025-26 season! \nThere’s always a place for you in the choir. Young\, old\, new\, experienced\, and lesser experienced all welcome! Individual training can be provided. Come share the joy of singing with your fellow Cedar Lane members and friends to provide regular music for worship services and other events throughout the church year. Rehearsals meet on Wednesdays at 7:30pm in the choir loft (upstairs from the sanctuary). \nFor more information\, please contact Michael Holmes\, director of Music and Arts\, at mholmes@cedarlane.org.
URL:https://cedarlane.org/calendar/adult-choir-rehearsal/2026-03-25/
LOCATION:Sanctuary\, 9601 Cedar Ln\, Bethesda\, MD\, 20814\, United States
CATEGORIES:Music
ATTACH;FMTTYPE=image/webp:https://cedarlane.org/wp-content/uploads/2025/10/choir.webp
ORGANIZER;CN="Michael Holmes":MAILTO:mholmes@cedarlane.org
END:VEVENT
BEGIN:VEVENT
DTSTART;TZID=America/New_York:20260326T180000
DTEND;TZID=America/New_York:20260326T203000
DTSTAMP:20260425T100743
CREATED:20250825T185702Z
LAST-MODIFIED:20251101T214304Z
UID:10011076-1774548000-1774557000@cedarlane.org
SUMMARY:Bell-choir Rehearsal
DESCRIPTION:Join the Cedar Lane bell choir! \nFor information\, please contact Michael Holmes\, director of Music and Arts\, at mholmes@cedarlane.org.
URL:https://cedarlane.org/calendar/bell-choir-rehearsal/2026-03-26/
LOCATION:Sanctuary\, 9601 Cedar Ln\, Bethesda\, MD\, 20814\, United States
CATEGORIES:Music
ATTACH;FMTTYPE=image/webp:https://cedarlane.org/wp-content/uploads/2025/10/bell-choir.webp
ORGANIZER;CN="Michael Holmes":MAILTO:mholmes@cedarlane.org
END:VEVENT
BEGIN:VEVENT
DTSTART;TZID=America/New_York:20260327T090000
DTEND;TZID=America/New_York:20260327T113000
DTSTAMP:20260425T100743
CREATED:20250923T150016Z
LAST-MODIFIED:20251101T214303Z
UID:10014752-1774602000-1774611000@cedarlane.org
SUMMARY:Asian American Forum
DESCRIPTION:
URL:https://cedarlane.org/calendar/asian-american-forum-4/2026-03-27/
CATEGORIES:External (rental)
ATTACH;FMTTYPE=image/webp:https://cedarlane.org/wp-content/uploads/2025/10/Asian-Forum.webp
END:VEVENT
BEGIN:VEVENT
DTSTART;TZID=America/New_York:20260327T140000
DTEND;TZID=America/New_York:20260327T160000
DTSTAMP:20260425T100743
CREATED:20250709T163340Z
LAST-MODIFIED:20260406T204233Z
UID:10000771-1774620000-1774627200@cedarlane.org
SUMMARY:Fiber Arts Club
DESCRIPTION:Each Friday Cedar Lane fiber artists gather on zoom for 2 hours of creativity and connection. All are welcome! \n\n	\n		\n			\n				\n					Join via Zoom
URL:https://cedarlane.org/calendar/fiber-arts-club-6/2026-03-27/
CATEGORIES:Fun
ATTACH;FMTTYPE=image/webp:https://cedarlane.org/wp-content/uploads/2025/10/fiber-arts.webp
ORGANIZER;CN="Fiber Arts Coordinator":MAILTO:fiberarts@cedarlane.org
LOCATION:https://cedarlane.org/calendar/fiber-arts-club-6/2026-03-27/
END:VEVENT
BEGIN:VEVENT
DTSTART;TZID=America/New_York:20260328T083000
DTEND;TZID=America/New_York:20260328T103000
DTSTAMP:20260425T100744
CREATED:20250709T163222Z
LAST-MODIFIED:20251101T214306Z
UID:10015367-1774686600-1774693800@cedarlane.org
SUMMARY:Men's Group (in person)
DESCRIPTION:The Men’s Group meeting twice a month on the 2nd and 4th Saturday mornings alternating online (2nd Saturday) and in-person (4th Saturday).
URL:https://cedarlane.org/calendar/mens-group/2026-03-28/
CATEGORIES:Connect & Engage,Healing,Men
ATTACH;FMTTYPE=image/jpeg:https://cedarlane.org/wp-content/uploads/2025/05/2017cedarlane-3709.jpg
END:VEVENT
BEGIN:VEVENT
DTSTART;TZID=America/New_York:20260329T090000
DTEND;TZID=America/New_York:20260329T103000
DTSTAMP:20260425T100744
CREATED:20251029T194321Z
LAST-MODIFIED:20251110T145939Z
UID:10016391-1774774800-1774780200@cedarlane.org
SUMMARY:Food and Diaper Drop-off
DESCRIPTION:You are invited to bring food and diapers and place them in the collection bin found in the chapel hallway. Volunteers collect these items on Sunday mornings and take them to our partner\, Mid-County United Ministries (MUM)\, to be distributed in the community. \nYour donations are greatly appreciated! \nCurrent Urgent Needs\n\nThree children need diapers sizes 3 and 5-6T pull-ups\n\nOn-going Needs\n\nHot/Cold Cereals\nCanned Fruits/Vegetables\nDry/Canned Beans\, Pastas\, Rice\nPasta Sauces\nCanned Meats/Tuna\nSoups/Stews/Chilies\nPeanut Butter/Jelly\nDiet Specific Foods\nToiletries\nDiapers and wipes\nFresh produce
URL:https://cedarlane.org/calendar/food-and-diaper-drop-off/2026-03-29/
LOCATION:Cedar Lane UU Congregation\, 9601 Cedar Ln\, Bethesda\, Maryland\, 20814
CATEGORIES:Activism & Justice,Volunteer Opportunity
ATTACH;FMTTYPE=image/webp:https://cedarlane.org/wp-content/uploads/2025/10/MUM.webp
ORGANIZER;CN="Roger DeLucia":MAILTO:mum@cedarlane.org
END:VEVENT
BEGIN:VEVENT
DTSTART;TZID=America/New_York:20260329T093000
DTEND;TZID=America/New_York:20260329T222000
DTSTAMP:20260425T100744
CREATED:20250822T182728Z
LAST-MODIFIED:20251110T141403Z
UID:10017485-1774776600-1774822800@cedarlane.org
SUMMARY:Quiet Callings
DESCRIPTION:Gather with us on Sunday mornings at 9:30 in the Chalice House for gentle music\, meditation\, and quiet reflection. This is a welcoming space for renewal\, sharing what’s on our hearts\, and finding connection\, healing\, and peace.
URL:https://cedarlane.org/calendar/quiet-callings/2026-03-29/
LOCATION:Chalice House\, 9601 Cedar Ln\, Bethesda\, MD\, 20814\, United States
CATEGORIES:Newcomers,Spirituality
ATTACH;FMTTYPE=image/png:https://cedarlane.org/wp-content/uploads/2025/08/Quiet-Callings-AM-1.png
GEO:39.013542080457;-77.088487850511
X-APPLE-STRUCTURED-LOCATION;VALUE=URI;X-ADDRESS=Chalice House 9601 Cedar Ln Bethesda MD 20814 United States;X-APPLE-RADIUS=500;X-TITLE=9601 Cedar Ln:geo:-77.088487850511,39.013542080457
END:VEVENT
BEGIN:VEVENT
DTSTART;TZID=America/New_York:20260329T103000
DTEND;TZID=America/New_York:20260329T113000
DTSTAMP:20260425T100744
CREATED:20251102T021042Z
LAST-MODIFIED:20251110T145900Z
UID:10000040-1774780200-1774783800@cedarlane.org
SUMMARY:Sunday Worship Service
DESCRIPTION:Join us on Sundays in person or online for inspiring music\, thoughtful reflections\, and a warm\, welcoming community. \n\n	\n		\n			\n				\n					This Week's Worship Topic\n				\n			\n		\n	\n\nYou are welcome to join us!
URL:https://cedarlane.org/calendar/sunday-worship-service-3/2026-03-29/
LOCATION:Sanctuary\, 9601 Cedar Ln\, Bethesda\, MD\, 20814\, United States
CATEGORIES:Livestream Event,Newcomers,Spirituality,Youth
ATTACH;FMTTYPE=image/jpeg:https://cedarlane.org/wp-content/uploads/2025/05/2017cedarlane-530.jpg
END:VEVENT
BEGIN:VEVENT
DTSTART;TZID=America/New_York:20260329T173000
DTEND;TZID=America/New_York:20260329T190000
DTSTAMP:20260425T100744
CREATED:20250915T143439Z
LAST-MODIFIED:20251101T214303Z
UID:10014514-1774805400-1774810800@cedarlane.org
SUMMARY:High-Schoolers Hang Out
DESCRIPTION:Join fellow teens on Sunday Evenings in room 2 for this weekly get-together — Enjoy food\, music (choir & instrumental breakout groups)\, games\, crafts\, & space to chill with friends.
URL:https://cedarlane.org/calendar/high-schoolers-hang-out/2026-03-29/
LOCATION:Cedar Lane UU Congregation\, 9601 Cedar Ln\, Bethesda\, Maryland\, 20814
CATEGORIES:Newcomers,Youth
ATTACH;FMTTYPE=image/webp:https://cedarlane.org/wp-content/uploads/2025/10/hangout.webp
ORGANIZER;CN="Regina Dull":MAILTO:youthhangouts@cedarlane.org
END:VEVENT
BEGIN:VEVENT
DTSTART;TZID=America/New_York:20260330T100000
DTEND;TZID=America/New_York:20260330T120000
DTSTAMP:20260425T100744
CREATED:20250709T163356Z
LAST-MODIFIED:20251101T214305Z
UID:10015516-1774864800-1774872000@cedarlane.org
SUMMARY:Science and Religion
DESCRIPTION:
URL:https://cedarlane.org/calendar/science-religion-discussion/2026-03-30/
CATEGORIES:Learn and Grow
ATTACH;FMTTYPE=image/webp:https://cedarlane.org/wp-content/uploads/2025/10/science.webp
END:VEVENT
BEGIN:VEVENT
DTSTART;TZID=America/New_York:20260330T193000
DTEND;TZID=America/New_York:20260330T203000
DTSTAMP:20260425T100744
CREATED:20250828T202129Z
LAST-MODIFIED:20251101T214304Z
UID:10014249-1774899000-1774902600@cedarlane.org
SUMMARY:Meditation
DESCRIPTION:This online meditation class focuses on finding peace of mind and stress reduction through the teachings of the Buddha on mindfulness and compassion. All levels are welcome to our drop in class. \n\n	\n		\n			\n				\n					Join via Zoom\n				\n			\n		\n	\n\n 
URL:https://cedarlane.org/calendar/meditation-26/2026-03-30/
CATEGORIES:Healing,Spirituality
ATTACH;FMTTYPE=image/webp:https://cedarlane.org/wp-content/uploads/2025/10/meditation.webp
ORGANIZER;CN="Carole Rogentine":MAILTO:meditation@cedarlane.org
LOCATION:https://cedarlane.org/calendar/meditation-26/2026-03-30/
END:VEVENT
BEGIN:VEVENT
DTSTART;VALUE=DATE:20260331
DTEND;VALUE=DATE:20260402
DTSTAMP:20260425T100744
CREATED:20260316T013134Z
LAST-MODIFIED:20260325T192131Z
UID:10018022-1774926000-1775012399@cedarlane.org
SUMMARY:Arts-Based Summer Camp Register Now
DESCRIPTION:This summer\, offer your child more than just entertainment—give them an enriching\, heart-opening experience that nurtures both creative expression and ethical awareness. At Cedar Lane\, our Arts-Based Summer Camp provides a vibrant\, inclusive setting where children ages 6 to 12 are invited to explore their creativity while building meaningful connections rooted in empathy\, self-discovery\, and community. \nAugust 17-21\, 2026\n8:30 AM – 12:30 PM\n\n	\n		\n			\n				\n					Register by March 31
URL:https://cedarlane.org/calendar/summer-camp/
LOCATION:Cedar Lane UU Congregation\, 9601 Cedar Ln\, Bethesda\, Maryland\, 20814
CATEGORIES:Creativity,Families,Fun,In the Spotlight,Learn and Grow
ATTACH;FMTTYPE=image/webp:https://cedarlane.org/wp-content/uploads/2026/03/summercamp.webp
ORGANIZER;CN="Rev. Dayna Edwards":MAILTO:dedwards@cedarlane.org
END:VEVENT
BEGIN:VEVENT
DTSTART;TZID=America/New_York:20260331T100000
DTEND;TZID=America/New_York:20260331T120000
DTSTAMP:20260425T100744
CREATED:20251029T005217Z
LAST-MODIFIED:20251101T214300Z
UID:10016713-1774951200-1774958400@cedarlane.org
SUMMARY:Alliance Bridge Club
DESCRIPTION:Join us to play Bridge weekly on Tuesday from 10am-noon in the Fellowship Hall.
URL:https://cedarlane.org/calendar/alliance-bridge-club/2026-03-31/
LOCATION:Fellowship Hall\, 9601 Cedar Ln\, Bethesda\, MD\, 20814\, United States
CATEGORIES:Fun
ATTACH;FMTTYPE=image/webp:https://cedarlane.org/wp-content/uploads/2025/10/alessandro-bogliari-43LcbfI-tok-unsplash.webp
END:VEVENT
BEGIN:VEVENT
DTSTART;TZID=America/New_York:20260401T183000
DTEND;TZID=America/New_York:20260401T193000
DTSTAMP:20260425T100744
CREATED:20251029T173106Z
LAST-MODIFIED:20251101T214300Z
UID:10016200-1775068200-1775071800@cedarlane.org
SUMMARY:Executive Committee
DESCRIPTION:This meeting is closed to executive committee members.
URL:https://cedarlane.org/calendar/executive-committee-7/2026-04-01/
CATEGORIES:Governance,Planning and Coordination
ATTACH;FMTTYPE=image/webp:https://cedarlane.org/wp-content/uploads/2025/10/ExComm.webp
END:VEVENT
BEGIN:VEVENT
DTSTART;TZID=America/New_York:20260401T193000
DTEND;TZID=America/New_York:20260401T213000
DTSTAMP:20260425T100744
CREATED:20250825T185252Z
LAST-MODIFIED:20251112T052706Z
UID:10001841-1775071800-1775079000@cedarlane.org
SUMMARY:Adult Choir Rehearsal
DESCRIPTION:Join the Cedar Lane choir for the 2025-26 season! \nThere’s always a place for you in the choir. Young\, old\, new\, experienced\, and lesser experienced all welcome! Individual training can be provided. Come share the joy of singing with your fellow Cedar Lane members and friends to provide regular music for worship services and other events throughout the church year. Rehearsals meet on Wednesdays at 7:30pm in the choir loft (upstairs from the sanctuary). \nFor more information\, please contact Michael Holmes\, director of Music and Arts\, at mholmes@cedarlane.org.
URL:https://cedarlane.org/calendar/adult-choir-rehearsal/2026-04-01/
LOCATION:Sanctuary\, 9601 Cedar Ln\, Bethesda\, MD\, 20814\, United States
CATEGORIES:Music
ATTACH;FMTTYPE=image/webp:https://cedarlane.org/wp-content/uploads/2025/10/choir.webp
ORGANIZER;CN="Michael Holmes":MAILTO:mholmes@cedarlane.org
END:VEVENT
BEGIN:VEVENT
DTSTART;TZID=America/New_York:20260402T180000
DTEND;TZID=America/New_York:20260402T203000
DTSTAMP:20260425T100744
CREATED:20250825T185702Z
LAST-MODIFIED:20251101T214304Z
UID:10011077-1775152800-1775161800@cedarlane.org
SUMMARY:Bell-choir Rehearsal
DESCRIPTION:Join the Cedar Lane bell choir! \nFor information\, please contact Michael Holmes\, director of Music and Arts\, at mholmes@cedarlane.org.
URL:https://cedarlane.org/calendar/bell-choir-rehearsal/2026-04-02/
LOCATION:Sanctuary\, 9601 Cedar Ln\, Bethesda\, MD\, 20814\, United States
CATEGORIES:Music
ATTACH;FMTTYPE=image/webp:https://cedarlane.org/wp-content/uploads/2025/10/bell-choir.webp
ORGANIZER;CN="Michael Holmes":MAILTO:mholmes@cedarlane.org
END:VEVENT
BEGIN:VEVENT
DTSTART;TZID=America/New_York:20260403T110000
DTEND;TZID=America/New_York:20260403T130000
DTSTAMP:20260425T100744
CREATED:20251029T004852Z
LAST-MODIFIED:20251101T214258Z
UID:10016637-1775214000-1775221200@cedarlane.org
SUMMARY:Alliance Book Club
DESCRIPTION:We gather on first Friday afternoon in the Library. Join us sometime!
URL:https://cedarlane.org/calendar/alliance-book-club/2026-04-03/
LOCATION:Library\, 9601 Cedar Ln\, Bethesda\, MD\, 20814\, United States
CATEGORIES:Fun
ATTACH;FMTTYPE=image/webp:https://cedarlane.org/wp-content/uploads/2025/10/shelby-murphy-figueroa-zezw9q2bc9E-unsplash-scaled.webp
ORGANIZER;CN="Helen Pechacek":MAILTO:helenpechacek@gmail.com
END:VEVENT
BEGIN:VEVENT
DTSTART;TZID=America/New_York:20260403T140000
DTEND;TZID=America/New_York:20260403T160000
DTSTAMP:20260425T100744
CREATED:20250709T163340Z
LAST-MODIFIED:20260406T204233Z
UID:10000772-1775224800-1775232000@cedarlane.org
SUMMARY:Fiber Arts Club
DESCRIPTION:Each Friday Cedar Lane fiber artists gather on zoom for 2 hours of creativity and connection. All are welcome! \n\n	\n		\n			\n				\n					Join via Zoom
URL:https://cedarlane.org/calendar/fiber-arts-club-6/2026-04-03/
CATEGORIES:Fun
ATTACH;FMTTYPE=image/webp:https://cedarlane.org/wp-content/uploads/2025/10/fiber-arts.webp
ORGANIZER;CN="Fiber Arts Coordinator":MAILTO:fiberarts@cedarlane.org
LOCATION:https://cedarlane.org/calendar/fiber-arts-club-6/2026-04-03/
END:VEVENT
BEGIN:VEVENT
DTSTART;TZID=America/New_York:20260405T090000
DTEND;TZID=America/New_York:20260405T100000
DTSTAMP:20260425T100744
CREATED:20251029T014624Z
LAST-MODIFIED:20260122T170419Z
UID:10017018-1775379600-1775383200@cedarlane.org
SUMMARY:JourneyWomen
DESCRIPTION:We experience silence and share what is important in our lives through readings from varied sources. We listen\, witness\, and offer nonverbal support. We light candles for our departed group members and other ancestors. Sometimes we speak into the silence and other times to the group with a spiritual or otherwise personal check-in. We sometimes use the monthly Soul Circles packet of resources as a springboard for our readings. Probably more often\, each of us brings poetry\, book excerpts\, a video clip\, or a photo whose meaning we want to explore.\n\n \n\nIn our reflective listening\, we privilege humility toward the natural world as much as we do human cultures.\n\nWe gather in person and online on the 1st and 3rd Sundays at 9:00 am Eastern. You are welcome to join us. Please contact us for zoom link info.
URL:https://cedarlane.org/calendar/journeywomen/2026-04-05/
LOCATION:Cedar Lane UU Congregation\, 9601 Cedar Ln\, Bethesda\, Maryland\, 20814
CATEGORIES:Spirituality,Women
ATTACH;FMTTYPE=image/webp:https://cedarlane.org/wp-content/uploads/2025/10/sarah-brown-cVt0u781VGo-unsplash.webp
END:VEVENT
BEGIN:VEVENT
DTSTART;TZID=America/New_York:20260405T090000
DTEND;TZID=America/New_York:20260405T103000
DTSTAMP:20260425T100744
CREATED:20251029T194321Z
LAST-MODIFIED:20251110T145939Z
UID:10016392-1775379600-1775385000@cedarlane.org
SUMMARY:Food and Diaper Drop-off
DESCRIPTION:You are invited to bring food and diapers and place them in the collection bin found in the chapel hallway. Volunteers collect these items on Sunday mornings and take them to our partner\, Mid-County United Ministries (MUM)\, to be distributed in the community. \nYour donations are greatly appreciated! \nCurrent Urgent Needs\n\nThree children need diapers sizes 3 and 5-6T pull-ups\n\nOn-going Needs\n\nHot/Cold Cereals\nCanned Fruits/Vegetables\nDry/Canned Beans\, Pastas\, Rice\nPasta Sauces\nCanned Meats/Tuna\nSoups/Stews/Chilies\nPeanut Butter/Jelly\nDiet Specific Foods\nToiletries\nDiapers and wipes\nFresh produce
URL:https://cedarlane.org/calendar/food-and-diaper-drop-off/2026-04-05/
LOCATION:Cedar Lane UU Congregation\, 9601 Cedar Ln\, Bethesda\, Maryland\, 20814
CATEGORIES:Activism & Justice,Volunteer Opportunity
ATTACH;FMTTYPE=image/webp:https://cedarlane.org/wp-content/uploads/2025/10/MUM.webp
ORGANIZER;CN="Roger DeLucia":MAILTO:mum@cedarlane.org
END:VEVENT
BEGIN:VEVENT
DTSTART;TZID=America/New_York:20260405T093000
DTEND;TZID=America/New_York:20260405T222000
DTSTAMP:20260425T100744
CREATED:20250822T182728Z
LAST-MODIFIED:20251110T141403Z
UID:10017486-1775381400-1775427600@cedarlane.org
SUMMARY:Quiet Callings
DESCRIPTION:Gather with us on Sunday mornings at 9:30 in the Chalice House for gentle music\, meditation\, and quiet reflection. This is a welcoming space for renewal\, sharing what’s on our hearts\, and finding connection\, healing\, and peace.
URL:https://cedarlane.org/calendar/quiet-callings/2026-04-05/
LOCATION:Chalice House\, 9601 Cedar Ln\, Bethesda\, MD\, 20814\, United States
CATEGORIES:Newcomers,Spirituality
ATTACH;FMTTYPE=image/png:https://cedarlane.org/wp-content/uploads/2025/08/Quiet-Callings-AM-1.png
GEO:39.013542080457;-77.088487850511
X-APPLE-STRUCTURED-LOCATION;VALUE=URI;X-ADDRESS=Chalice House 9601 Cedar Ln Bethesda MD 20814 United States;X-APPLE-RADIUS=500;X-TITLE=9601 Cedar Ln:geo:-77.088487850511,39.013542080457
END:VEVENT
BEGIN:VEVENT
DTSTART;TZID=America/New_York:20260405T103000
DTEND;TZID=America/New_York:20260405T123000
DTSTAMP:20260425T100744
CREATED:20260328T150942Z
LAST-MODIFIED:20260403T153805Z
UID:10000041-1775385000-1775392200@cedarlane.org
SUMMARY:Easter Sunday\, Egg Hunt\, Crafts and Celebration!
DESCRIPTION:Join us for a morning of celebration\, rebirth and renewal! We’ll start together in the sanctuary\, then send the children outside for easter egg hunts\, crafts\, and games. \nAfterwards\, we’ll have a potluck brunch together. \n\n	\n		\n			\n				\n					Volunteer to help
URL:https://cedarlane.org/calendar/sunday-worship-easter26/
LOCATION:Sanctuary\, 9601 Cedar Ln\, Bethesda\, MD\, 20814\, United States
CATEGORIES:After the Service,Families,Fun,In the Spotlight,Livestream Event,Newcomers,Spirituality,Volunteer Opportunity,Youth
ATTACH;FMTTYPE=image/webp:https://cedarlane.org/wp-content/uploads/2025/11/easter.webp
END:VEVENT
BEGIN:VEVENT
DTSTART;TZID=America/New_York:20260405T120000
DTEND;TZID=America/New_York:20260405T130000
DTSTAMP:20260425T100744
CREATED:20251104T163418Z
LAST-MODIFIED:20251110T140623Z
UID:10017805-1775390400-1775394000@cedarlane.org
SUMMARY:Newcomers Circle
DESCRIPTION:Join us after worship in this informal space to meet others\, ask questions\, and get a sense of our community. This is a great opportunity to meet other newcomers and explore how to get more connected in the Cedar Lane community.
URL:https://cedarlane.org/calendar/newcomers-circle-2/2026-04-05/
LOCATION:Library\, 9601 Cedar Ln\, Bethesda\, MD\, 20814\, United States
CATEGORIES:After the Service,Path to Membership
ATTACH;FMTTYPE=image/webp:https://cedarlane.org/wp-content/uploads/2025/10/Newcomer-Circle.webp
ORGANIZER;CN="Nicolle Singer":MAILTO:nsinger@cedarlane.org
END:VEVENT
BEGIN:VEVENT
DTSTART;TZID=America/New_York:20260405T173000
DTEND;TZID=America/New_York:20260405T190000
DTSTAMP:20260425T100744
CREATED:20250915T143439Z
LAST-MODIFIED:20251101T214303Z
UID:10014515-1775410200-1775415600@cedarlane.org
SUMMARY:High-Schoolers Hang Out
DESCRIPTION:Join fellow teens on Sunday Evenings in room 2 for this weekly get-together — Enjoy food\, music (choir & instrumental breakout groups)\, games\, crafts\, & space to chill with friends.
URL:https://cedarlane.org/calendar/high-schoolers-hang-out/2026-04-05/
LOCATION:Cedar Lane UU Congregation\, 9601 Cedar Ln\, Bethesda\, Maryland\, 20814
CATEGORIES:Newcomers,Youth
ATTACH;FMTTYPE=image/webp:https://cedarlane.org/wp-content/uploads/2025/10/hangout.webp
ORGANIZER;CN="Regina Dull":MAILTO:youthhangouts@cedarlane.org
END:VEVENT
BEGIN:VEVENT
DTSTART;TZID=America/New_York:20260406T100000
DTEND;TZID=America/New_York:20260406T120000
DTSTAMP:20260425T100744
CREATED:20250709T163356Z
LAST-MODIFIED:20251101T214305Z
UID:10015517-1775469600-1775476800@cedarlane.org
SUMMARY:Science and Religion
DESCRIPTION:
URL:https://cedarlane.org/calendar/science-religion-discussion/2026-04-06/
CATEGORIES:Learn and Grow
ATTACH;FMTTYPE=image/webp:https://cedarlane.org/wp-content/uploads/2025/10/science.webp
END:VEVENT
BEGIN:VEVENT
DTSTART;TZID=America/New_York:20260406T193000
DTEND;TZID=America/New_York:20260406T203000
DTSTAMP:20260425T100744
CREATED:20250828T202129Z
LAST-MODIFIED:20251101T214304Z
UID:10014250-1775503800-1775507400@cedarlane.org
SUMMARY:Meditation
DESCRIPTION:This online meditation class focuses on finding peace of mind and stress reduction through the teachings of the Buddha on mindfulness and compassion. All levels are welcome to our drop in class. \n\n	\n		\n			\n				\n					Join via Zoom\n				\n			\n		\n	\n \n 
URL:https://cedarlane.org/calendar/meditation-26/2026-04-06/
CATEGORIES:Healing,Spirituality
ATTACH;FMTTYPE=image/webp:https://cedarlane.org/wp-content/uploads/2025/10/meditation.webp
ORGANIZER;CN="Carole Rogentine":MAILTO:meditation@cedarlane.org
LOCATION:https://cedarlane.org/calendar/meditation-26/2026-04-06/
END:VEVENT
BEGIN:VEVENT
DTSTART;TZID=America/New_York:20260407T100000
DTEND;TZID=America/New_York:20260407T120000
DTSTAMP:20260425T100744
CREATED:20251029T005217Z
LAST-MODIFIED:20251101T214300Z
UID:10016714-1775556000-1775563200@cedarlane.org
SUMMARY:Alliance Bridge Club
DESCRIPTION:Join us to play Bridge weekly on Tuesday from 10am-noon in the Fellowship Hall.
URL:https://cedarlane.org/calendar/alliance-bridge-club/2026-04-07/
LOCATION:Fellowship Hall\, 9601 Cedar Ln\, Bethesda\, MD\, 20814\, United States
CATEGORIES:Fun
ATTACH;FMTTYPE=image/webp:https://cedarlane.org/wp-content/uploads/2025/10/alessandro-bogliari-43LcbfI-tok-unsplash.webp
END:VEVENT
END:VCALENDAR