BEGIN:VCALENDAR
VERSION:2.0
PRODID:-//Cedar Lane Unitarian Universalist Congregation - ECPv6.15.20//NONSGML v1.0//EN
CALSCALE:GREGORIAN
METHOD:PUBLISH
X-WR-CALNAME:Cedar Lane Unitarian Universalist Congregation
X-ORIGINAL-URL:https://cedarlane.org
X-WR-CALDESC:Events for Cedar Lane Unitarian Universalist Congregation
REFRESH-INTERVAL;VALUE=DURATION:PT1H
X-Robots-Tag:noindex
X-PUBLISHED-TTL:PT1H
BEGIN:VTIMEZONE
TZID:America/New_York
BEGIN:DAYLIGHT
TZOFFSETFROM:-0500
TZOFFSETTO:-0400
TZNAME:EDT
DTSTART:20260308T070000
END:DAYLIGHT
BEGIN:STANDARD
TZOFFSETFROM:-0400
TZOFFSETTO:-0500
TZNAME:EST
DTSTART:20261101T060000
END:STANDARD
BEGIN:DAYLIGHT
TZOFFSETFROM:-0500
TZOFFSETTO:-0400
TZNAME:EDT
DTSTART:20270314T070000
END:DAYLIGHT
BEGIN:STANDARD
TZOFFSETFROM:-0400
TZOFFSETTO:-0500
TZNAME:EST
DTSTART:20271107T060000
END:STANDARD
BEGIN:DAYLIGHT
TZOFFSETFROM:-0500
TZOFFSETTO:-0400
TZNAME:EDT
DTSTART:20280312T070000
END:DAYLIGHT
BEGIN:STANDARD
TZOFFSETFROM:-0400
TZOFFSETTO:-0500
TZNAME:EST
DTSTART:20281105T060000
END:STANDARD
END:VTIMEZONE
BEGIN:VEVENT
DTSTART;TZID=America/New_York:20270104T100000
DTEND;TZID=America/New_York:20270104T120000
DTSTAMP:20260425T151608
CREATED:20250709T163356Z
LAST-MODIFIED:20251101T214305Z
UID:10015556-1799056800-1799064000@cedarlane.org
SUMMARY:Science and Religion
DESCRIPTION:
URL:https://cedarlane.org/calendar/science-religion-discussion/2027-01-04/
LOCATION:9601 Cedar Lane\, Bethesda\, MD\, 20814\, United States
CATEGORIES:Learn and Grow
ATTACH;FMTTYPE=image/webp:https://cedarlane.org/wp-content/uploads/2025/10/science.webp
END:VEVENT
BEGIN:VEVENT
DTSTART;TZID=America/New_York:20270111T100000
DTEND;TZID=America/New_York:20270111T120000
DTSTAMP:20260425T151608
CREATED:20250709T163356Z
LAST-MODIFIED:20251101T214305Z
UID:10015557-1799661600-1799668800@cedarlane.org
SUMMARY:Science and Religion
DESCRIPTION:
URL:https://cedarlane.org/calendar/science-religion-discussion/2027-01-11/
LOCATION:9601 Cedar Lane\, Bethesda\, MD\, 20814\, United States
CATEGORIES:Learn and Grow
ATTACH;FMTTYPE=image/webp:https://cedarlane.org/wp-content/uploads/2025/10/science.webp
END:VEVENT
BEGIN:VEVENT
DTSTART;TZID=America/New_York:20270118T100000
DTEND;TZID=America/New_York:20270118T120000
DTSTAMP:20260425T151608
CREATED:20250709T163356Z
LAST-MODIFIED:20251101T214305Z
UID:10015558-1800266400-1800273600@cedarlane.org
SUMMARY:Science and Religion
DESCRIPTION:
URL:https://cedarlane.org/calendar/science-religion-discussion/2027-01-18/
LOCATION:9601 Cedar Lane\, Bethesda\, MD\, 20814\, United States
CATEGORIES:Learn and Grow
ATTACH;FMTTYPE=image/webp:https://cedarlane.org/wp-content/uploads/2025/10/science.webp
END:VEVENT
BEGIN:VEVENT
DTSTART;TZID=America/New_York:20270125T100000
DTEND;TZID=America/New_York:20270125T120000
DTSTAMP:20260425T151608
CREATED:20250709T163356Z
LAST-MODIFIED:20251101T214305Z
UID:10015559-1800871200-1800878400@cedarlane.org
SUMMARY:Science and Religion
DESCRIPTION:
URL:https://cedarlane.org/calendar/science-religion-discussion/2027-01-25/
LOCATION:9601 Cedar Lane\, Bethesda\, MD\, 20814\, United States
CATEGORIES:Learn and Grow
ATTACH;FMTTYPE=image/webp:https://cedarlane.org/wp-content/uploads/2025/10/science.webp
END:VEVENT
BEGIN:VEVENT
DTSTART;TZID=America/New_York:20270126T190000
DTEND;TZID=America/New_York:20270126T203000
DTSTAMP:20260425T151608
CREATED:20250813T175818Z
LAST-MODIFIED:20251101T214305Z
UID:10001017-1800990000-1800995400@cedarlane.org
SUMMARY:Diverse Voices Book Club
DESCRIPTION:This discussion group meets on the 4th Tuesday of each month on zoom. To get more information or join the group\, reach out to Sandy Shaw.
URL:https://cedarlane.org/calendar/diverse-voices-book-club/2027-01-26/
LOCATION:https://cedarlane.org/calendar/diverse-voices-book-club/2027-01-26/
CATEGORIES:Learn and Grow
ATTACH;FMTTYPE=image/webp:https://cedarlane.org/wp-content/uploads/2025/10/diversevoices.webp
ORGANIZER;CN="Sandy Shaw":MAILTO:DVBC@cedarlane.org
END:VEVENT
BEGIN:VEVENT
DTSTART;TZID=America/New_York:20270201T100000
DTEND;TZID=America/New_York:20270201T120000
DTSTAMP:20260425T151608
CREATED:20250709T163356Z
LAST-MODIFIED:20251101T214305Z
UID:10015560-1801476000-1801483200@cedarlane.org
SUMMARY:Science and Religion
DESCRIPTION:
URL:https://cedarlane.org/calendar/science-religion-discussion/2027-02-01/
LOCATION:9601 Cedar Lane\, Bethesda\, MD\, 20814\, United States
CATEGORIES:Learn and Grow
ATTACH;FMTTYPE=image/webp:https://cedarlane.org/wp-content/uploads/2025/10/science.webp
END:VEVENT
BEGIN:VEVENT
DTSTART;TZID=America/New_York:20270208T100000
DTEND;TZID=America/New_York:20270208T120000
DTSTAMP:20260425T151608
CREATED:20250709T163356Z
LAST-MODIFIED:20251101T214305Z
UID:10015561-1802080800-1802088000@cedarlane.org
SUMMARY:Science and Religion
DESCRIPTION:
URL:https://cedarlane.org/calendar/science-religion-discussion/2027-02-08/
LOCATION:9601 Cedar Lane\, Bethesda\, MD\, 20814\, United States
CATEGORIES:Learn and Grow
ATTACH;FMTTYPE=image/webp:https://cedarlane.org/wp-content/uploads/2025/10/science.webp
END:VEVENT
BEGIN:VEVENT
DTSTART;TZID=America/New_York:20270215T100000
DTEND;TZID=America/New_York:20270215T120000
DTSTAMP:20260425T151608
CREATED:20250709T163356Z
LAST-MODIFIED:20251101T214305Z
UID:10015562-1802685600-1802692800@cedarlane.org
SUMMARY:Science and Religion
DESCRIPTION:
URL:https://cedarlane.org/calendar/science-religion-discussion/2027-02-15/
LOCATION:9601 Cedar Lane\, Bethesda\, MD\, 20814\, United States
CATEGORIES:Learn and Grow
ATTACH;FMTTYPE=image/webp:https://cedarlane.org/wp-content/uploads/2025/10/science.webp
END:VEVENT
BEGIN:VEVENT
DTSTART;TZID=America/New_York:20270222T100000
DTEND;TZID=America/New_York:20270222T120000
DTSTAMP:20260425T151608
CREATED:20250709T163356Z
LAST-MODIFIED:20251101T214305Z
UID:10015563-1803290400-1803297600@cedarlane.org
SUMMARY:Science and Religion
DESCRIPTION:
URL:https://cedarlane.org/calendar/science-religion-discussion/2027-02-22/
LOCATION:9601 Cedar Lane\, Bethesda\, MD\, 20814\, United States
CATEGORIES:Learn and Grow
ATTACH;FMTTYPE=image/webp:https://cedarlane.org/wp-content/uploads/2025/10/science.webp
END:VEVENT
BEGIN:VEVENT
DTSTART;TZID=America/New_York:20270223T190000
DTEND;TZID=America/New_York:20270223T203000
DTSTAMP:20260425T151608
CREATED:20250813T175818Z
LAST-MODIFIED:20251101T214305Z
UID:10001018-1803409200-1803414600@cedarlane.org
SUMMARY:Diverse Voices Book Club
DESCRIPTION:This discussion group meets on the 4th Tuesday of each month on zoom. To get more information or join the group\, reach out to Sandy Shaw.
URL:https://cedarlane.org/calendar/diverse-voices-book-club/2027-02-23/
LOCATION:https://cedarlane.org/calendar/diverse-voices-book-club/2027-02-23/
CATEGORIES:Learn and Grow
ATTACH;FMTTYPE=image/webp:https://cedarlane.org/wp-content/uploads/2025/10/diversevoices.webp
ORGANIZER;CN="Sandy Shaw":MAILTO:DVBC@cedarlane.org
END:VEVENT
BEGIN:VEVENT
DTSTART;TZID=America/New_York:20270301T100000
DTEND;TZID=America/New_York:20270301T120000
DTSTAMP:20260425T151608
CREATED:20250709T163356Z
LAST-MODIFIED:20251101T214305Z
UID:10015564-1803895200-1803902400@cedarlane.org
SUMMARY:Science and Religion
DESCRIPTION:
URL:https://cedarlane.org/calendar/science-religion-discussion/2027-03-01/
LOCATION:9601 Cedar Lane\, Bethesda\, MD\, 20814\, United States
CATEGORIES:Learn and Grow
ATTACH;FMTTYPE=image/webp:https://cedarlane.org/wp-content/uploads/2025/10/science.webp
END:VEVENT
BEGIN:VEVENT
DTSTART;TZID=America/New_York:20270308T100000
DTEND;TZID=America/New_York:20270308T120000
DTSTAMP:20260425T151608
CREATED:20250709T163356Z
LAST-MODIFIED:20251101T214305Z
UID:10015565-1804500000-1804507200@cedarlane.org
SUMMARY:Science and Religion
DESCRIPTION:
URL:https://cedarlane.org/calendar/science-religion-discussion/2027-03-08/
LOCATION:9601 Cedar Lane\, Bethesda\, MD\, 20814\, United States
CATEGORIES:Learn and Grow
ATTACH;FMTTYPE=image/webp:https://cedarlane.org/wp-content/uploads/2025/10/science.webp
END:VEVENT
BEGIN:VEVENT
DTSTART;TZID=America/New_York:20270315T100000
DTEND;TZID=America/New_York:20270315T120000
DTSTAMP:20260425T151608
CREATED:20250709T163356Z
LAST-MODIFIED:20251101T214305Z
UID:10015566-1805104800-1805112000@cedarlane.org
SUMMARY:Science and Religion
DESCRIPTION:
URL:https://cedarlane.org/calendar/science-religion-discussion/2027-03-15/
LOCATION:9601 Cedar Lane\, Bethesda\, MD\, 20814\, United States
CATEGORIES:Learn and Grow
ATTACH;FMTTYPE=image/webp:https://cedarlane.org/wp-content/uploads/2025/10/science.webp
END:VEVENT
BEGIN:VEVENT
DTSTART;TZID=America/New_York:20270322T100000
DTEND;TZID=America/New_York:20270322T120000
DTSTAMP:20260425T151608
CREATED:20250709T163356Z
LAST-MODIFIED:20251101T214305Z
UID:10015567-1805709600-1805716800@cedarlane.org
SUMMARY:Science and Religion
DESCRIPTION:
URL:https://cedarlane.org/calendar/science-religion-discussion/2027-03-22/
LOCATION:9601 Cedar Lane\, Bethesda\, MD\, 20814\, United States
CATEGORIES:Learn and Grow
ATTACH;FMTTYPE=image/webp:https://cedarlane.org/wp-content/uploads/2025/10/science.webp
END:VEVENT
BEGIN:VEVENT
DTSTART;TZID=America/New_York:20270323T190000
DTEND;TZID=America/New_York:20270323T203000
DTSTAMP:20260425T151608
CREATED:20250813T175818Z
LAST-MODIFIED:20251101T214305Z
UID:10001019-1805828400-1805833800@cedarlane.org
SUMMARY:Diverse Voices Book Club
DESCRIPTION:This discussion group meets on the 4th Tuesday of each month on zoom. To get more information or join the group\, reach out to Sandy Shaw.
URL:https://cedarlane.org/calendar/diverse-voices-book-club/2027-03-23/
LOCATION:https://cedarlane.org/calendar/diverse-voices-book-club/2027-03-23/
CATEGORIES:Learn and Grow
ATTACH;FMTTYPE=image/webp:https://cedarlane.org/wp-content/uploads/2025/10/diversevoices.webp
ORGANIZER;CN="Sandy Shaw":MAILTO:DVBC@cedarlane.org
END:VEVENT
BEGIN:VEVENT
DTSTART;TZID=America/New_York:20270329T100000
DTEND;TZID=America/New_York:20270329T120000
DTSTAMP:20260425T151608
CREATED:20250709T163356Z
LAST-MODIFIED:20251101T214305Z
UID:10015568-1806314400-1806321600@cedarlane.org
SUMMARY:Science and Religion
DESCRIPTION:
URL:https://cedarlane.org/calendar/science-religion-discussion/2027-03-29/
LOCATION:9601 Cedar Lane\, Bethesda\, MD\, 20814\, United States
CATEGORIES:Learn and Grow
ATTACH;FMTTYPE=image/webp:https://cedarlane.org/wp-content/uploads/2025/10/science.webp
END:VEVENT
BEGIN:VEVENT
DTSTART;TZID=America/New_York:20270405T100000
DTEND;TZID=America/New_York:20270405T120000
DTSTAMP:20260425T151608
CREATED:20250709T163356Z
LAST-MODIFIED:20251101T214305Z
UID:10015569-1806919200-1806926400@cedarlane.org
SUMMARY:Science and Religion
DESCRIPTION:
URL:https://cedarlane.org/calendar/science-religion-discussion/2027-04-05/
LOCATION:9601 Cedar Lane\, Bethesda\, MD\, 20814\, United States
CATEGORIES:Learn and Grow
ATTACH;FMTTYPE=image/webp:https://cedarlane.org/wp-content/uploads/2025/10/science.webp
END:VEVENT
BEGIN:VEVENT
DTSTART;TZID=America/New_York:20270412T100000
DTEND;TZID=America/New_York:20270412T120000
DTSTAMP:20260425T151608
CREATED:20250709T163356Z
LAST-MODIFIED:20251101T214305Z
UID:10015570-1807524000-1807531200@cedarlane.org
SUMMARY:Science and Religion
DESCRIPTION:
URL:https://cedarlane.org/calendar/science-religion-discussion/2027-04-12/
LOCATION:9601 Cedar Lane\, Bethesda\, MD\, 20814\, United States
CATEGORIES:Learn and Grow
ATTACH;FMTTYPE=image/webp:https://cedarlane.org/wp-content/uploads/2025/10/science.webp
END:VEVENT
BEGIN:VEVENT
DTSTART;TZID=America/New_York:20270419T100000
DTEND;TZID=America/New_York:20270419T120000
DTSTAMP:20260425T151608
CREATED:20250709T163356Z
LAST-MODIFIED:20251101T214305Z
UID:10015571-1808128800-1808136000@cedarlane.org
SUMMARY:Science and Religion
DESCRIPTION:
URL:https://cedarlane.org/calendar/science-religion-discussion/2027-04-19/
LOCATION:9601 Cedar Lane\, Bethesda\, MD\, 20814\, United States
CATEGORIES:Learn and Grow
ATTACH;FMTTYPE=image/webp:https://cedarlane.org/wp-content/uploads/2025/10/science.webp
END:VEVENT
BEGIN:VEVENT
DTSTART;TZID=America/New_York:20270426T100000
DTEND;TZID=America/New_York:20270426T120000
DTSTAMP:20260425T151608
CREATED:20250709T163356Z
LAST-MODIFIED:20251101T214305Z
UID:10015572-1808733600-1808740800@cedarlane.org
SUMMARY:Science and Religion
DESCRIPTION:
URL:https://cedarlane.org/calendar/science-religion-discussion/2027-04-26/
LOCATION:9601 Cedar Lane\, Bethesda\, MD\, 20814\, United States
CATEGORIES:Learn and Grow
ATTACH;FMTTYPE=image/webp:https://cedarlane.org/wp-content/uploads/2025/10/science.webp
END:VEVENT
BEGIN:VEVENT
DTSTART;TZID=America/New_York:20270427T190000
DTEND;TZID=America/New_York:20270427T203000
DTSTAMP:20260425T151608
CREATED:20250813T175818Z
LAST-MODIFIED:20251101T214305Z
UID:10001020-1808852400-1808857800@cedarlane.org
SUMMARY:Diverse Voices Book Club
DESCRIPTION:This discussion group meets on the 4th Tuesday of each month on zoom. To get more information or join the group\, reach out to Sandy Shaw.
URL:https://cedarlane.org/calendar/diverse-voices-book-club/2027-04-27/
LOCATION:https://cedarlane.org/calendar/diverse-voices-book-club/2027-04-27/
CATEGORIES:Learn and Grow
ATTACH;FMTTYPE=image/webp:https://cedarlane.org/wp-content/uploads/2025/10/diversevoices.webp
ORGANIZER;CN="Sandy Shaw":MAILTO:DVBC@cedarlane.org
END:VEVENT
BEGIN:VEVENT
DTSTART;TZID=America/New_York:20270503T100000
DTEND;TZID=America/New_York:20270503T120000
DTSTAMP:20260425T151608
CREATED:20250709T163356Z
LAST-MODIFIED:20251101T214305Z
UID:10015573-1809338400-1809345600@cedarlane.org
SUMMARY:Science and Religion
DESCRIPTION:
URL:https://cedarlane.org/calendar/science-religion-discussion/2027-05-03/
LOCATION:9601 Cedar Lane\, Bethesda\, MD\, 20814\, United States
CATEGORIES:Learn and Grow
ATTACH;FMTTYPE=image/webp:https://cedarlane.org/wp-content/uploads/2025/10/science.webp
END:VEVENT
BEGIN:VEVENT
DTSTART;TZID=America/New_York:20270510T100000
DTEND;TZID=America/New_York:20270510T120000
DTSTAMP:20260425T151608
CREATED:20250709T163356Z
LAST-MODIFIED:20251101T214305Z
UID:10015574-1809943200-1809950400@cedarlane.org
SUMMARY:Science and Religion
DESCRIPTION:
URL:https://cedarlane.org/calendar/science-religion-discussion/2027-05-10/
LOCATION:9601 Cedar Lane\, Bethesda\, MD\, 20814\, United States
CATEGORIES:Learn and Grow
ATTACH;FMTTYPE=image/webp:https://cedarlane.org/wp-content/uploads/2025/10/science.webp
END:VEVENT
BEGIN:VEVENT
DTSTART;TZID=America/New_York:20270517T100000
DTEND;TZID=America/New_York:20270517T120000
DTSTAMP:20260425T151608
CREATED:20250709T163356Z
LAST-MODIFIED:20251101T214305Z
UID:10015575-1810548000-1810555200@cedarlane.org
SUMMARY:Science and Religion
DESCRIPTION:
URL:https://cedarlane.org/calendar/science-religion-discussion/2027-05-17/
LOCATION:9601 Cedar Lane\, Bethesda\, MD\, 20814\, United States
CATEGORIES:Learn and Grow
ATTACH;FMTTYPE=image/webp:https://cedarlane.org/wp-content/uploads/2025/10/science.webp
END:VEVENT
BEGIN:VEVENT
DTSTART;TZID=America/New_York:20270524T100000
DTEND;TZID=America/New_York:20270524T120000
DTSTAMP:20260425T151608
CREATED:20250709T163356Z
LAST-MODIFIED:20251101T214305Z
UID:10015576-1811152800-1811160000@cedarlane.org
SUMMARY:Science and Religion
DESCRIPTION:
URL:https://cedarlane.org/calendar/science-religion-discussion/2027-05-24/
LOCATION:9601 Cedar Lane\, Bethesda\, MD\, 20814\, United States
CATEGORIES:Learn and Grow
ATTACH;FMTTYPE=image/webp:https://cedarlane.org/wp-content/uploads/2025/10/science.webp
END:VEVENT
BEGIN:VEVENT
DTSTART;TZID=America/New_York:20270525T190000
DTEND;TZID=America/New_York:20270525T203000
DTSTAMP:20260425T151608
CREATED:20250813T175818Z
LAST-MODIFIED:20251101T214305Z
UID:10001021-1811271600-1811277000@cedarlane.org
SUMMARY:Diverse Voices Book Club
DESCRIPTION:This discussion group meets on the 4th Tuesday of each month on zoom. To get more information or join the group\, reach out to Sandy Shaw.
URL:https://cedarlane.org/calendar/diverse-voices-book-club/2027-05-25/
LOCATION:https://cedarlane.org/calendar/diverse-voices-book-club/2027-05-25/
CATEGORIES:Learn and Grow
ATTACH;FMTTYPE=image/webp:https://cedarlane.org/wp-content/uploads/2025/10/diversevoices.webp
ORGANIZER;CN="Sandy Shaw":MAILTO:DVBC@cedarlane.org
END:VEVENT
BEGIN:VEVENT
DTSTART;TZID=America/New_York:20270531T100000
DTEND;TZID=America/New_York:20270531T120000
DTSTAMP:20260425T151608
CREATED:20250709T163356Z
LAST-MODIFIED:20251101T214305Z
UID:10015577-1811757600-1811764800@cedarlane.org
SUMMARY:Science and Religion
DESCRIPTION:
URL:https://cedarlane.org/calendar/science-religion-discussion/2027-05-31/
LOCATION:9601 Cedar Lane\, Bethesda\, MD\, 20814\, United States
CATEGORIES:Learn and Grow
ATTACH;FMTTYPE=image/webp:https://cedarlane.org/wp-content/uploads/2025/10/science.webp
END:VEVENT
BEGIN:VEVENT
DTSTART;TZID=America/New_York:20270607T100000
DTEND;TZID=America/New_York:20270607T120000
DTSTAMP:20260425T151608
CREATED:20250709T163356Z
LAST-MODIFIED:20251101T214305Z
UID:10015578-1812362400-1812369600@cedarlane.org
SUMMARY:Science and Religion
DESCRIPTION:
URL:https://cedarlane.org/calendar/science-religion-discussion/2027-06-07/
LOCATION:9601 Cedar Lane\, Bethesda\, MD\, 20814\, United States
CATEGORIES:Learn and Grow
ATTACH;FMTTYPE=image/webp:https://cedarlane.org/wp-content/uploads/2025/10/science.webp
END:VEVENT
BEGIN:VEVENT
DTSTART;TZID=America/New_York:20270614T100000
DTEND;TZID=America/New_York:20270614T120000
DTSTAMP:20260425T151608
CREATED:20250709T163356Z
LAST-MODIFIED:20251101T214305Z
UID:10015579-1812967200-1812974400@cedarlane.org
SUMMARY:Science and Religion
DESCRIPTION:
URL:https://cedarlane.org/calendar/science-religion-discussion/2027-06-14/
LOCATION:9601 Cedar Lane\, Bethesda\, MD\, 20814\, United States
CATEGORIES:Learn and Grow
ATTACH;FMTTYPE=image/webp:https://cedarlane.org/wp-content/uploads/2025/10/science.webp
END:VEVENT
BEGIN:VEVENT
DTSTART;TZID=America/New_York:20270621T100000
DTEND;TZID=America/New_York:20270621T120000
DTSTAMP:20260425T151608
CREATED:20250709T163356Z
LAST-MODIFIED:20251101T214305Z
UID:10015580-1813572000-1813579200@cedarlane.org
SUMMARY:Science and Religion
DESCRIPTION:
URL:https://cedarlane.org/calendar/science-religion-discussion/2027-06-21/
LOCATION:9601 Cedar Lane\, Bethesda\, MD\, 20814\, United States
CATEGORIES:Learn and Grow
ATTACH;FMTTYPE=image/webp:https://cedarlane.org/wp-content/uploads/2025/10/science.webp
END:VEVENT
END:VCALENDAR