BEGIN:VCALENDAR
VERSION:2.0
PRODID:-//Cedar Lane Unitarian Universalist Congregation - ECPv6.15.20//NONSGML v1.0//EN
CALSCALE:GREGORIAN
METHOD:PUBLISH
X-WR-CALNAME:Cedar Lane Unitarian Universalist Congregation
X-ORIGINAL-URL:https://cedarlane.org
X-WR-CALDESC:Events for Cedar Lane Unitarian Universalist Congregation
REFRESH-INTERVAL;VALUE=DURATION:PT1H
X-Robots-Tag:noindex
X-PUBLISHED-TTL:PT1H
BEGIN:VTIMEZONE
TZID:America/New_York
BEGIN:DAYLIGHT
TZOFFSETFROM:-0500
TZOFFSETTO:-0400
TZNAME:EDT
DTSTART:20250309T070000
END:DAYLIGHT
BEGIN:STANDARD
TZOFFSETFROM:-0400
TZOFFSETTO:-0500
TZNAME:EST
DTSTART:20251102T060000
END:STANDARD
BEGIN:DAYLIGHT
TZOFFSETFROM:-0500
TZOFFSETTO:-0400
TZNAME:EDT
DTSTART:20260308T070000
END:DAYLIGHT
BEGIN:STANDARD
TZOFFSETFROM:-0400
TZOFFSETTO:-0500
TZNAME:EST
DTSTART:20261101T060000
END:STANDARD
BEGIN:DAYLIGHT
TZOFFSETFROM:-0500
TZOFFSETTO:-0400
TZNAME:EDT
DTSTART:20270314T070000
END:DAYLIGHT
BEGIN:STANDARD
TZOFFSETFROM:-0400
TZOFFSETTO:-0500
TZNAME:EST
DTSTART:20271107T060000
END:STANDARD
BEGIN:DAYLIGHT
TZOFFSETFROM:-0500
TZOFFSETTO:-0400
TZNAME:EDT
DTSTART:20280312T070000
END:DAYLIGHT
BEGIN:STANDARD
TZOFFSETFROM:-0400
TZOFFSETTO:-0500
TZNAME:EST
DTSTART:20281105T060000
END:STANDARD
BEGIN:DAYLIGHT
TZOFFSETFROM:-0500
TZOFFSETTO:-0400
TZNAME:EDT
DTSTART:20290311T070000
END:DAYLIGHT
BEGIN:STANDARD
TZOFFSETFROM:-0400
TZOFFSETTO:-0500
TZNAME:EST
DTSTART:20291104T060000
END:STANDARD
END:VTIMEZONE
BEGIN:VEVENT
DTSTART;TZID=America/New_York:20260521T110000
DTEND;TZID=America/New_York:20260521T123000
DTSTAMP:20260424T051133
CREATED:20250709T163135Z
LAST-MODIFIED:20251101T214306Z
UID:10016013-1779361200-1779366600@cedarlane.org
SUMMARY:Alliance Board Meeting
DESCRIPTION:
URL:https://cedarlane.org/calendar/alliance-board-meeting/2026-05-21/
LOCATION:9601 Cedar Lane\, Bethesda\, MD\, 20814\, United States
CATEGORIES:Planning and Coordination
ATTACH;FMTTYPE=image/webp:https://cedarlane.org/wp-content/uploads/2025/10/alliance-board.webp
END:VEVENT
BEGIN:VEVENT
DTSTART;TZID=America/New_York:20260618T110000
DTEND;TZID=America/New_York:20260618T123000
DTSTAMP:20260424T051133
CREATED:20250709T163135Z
LAST-MODIFIED:20251101T214306Z
UID:10016014-1781780400-1781785800@cedarlane.org
SUMMARY:Alliance Board Meeting
DESCRIPTION:
URL:https://cedarlane.org/calendar/alliance-board-meeting/2026-06-18/
LOCATION:9601 Cedar Lane\, Bethesda\, MD\, 20814\, United States
CATEGORIES:Planning and Coordination
ATTACH;FMTTYPE=image/webp:https://cedarlane.org/wp-content/uploads/2025/10/alliance-board.webp
END:VEVENT
BEGIN:VEVENT
DTSTART;TZID=America/New_York:20260716T110000
DTEND;TZID=America/New_York:20260716T123000
DTSTAMP:20260424T051133
CREATED:20250709T163135Z
LAST-MODIFIED:20251101T214306Z
UID:10016015-1784199600-1784205000@cedarlane.org
SUMMARY:Alliance Board Meeting
DESCRIPTION:
URL:https://cedarlane.org/calendar/alliance-board-meeting/2026-07-16/
LOCATION:9601 Cedar Lane\, Bethesda\, MD\, 20814\, United States
CATEGORIES:Planning and Coordination
ATTACH;FMTTYPE=image/webp:https://cedarlane.org/wp-content/uploads/2025/10/alliance-board.webp
END:VEVENT
BEGIN:VEVENT
DTSTART;TZID=America/New_York:20260820T110000
DTEND;TZID=America/New_York:20260820T123000
DTSTAMP:20260424T051133
CREATED:20250709T163135Z
LAST-MODIFIED:20251101T214306Z
UID:10016016-1787223600-1787229000@cedarlane.org
SUMMARY:Alliance Board Meeting
DESCRIPTION:
URL:https://cedarlane.org/calendar/alliance-board-meeting/2026-08-20/
LOCATION:9601 Cedar Lane\, Bethesda\, MD\, 20814\, United States
CATEGORIES:Planning and Coordination
ATTACH;FMTTYPE=image/webp:https://cedarlane.org/wp-content/uploads/2025/10/alliance-board.webp
END:VEVENT
BEGIN:VEVENT
DTSTART;TZID=America/New_York:20260917T110000
DTEND;TZID=America/New_York:20260917T123000
DTSTAMP:20260424T051133
CREATED:20250709T163135Z
LAST-MODIFIED:20251101T214306Z
UID:10016017-1789642800-1789648200@cedarlane.org
SUMMARY:Alliance Board Meeting
DESCRIPTION:
URL:https://cedarlane.org/calendar/alliance-board-meeting/2026-09-17/
LOCATION:9601 Cedar Lane\, Bethesda\, MD\, 20814\, United States
CATEGORIES:Planning and Coordination
ATTACH;FMTTYPE=image/webp:https://cedarlane.org/wp-content/uploads/2025/10/alliance-board.webp
END:VEVENT
BEGIN:VEVENT
DTSTART;TZID=America/New_York:20261015T110000
DTEND;TZID=America/New_York:20261015T123000
DTSTAMP:20260424T051133
CREATED:20250709T163135Z
LAST-MODIFIED:20251101T214306Z
UID:10016018-1792062000-1792067400@cedarlane.org
SUMMARY:Alliance Board Meeting
DESCRIPTION:
URL:https://cedarlane.org/calendar/alliance-board-meeting/2026-10-15/
LOCATION:9601 Cedar Lane\, Bethesda\, MD\, 20814\, United States
CATEGORIES:Planning and Coordination
ATTACH;FMTTYPE=image/webp:https://cedarlane.org/wp-content/uploads/2025/10/alliance-board.webp
END:VEVENT
BEGIN:VEVENT
DTSTART;TZID=America/New_York:20261119T110000
DTEND;TZID=America/New_York:20261119T123000
DTSTAMP:20260424T051133
CREATED:20250709T163135Z
LAST-MODIFIED:20251101T214306Z
UID:10016019-1795086000-1795091400@cedarlane.org
SUMMARY:Alliance Board Meeting
DESCRIPTION:
URL:https://cedarlane.org/calendar/alliance-board-meeting/2026-11-19/
LOCATION:9601 Cedar Lane\, Bethesda\, MD\, 20814\, United States
CATEGORIES:Planning and Coordination
ATTACH;FMTTYPE=image/webp:https://cedarlane.org/wp-content/uploads/2025/10/alliance-board.webp
END:VEVENT
BEGIN:VEVENT
DTSTART;TZID=America/New_York:20261217T110000
DTEND;TZID=America/New_York:20261217T123000
DTSTAMP:20260424T051133
CREATED:20250709T163135Z
LAST-MODIFIED:20251101T214306Z
UID:10016020-1797505200-1797510600@cedarlane.org
SUMMARY:Alliance Board Meeting
DESCRIPTION:
URL:https://cedarlane.org/calendar/alliance-board-meeting/2026-12-17/
LOCATION:9601 Cedar Lane\, Bethesda\, MD\, 20814\, United States
CATEGORIES:Planning and Coordination
ATTACH;FMTTYPE=image/webp:https://cedarlane.org/wp-content/uploads/2025/10/alliance-board.webp
END:VEVENT
BEGIN:VEVENT
DTSTART;TZID=America/New_York:20270121T110000
DTEND;TZID=America/New_York:20270121T123000
DTSTAMP:20260424T051133
CREATED:20250709T163135Z
LAST-MODIFIED:20251101T214306Z
UID:10016021-1800529200-1800534600@cedarlane.org
SUMMARY:Alliance Board Meeting
DESCRIPTION:
URL:https://cedarlane.org/calendar/alliance-board-meeting/2027-01-21/
LOCATION:9601 Cedar Lane\, Bethesda\, MD\, 20814\, United States
CATEGORIES:Planning and Coordination
ATTACH;FMTTYPE=image/webp:https://cedarlane.org/wp-content/uploads/2025/10/alliance-board.webp
END:VEVENT
BEGIN:VEVENT
DTSTART;TZID=America/New_York:20270218T110000
DTEND;TZID=America/New_York:20270218T123000
DTSTAMP:20260424T051133
CREATED:20250709T163135Z
LAST-MODIFIED:20251101T214306Z
UID:10016022-1802948400-1802953800@cedarlane.org
SUMMARY:Alliance Board Meeting
DESCRIPTION:
URL:https://cedarlane.org/calendar/alliance-board-meeting/2027-02-18/
LOCATION:9601 Cedar Lane\, Bethesda\, MD\, 20814\, United States
CATEGORIES:Planning and Coordination
ATTACH;FMTTYPE=image/webp:https://cedarlane.org/wp-content/uploads/2025/10/alliance-board.webp
END:VEVENT
BEGIN:VEVENT
DTSTART;TZID=America/New_York:20270318T110000
DTEND;TZID=America/New_York:20270318T123000
DTSTAMP:20260424T051133
CREATED:20250709T163135Z
LAST-MODIFIED:20251101T214306Z
UID:10016023-1805367600-1805373000@cedarlane.org
SUMMARY:Alliance Board Meeting
DESCRIPTION:
URL:https://cedarlane.org/calendar/alliance-board-meeting/2027-03-18/
LOCATION:9601 Cedar Lane\, Bethesda\, MD\, 20814\, United States
CATEGORIES:Planning and Coordination
ATTACH;FMTTYPE=image/webp:https://cedarlane.org/wp-content/uploads/2025/10/alliance-board.webp
END:VEVENT
BEGIN:VEVENT
DTSTART;TZID=America/New_York:20270415T110000
DTEND;TZID=America/New_York:20270415T123000
DTSTAMP:20260424T051133
CREATED:20250709T163135Z
LAST-MODIFIED:20251101T214306Z
UID:10016024-1807786800-1807792200@cedarlane.org
SUMMARY:Alliance Board Meeting
DESCRIPTION:
URL:https://cedarlane.org/calendar/alliance-board-meeting/2027-04-15/
LOCATION:9601 Cedar Lane\, Bethesda\, MD\, 20814\, United States
CATEGORIES:Planning and Coordination
ATTACH;FMTTYPE=image/webp:https://cedarlane.org/wp-content/uploads/2025/10/alliance-board.webp
END:VEVENT
BEGIN:VEVENT
DTSTART;TZID=America/New_York:20270520T110000
DTEND;TZID=America/New_York:20270520T123000
DTSTAMP:20260424T051133
CREATED:20250709T163135Z
LAST-MODIFIED:20251101T214306Z
UID:10016025-1810810800-1810816200@cedarlane.org
SUMMARY:Alliance Board Meeting
DESCRIPTION:
URL:https://cedarlane.org/calendar/alliance-board-meeting/2027-05-20/
LOCATION:9601 Cedar Lane\, Bethesda\, MD\, 20814\, United States
CATEGORIES:Planning and Coordination
ATTACH;FMTTYPE=image/webp:https://cedarlane.org/wp-content/uploads/2025/10/alliance-board.webp
END:VEVENT
BEGIN:VEVENT
DTSTART;TZID=America/New_York:20270617T110000
DTEND;TZID=America/New_York:20270617T123000
DTSTAMP:20260424T051133
CREATED:20250709T163135Z
LAST-MODIFIED:20251101T214306Z
UID:10016026-1813230000-1813235400@cedarlane.org
SUMMARY:Alliance Board Meeting
DESCRIPTION:
URL:https://cedarlane.org/calendar/alliance-board-meeting/2027-06-17/
LOCATION:9601 Cedar Lane\, Bethesda\, MD\, 20814\, United States
CATEGORIES:Planning and Coordination
ATTACH;FMTTYPE=image/webp:https://cedarlane.org/wp-content/uploads/2025/10/alliance-board.webp
END:VEVENT
BEGIN:VEVENT
DTSTART;TZID=America/New_York:20270715T110000
DTEND;TZID=America/New_York:20270715T123000
DTSTAMP:20260424T051133
CREATED:20250709T163135Z
LAST-MODIFIED:20251101T214306Z
UID:10016027-1815649200-1815654600@cedarlane.org
SUMMARY:Alliance Board Meeting
DESCRIPTION:
URL:https://cedarlane.org/calendar/alliance-board-meeting/2027-07-15/
LOCATION:9601 Cedar Lane\, Bethesda\, MD\, 20814\, United States
CATEGORIES:Planning and Coordination
ATTACH;FMTTYPE=image/webp:https://cedarlane.org/wp-content/uploads/2025/10/alliance-board.webp
END:VEVENT
BEGIN:VEVENT
DTSTART;TZID=America/New_York:20270819T110000
DTEND;TZID=America/New_York:20270819T123000
DTSTAMP:20260424T051133
CREATED:20250709T163135Z
LAST-MODIFIED:20251101T214306Z
UID:10016028-1818673200-1818678600@cedarlane.org
SUMMARY:Alliance Board Meeting
DESCRIPTION:
URL:https://cedarlane.org/calendar/alliance-board-meeting/2027-08-19/
LOCATION:9601 Cedar Lane\, Bethesda\, MD\, 20814\, United States
CATEGORIES:Planning and Coordination
ATTACH;FMTTYPE=image/webp:https://cedarlane.org/wp-content/uploads/2025/10/alliance-board.webp
END:VEVENT
BEGIN:VEVENT
DTSTART;TZID=America/New_York:20270916T110000
DTEND;TZID=America/New_York:20270916T123000
DTSTAMP:20260424T051133
CREATED:20250709T163135Z
LAST-MODIFIED:20251101T214306Z
UID:10016029-1821092400-1821097800@cedarlane.org
SUMMARY:Alliance Board Meeting
DESCRIPTION:
URL:https://cedarlane.org/calendar/alliance-board-meeting/2027-09-16/
LOCATION:9601 Cedar Lane\, Bethesda\, MD\, 20814\, United States
CATEGORIES:Planning and Coordination
ATTACH;FMTTYPE=image/webp:https://cedarlane.org/wp-content/uploads/2025/10/alliance-board.webp
END:VEVENT
BEGIN:VEVENT
DTSTART;TZID=America/New_York:20271021T110000
DTEND;TZID=America/New_York:20271021T123000
DTSTAMP:20260424T051133
CREATED:20250709T163135Z
LAST-MODIFIED:20251101T214306Z
UID:10016030-1824116400-1824121800@cedarlane.org
SUMMARY:Alliance Board Meeting
DESCRIPTION:
URL:https://cedarlane.org/calendar/alliance-board-meeting/2027-10-21/
LOCATION:9601 Cedar Lane\, Bethesda\, MD\, 20814\, United States
CATEGORIES:Planning and Coordination
ATTACH;FMTTYPE=image/webp:https://cedarlane.org/wp-content/uploads/2025/10/alliance-board.webp
END:VEVENT
BEGIN:VEVENT
DTSTART;TZID=America/New_York:20271118T110000
DTEND;TZID=America/New_York:20271118T123000
DTSTAMP:20260424T051133
CREATED:20250709T163135Z
LAST-MODIFIED:20251101T214306Z
UID:10016031-1826535600-1826541000@cedarlane.org
SUMMARY:Alliance Board Meeting
DESCRIPTION:
URL:https://cedarlane.org/calendar/alliance-board-meeting/2027-11-18/
LOCATION:9601 Cedar Lane\, Bethesda\, MD\, 20814\, United States
CATEGORIES:Planning and Coordination
ATTACH;FMTTYPE=image/webp:https://cedarlane.org/wp-content/uploads/2025/10/alliance-board.webp
END:VEVENT
BEGIN:VEVENT
DTSTART;TZID=America/New_York:20271216T110000
DTEND;TZID=America/New_York:20271216T123000
DTSTAMP:20260424T051133
CREATED:20250709T163135Z
LAST-MODIFIED:20251101T214306Z
UID:10016032-1828954800-1828960200@cedarlane.org
SUMMARY:Alliance Board Meeting
DESCRIPTION:
URL:https://cedarlane.org/calendar/alliance-board-meeting/2027-12-16/
LOCATION:9601 Cedar Lane\, Bethesda\, MD\, 20814\, United States
CATEGORIES:Planning and Coordination
ATTACH;FMTTYPE=image/webp:https://cedarlane.org/wp-content/uploads/2025/10/alliance-board.webp
END:VEVENT
BEGIN:VEVENT
DTSTART;TZID=America/New_York:20280120T110000
DTEND;TZID=America/New_York:20280120T123000
DTSTAMP:20260424T051133
CREATED:20250709T163135Z
LAST-MODIFIED:20251101T214306Z
UID:10016033-1831978800-1831984200@cedarlane.org
SUMMARY:Alliance Board Meeting
DESCRIPTION:
URL:https://cedarlane.org/calendar/alliance-board-meeting/2028-01-20/
LOCATION:9601 Cedar Lane\, Bethesda\, MD\, 20814\, United States
CATEGORIES:Planning and Coordination
ATTACH;FMTTYPE=image/webp:https://cedarlane.org/wp-content/uploads/2025/10/alliance-board.webp
END:VEVENT
BEGIN:VEVENT
DTSTART;TZID=America/New_York:20280217T110000
DTEND;TZID=America/New_York:20280217T123000
DTSTAMP:20260424T051133
CREATED:20250709T163135Z
LAST-MODIFIED:20251101T214306Z
UID:10016034-1834398000-1834403400@cedarlane.org
SUMMARY:Alliance Board Meeting
DESCRIPTION:
URL:https://cedarlane.org/calendar/alliance-board-meeting/2028-02-17/
LOCATION:9601 Cedar Lane\, Bethesda\, MD\, 20814\, United States
CATEGORIES:Planning and Coordination
ATTACH;FMTTYPE=image/webp:https://cedarlane.org/wp-content/uploads/2025/10/alliance-board.webp
END:VEVENT
BEGIN:VEVENT
DTSTART;TZID=America/New_York:20280316T110000
DTEND;TZID=America/New_York:20280316T123000
DTSTAMP:20260424T051133
CREATED:20250709T163135Z
LAST-MODIFIED:20251101T214306Z
UID:10016035-1836817200-1836822600@cedarlane.org
SUMMARY:Alliance Board Meeting
DESCRIPTION:
URL:https://cedarlane.org/calendar/alliance-board-meeting/2028-03-16/
LOCATION:9601 Cedar Lane\, Bethesda\, MD\, 20814\, United States
CATEGORIES:Planning and Coordination
ATTACH;FMTTYPE=image/webp:https://cedarlane.org/wp-content/uploads/2025/10/alliance-board.webp
END:VEVENT
BEGIN:VEVENT
DTSTART;TZID=America/New_York:20280420T110000
DTEND;TZID=America/New_York:20280420T123000
DTSTAMP:20260424T051133
CREATED:20250709T163135Z
LAST-MODIFIED:20251101T214306Z
UID:10016036-1839841200-1839846600@cedarlane.org
SUMMARY:Alliance Board Meeting
DESCRIPTION:
URL:https://cedarlane.org/calendar/alliance-board-meeting/2028-04-20/
LOCATION:9601 Cedar Lane\, Bethesda\, MD\, 20814\, United States
CATEGORIES:Planning and Coordination
ATTACH;FMTTYPE=image/webp:https://cedarlane.org/wp-content/uploads/2025/10/alliance-board.webp
END:VEVENT
BEGIN:VEVENT
DTSTART;TZID=America/New_York:20280518T110000
DTEND;TZID=America/New_York:20280518T123000
DTSTAMP:20260424T051133
CREATED:20250709T163135Z
LAST-MODIFIED:20251101T214306Z
UID:10016037-1842260400-1842265800@cedarlane.org
SUMMARY:Alliance Board Meeting
DESCRIPTION:
URL:https://cedarlane.org/calendar/alliance-board-meeting/2028-05-18/
LOCATION:9601 Cedar Lane\, Bethesda\, MD\, 20814\, United States
CATEGORIES:Planning and Coordination
ATTACH;FMTTYPE=image/webp:https://cedarlane.org/wp-content/uploads/2025/10/alliance-board.webp
END:VEVENT
BEGIN:VEVENT
DTSTART;TZID=America/New_York:20280615T110000
DTEND;TZID=America/New_York:20280615T123000
DTSTAMP:20260424T051133
CREATED:20250709T163135Z
LAST-MODIFIED:20251101T214306Z
UID:10016038-1844679600-1844685000@cedarlane.org
SUMMARY:Alliance Board Meeting
DESCRIPTION:
URL:https://cedarlane.org/calendar/alliance-board-meeting/2028-06-15/
LOCATION:9601 Cedar Lane\, Bethesda\, MD\, 20814\, United States
CATEGORIES:Planning and Coordination
ATTACH;FMTTYPE=image/webp:https://cedarlane.org/wp-content/uploads/2025/10/alliance-board.webp
END:VEVENT
BEGIN:VEVENT
DTSTART;TZID=America/New_York:20280720T110000
DTEND;TZID=America/New_York:20280720T123000
DTSTAMP:20260424T051133
CREATED:20250709T163135Z
LAST-MODIFIED:20251101T214306Z
UID:10016039-1847703600-1847709000@cedarlane.org
SUMMARY:Alliance Board Meeting
DESCRIPTION:
URL:https://cedarlane.org/calendar/alliance-board-meeting/2028-07-20/
LOCATION:9601 Cedar Lane\, Bethesda\, MD\, 20814\, United States
CATEGORIES:Planning and Coordination
ATTACH;FMTTYPE=image/webp:https://cedarlane.org/wp-content/uploads/2025/10/alliance-board.webp
END:VEVENT
BEGIN:VEVENT
DTSTART;TZID=America/New_York:20280817T110000
DTEND;TZID=America/New_York:20280817T123000
DTSTAMP:20260424T051133
CREATED:20250709T163135Z
LAST-MODIFIED:20251101T214306Z
UID:10016040-1850122800-1850128200@cedarlane.org
SUMMARY:Alliance Board Meeting
DESCRIPTION:
URL:https://cedarlane.org/calendar/alliance-board-meeting/2028-08-17/
LOCATION:9601 Cedar Lane\, Bethesda\, MD\, 20814\, United States
CATEGORIES:Planning and Coordination
ATTACH;FMTTYPE=image/webp:https://cedarlane.org/wp-content/uploads/2025/10/alliance-board.webp
END:VEVENT
BEGIN:VEVENT
DTSTART;TZID=America/New_York:20280921T110000
DTEND;TZID=America/New_York:20280921T123000
DTSTAMP:20260424T051133
CREATED:20250709T163135Z
LAST-MODIFIED:20251101T214306Z
UID:10016041-1853146800-1853152200@cedarlane.org
SUMMARY:Alliance Board Meeting
DESCRIPTION:
URL:https://cedarlane.org/calendar/alliance-board-meeting/2028-09-21/
LOCATION:9601 Cedar Lane\, Bethesda\, MD\, 20814\, United States
CATEGORIES:Planning and Coordination
ATTACH;FMTTYPE=image/webp:https://cedarlane.org/wp-content/uploads/2025/10/alliance-board.webp
END:VEVENT
BEGIN:VEVENT
DTSTART;TZID=America/New_York:20281019T110000
DTEND;TZID=America/New_York:20281019T123000
DTSTAMP:20260424T051133
CREATED:20250709T163135Z
LAST-MODIFIED:20251101T214306Z
UID:10016042-1855566000-1855571400@cedarlane.org
SUMMARY:Alliance Board Meeting
DESCRIPTION:
URL:https://cedarlane.org/calendar/alliance-board-meeting/2028-10-19/
LOCATION:9601 Cedar Lane\, Bethesda\, MD\, 20814\, United States
CATEGORIES:Planning and Coordination
ATTACH;FMTTYPE=image/webp:https://cedarlane.org/wp-content/uploads/2025/10/alliance-board.webp
END:VEVENT
END:VCALENDAR