BEGIN:VCALENDAR
VERSION:2.0
PRODID:-//Cedar Lane Unitarian Universalist Congregation - ECPv6.15.20//NONSGML v1.0//EN
CALSCALE:GREGORIAN
METHOD:PUBLISH
X-ORIGINAL-URL:https://cedarlane.org
X-WR-CALDESC:Events for Cedar Lane Unitarian Universalist Congregation
REFRESH-INTERVAL;VALUE=DURATION:PT1H
X-Robots-Tag:noindex
X-PUBLISHED-TTL:PT1H
BEGIN:VTIMEZONE
TZID:America/New_York
BEGIN:DAYLIGHT
TZOFFSETFROM:-0500
TZOFFSETTO:-0400
TZNAME:EDT
DTSTART:20260308T070000
END:DAYLIGHT
BEGIN:STANDARD
TZOFFSETFROM:-0400
TZOFFSETTO:-0500
TZNAME:EST
DTSTART:20261101T060000
END:STANDARD
BEGIN:DAYLIGHT
TZOFFSETFROM:-0500
TZOFFSETTO:-0400
TZNAME:EDT
DTSTART:20270314T070000
END:DAYLIGHT
BEGIN:STANDARD
TZOFFSETFROM:-0400
TZOFFSETTO:-0500
TZNAME:EST
DTSTART:20271107T060000
END:STANDARD
BEGIN:DAYLIGHT
TZOFFSETFROM:-0500
TZOFFSETTO:-0400
TZNAME:EDT
DTSTART:20280312T070000
END:DAYLIGHT
BEGIN:STANDARD
TZOFFSETFROM:-0400
TZOFFSETTO:-0500
TZNAME:EST
DTSTART:20281105T060000
END:STANDARD
BEGIN:DAYLIGHT
TZOFFSETFROM:-0500
TZOFFSETTO:-0400
TZNAME:EDT
DTSTART:20290311T070000
END:DAYLIGHT
BEGIN:STANDARD
TZOFFSETFROM:-0400
TZOFFSETTO:-0500
TZNAME:EST
DTSTART:20291104T060000
END:STANDARD
END:VTIMEZONE
BEGIN:VEVENT
DTSTART;TZID=America/New_York:20270804T183000
DTEND;TZID=America/New_York:20270804T193000
DTSTAMP:20260425T083354
CREATED:20251029T173106Z
LAST-MODIFIED:20251101T214300Z
UID:10016216-1817404200-1817407800@cedarlane.org
SUMMARY:Executive Committee
DESCRIPTION:This meeting is closed to executive committee members.
URL:https://cedarlane.org/calendar/executive-committee-7/2027-08-04/
LOCATION:9601 Cedar Lane\, Bethesda\, MD\, 20814\, United States
CATEGORIES:Governance,Planning and Coordination
ATTACH;FMTTYPE=image/webp:https://cedarlane.org/wp-content/uploads/2025/10/ExComm.webp
END:VEVENT
BEGIN:VEVENT
DTSTART;TZID=America/New_York:20270817T190000
DTEND;TZID=America/New_York:20270817T210000
DTSTAMP:20260425T083354
CREATED:20250709T163120Z
LAST-MODIFIED:20251101T214306Z
UID:10015446-1818529200-1818536400@cedarlane.org
SUMMARY:Board Meeting
DESCRIPTION:
URL:https://cedarlane.org/calendar/bot/2027-08-17/
LOCATION:https://cedarlane.org/calendar/bot/2027-08-17/
CATEGORIES:Planning and Coordination
ATTACH;FMTTYPE=image/webp:https://cedarlane.org/wp-content/uploads/2025/10/Board-Meeting.webp
END:VEVENT
BEGIN:VEVENT
DTSTART;TZID=America/New_York:20270901T183000
DTEND;TZID=America/New_York:20270901T193000
DTSTAMP:20260425T083354
CREATED:20251029T173106Z
LAST-MODIFIED:20251101T214300Z
UID:10016217-1819823400-1819827000@cedarlane.org
SUMMARY:Executive Committee
DESCRIPTION:This meeting is closed to executive committee members.
URL:https://cedarlane.org/calendar/executive-committee-7/2027-09-01/
LOCATION:9601 Cedar Lane\, Bethesda\, MD\, 20814\, United States
CATEGORIES:Governance,Planning and Coordination
ATTACH;FMTTYPE=image/webp:https://cedarlane.org/wp-content/uploads/2025/10/ExComm.webp
END:VEVENT
BEGIN:VEVENT
DTSTART;TZID=America/New_York:20270921T190000
DTEND;TZID=America/New_York:20270921T210000
DTSTAMP:20260425T083354
CREATED:20250709T163120Z
LAST-MODIFIED:20251101T214306Z
UID:10015447-1821553200-1821560400@cedarlane.org
SUMMARY:Board Meeting
DESCRIPTION:
URL:https://cedarlane.org/calendar/bot/2027-09-21/
LOCATION:https://cedarlane.org/calendar/bot/2027-09-21/
CATEGORIES:Planning and Coordination
ATTACH;FMTTYPE=image/webp:https://cedarlane.org/wp-content/uploads/2025/10/Board-Meeting.webp
END:VEVENT
BEGIN:VEVENT
DTSTART;TZID=America/New_York:20271006T183000
DTEND;TZID=America/New_York:20271006T193000
DTSTAMP:20260425T083354
CREATED:20251029T173106Z
LAST-MODIFIED:20251101T214300Z
UID:10016218-1822847400-1822851000@cedarlane.org
SUMMARY:Executive Committee
DESCRIPTION:This meeting is closed to executive committee members.
URL:https://cedarlane.org/calendar/executive-committee-7/2027-10-06/
LOCATION:9601 Cedar Lane\, Bethesda\, MD\, 20814\, United States
CATEGORIES:Governance,Planning and Coordination
ATTACH;FMTTYPE=image/webp:https://cedarlane.org/wp-content/uploads/2025/10/ExComm.webp
END:VEVENT
BEGIN:VEVENT
DTSTART;TZID=America/New_York:20271019T190000
DTEND;TZID=America/New_York:20271019T210000
DTSTAMP:20260425T083354
CREATED:20250709T163120Z
LAST-MODIFIED:20251101T214306Z
UID:10015448-1823972400-1823979600@cedarlane.org
SUMMARY:Board Meeting
DESCRIPTION:
URL:https://cedarlane.org/calendar/bot/2027-10-19/
LOCATION:https://cedarlane.org/calendar/bot/2027-10-19/
CATEGORIES:Planning and Coordination
ATTACH;FMTTYPE=image/webp:https://cedarlane.org/wp-content/uploads/2025/10/Board-Meeting.webp
END:VEVENT
BEGIN:VEVENT
DTSTART;TZID=America/New_York:20271103T183000
DTEND;TZID=America/New_York:20271103T193000
DTSTAMP:20260425T083354
CREATED:20251029T173106Z
LAST-MODIFIED:20251101T214300Z
UID:10016219-1825266600-1825270200@cedarlane.org
SUMMARY:Executive Committee
DESCRIPTION:This meeting is closed to executive committee members.
URL:https://cedarlane.org/calendar/executive-committee-7/2027-11-03/
LOCATION:9601 Cedar Lane\, Bethesda\, MD\, 20814\, United States
CATEGORIES:Governance,Planning and Coordination
ATTACH;FMTTYPE=image/webp:https://cedarlane.org/wp-content/uploads/2025/10/ExComm.webp
END:VEVENT
BEGIN:VEVENT
DTSTART;TZID=America/New_York:20271116T190000
DTEND;TZID=America/New_York:20271116T210000
DTSTAMP:20260425T083355
CREATED:20250709T163120Z
LAST-MODIFIED:20251101T214306Z
UID:10015449-1826391600-1826398800@cedarlane.org
SUMMARY:Board Meeting
DESCRIPTION:
URL:https://cedarlane.org/calendar/bot/2027-11-16/
LOCATION:https://cedarlane.org/calendar/bot/2027-11-16/
CATEGORIES:Planning and Coordination
ATTACH;FMTTYPE=image/webp:https://cedarlane.org/wp-content/uploads/2025/10/Board-Meeting.webp
END:VEVENT
BEGIN:VEVENT
DTSTART;TZID=America/New_York:20271201T183000
DTEND;TZID=America/New_York:20271201T193000
DTSTAMP:20260425T083355
CREATED:20251029T173106Z
LAST-MODIFIED:20251101T214300Z
UID:10016220-1827685800-1827689400@cedarlane.org
SUMMARY:Executive Committee
DESCRIPTION:This meeting is closed to executive committee members.
URL:https://cedarlane.org/calendar/executive-committee-7/2027-12-01/
LOCATION:9601 Cedar Lane\, Bethesda\, MD\, 20814\, United States
CATEGORIES:Governance,Planning and Coordination
ATTACH;FMTTYPE=image/webp:https://cedarlane.org/wp-content/uploads/2025/10/ExComm.webp
END:VEVENT
BEGIN:VEVENT
DTSTART;TZID=America/New_York:20271221T190000
DTEND;TZID=America/New_York:20271221T210000
DTSTAMP:20260425T083355
CREATED:20250709T163120Z
LAST-MODIFIED:20251101T214306Z
UID:10015450-1829415600-1829422800@cedarlane.org
SUMMARY:Board Meeting
DESCRIPTION:
URL:https://cedarlane.org/calendar/bot/2027-12-21/
LOCATION:https://cedarlane.org/calendar/bot/2027-12-21/
CATEGORIES:Planning and Coordination
ATTACH;FMTTYPE=image/webp:https://cedarlane.org/wp-content/uploads/2025/10/Board-Meeting.webp
END:VEVENT
BEGIN:VEVENT
DTSTART;TZID=America/New_York:20280105T183000
DTEND;TZID=America/New_York:20280105T193000
DTSTAMP:20260425T083355
CREATED:20251029T173106Z
LAST-MODIFIED:20251101T214300Z
UID:10016221-1830709800-1830713400@cedarlane.org
SUMMARY:Executive Committee
DESCRIPTION:This meeting is closed to executive committee members.
URL:https://cedarlane.org/calendar/executive-committee-7/2028-01-05/
LOCATION:9601 Cedar Lane\, Bethesda\, MD\, 20814\, United States
CATEGORIES:Governance,Planning and Coordination
ATTACH;FMTTYPE=image/webp:https://cedarlane.org/wp-content/uploads/2025/10/ExComm.webp
END:VEVENT
BEGIN:VEVENT
DTSTART;TZID=America/New_York:20280118T190000
DTEND;TZID=America/New_York:20280118T210000
DTSTAMP:20260425T083355
CREATED:20250709T163120Z
LAST-MODIFIED:20251101T214306Z
UID:10015451-1831834800-1831842000@cedarlane.org
SUMMARY:Board Meeting
DESCRIPTION:
URL:https://cedarlane.org/calendar/bot/2028-01-18/
LOCATION:https://cedarlane.org/calendar/bot/2028-01-18/
CATEGORIES:Planning and Coordination
ATTACH;FMTTYPE=image/webp:https://cedarlane.org/wp-content/uploads/2025/10/Board-Meeting.webp
END:VEVENT
BEGIN:VEVENT
DTSTART;TZID=America/New_York:20280202T183000
DTEND;TZID=America/New_York:20280202T193000
DTSTAMP:20260425T083355
CREATED:20251029T173106Z
LAST-MODIFIED:20251101T214300Z
UID:10016222-1833129000-1833132600@cedarlane.org
SUMMARY:Executive Committee
DESCRIPTION:This meeting is closed to executive committee members.
URL:https://cedarlane.org/calendar/executive-committee-7/2028-02-02/
LOCATION:9601 Cedar Lane\, Bethesda\, MD\, 20814\, United States
CATEGORIES:Governance,Planning and Coordination
ATTACH;FMTTYPE=image/webp:https://cedarlane.org/wp-content/uploads/2025/10/ExComm.webp
END:VEVENT
BEGIN:VEVENT
DTSTART;TZID=America/New_York:20280215T190000
DTEND;TZID=America/New_York:20280215T210000
DTSTAMP:20260425T083355
CREATED:20250709T163120Z
LAST-MODIFIED:20251101T214306Z
UID:10015452-1834254000-1834261200@cedarlane.org
SUMMARY:Board Meeting
DESCRIPTION:
URL:https://cedarlane.org/calendar/bot/2028-02-15/
LOCATION:https://cedarlane.org/calendar/bot/2028-02-15/
CATEGORIES:Planning and Coordination
ATTACH;FMTTYPE=image/webp:https://cedarlane.org/wp-content/uploads/2025/10/Board-Meeting.webp
END:VEVENT
BEGIN:VEVENT
DTSTART;TZID=America/New_York:20280301T183000
DTEND;TZID=America/New_York:20280301T193000
DTSTAMP:20260425T083355
CREATED:20251029T173106Z
LAST-MODIFIED:20251101T214300Z
UID:10016223-1835548200-1835551800@cedarlane.org
SUMMARY:Executive Committee
DESCRIPTION:This meeting is closed to executive committee members.
URL:https://cedarlane.org/calendar/executive-committee-7/2028-03-01/
LOCATION:9601 Cedar Lane\, Bethesda\, MD\, 20814\, United States
CATEGORIES:Governance,Planning and Coordination
ATTACH;FMTTYPE=image/webp:https://cedarlane.org/wp-content/uploads/2025/10/ExComm.webp
END:VEVENT
BEGIN:VEVENT
DTSTART;TZID=America/New_York:20280321T190000
DTEND;TZID=America/New_York:20280321T210000
DTSTAMP:20260425T083355
CREATED:20250709T163120Z
LAST-MODIFIED:20251101T214306Z
UID:10015453-1837278000-1837285200@cedarlane.org
SUMMARY:Board Meeting
DESCRIPTION:
URL:https://cedarlane.org/calendar/bot/2028-03-21/
LOCATION:https://cedarlane.org/calendar/bot/2028-03-21/
CATEGORIES:Planning and Coordination
ATTACH;FMTTYPE=image/webp:https://cedarlane.org/wp-content/uploads/2025/10/Board-Meeting.webp
END:VEVENT
BEGIN:VEVENT
DTSTART;TZID=America/New_York:20280405T183000
DTEND;TZID=America/New_York:20280405T193000
DTSTAMP:20260425T083355
CREATED:20251029T173106Z
LAST-MODIFIED:20251101T214300Z
UID:10016224-1838572200-1838575800@cedarlane.org
SUMMARY:Executive Committee
DESCRIPTION:This meeting is closed to executive committee members.
URL:https://cedarlane.org/calendar/executive-committee-7/2028-04-05/
LOCATION:9601 Cedar Lane\, Bethesda\, MD\, 20814\, United States
CATEGORIES:Governance,Planning and Coordination
ATTACH;FMTTYPE=image/webp:https://cedarlane.org/wp-content/uploads/2025/10/ExComm.webp
END:VEVENT
BEGIN:VEVENT
DTSTART;TZID=America/New_York:20280418T190000
DTEND;TZID=America/New_York:20280418T210000
DTSTAMP:20260425T083355
CREATED:20250709T163120Z
LAST-MODIFIED:20251101T214306Z
UID:10015454-1839697200-1839704400@cedarlane.org
SUMMARY:Board Meeting
DESCRIPTION:
URL:https://cedarlane.org/calendar/bot/2028-04-18/
LOCATION:https://cedarlane.org/calendar/bot/2028-04-18/
CATEGORIES:Planning and Coordination
ATTACH;FMTTYPE=image/webp:https://cedarlane.org/wp-content/uploads/2025/10/Board-Meeting.webp
END:VEVENT
BEGIN:VEVENT
DTSTART;TZID=America/New_York:20280503T183000
DTEND;TZID=America/New_York:20280503T193000
DTSTAMP:20260425T083355
CREATED:20251029T173106Z
LAST-MODIFIED:20251101T214300Z
UID:10016225-1840991400-1840995000@cedarlane.org
SUMMARY:Executive Committee
DESCRIPTION:This meeting is closed to executive committee members.
URL:https://cedarlane.org/calendar/executive-committee-7/2028-05-03/
LOCATION:9601 Cedar Lane\, Bethesda\, MD\, 20814\, United States
CATEGORIES:Governance,Planning and Coordination
ATTACH;FMTTYPE=image/webp:https://cedarlane.org/wp-content/uploads/2025/10/ExComm.webp
END:VEVENT
BEGIN:VEVENT
DTSTART;TZID=America/New_York:20280516T190000
DTEND;TZID=America/New_York:20280516T210000
DTSTAMP:20260425T083355
CREATED:20250709T163120Z
LAST-MODIFIED:20251101T214306Z
UID:10015455-1842116400-1842123600@cedarlane.org
SUMMARY:Board Meeting
DESCRIPTION:
URL:https://cedarlane.org/calendar/bot/2028-05-16/
LOCATION:https://cedarlane.org/calendar/bot/2028-05-16/
CATEGORIES:Planning and Coordination
ATTACH;FMTTYPE=image/webp:https://cedarlane.org/wp-content/uploads/2025/10/Board-Meeting.webp
END:VEVENT
BEGIN:VEVENT
DTSTART;TZID=America/New_York:20280607T183000
DTEND;TZID=America/New_York:20280607T193000
DTSTAMP:20260425T083355
CREATED:20251029T173106Z
LAST-MODIFIED:20251101T214300Z
UID:10016226-1844015400-1844019000@cedarlane.org
SUMMARY:Executive Committee
DESCRIPTION:This meeting is closed to executive committee members.
URL:https://cedarlane.org/calendar/executive-committee-7/2028-06-07/
LOCATION:9601 Cedar Lane\, Bethesda\, MD\, 20814\, United States
CATEGORIES:Governance,Planning and Coordination
ATTACH;FMTTYPE=image/webp:https://cedarlane.org/wp-content/uploads/2025/10/ExComm.webp
END:VEVENT
BEGIN:VEVENT
DTSTART;TZID=America/New_York:20280620T190000
DTEND;TZID=America/New_York:20280620T210000
DTSTAMP:20260425T083355
CREATED:20250709T163120Z
LAST-MODIFIED:20251101T214306Z
UID:10015456-1845140400-1845147600@cedarlane.org
SUMMARY:Board Meeting
DESCRIPTION:
URL:https://cedarlane.org/calendar/bot/2028-06-20/
LOCATION:https://cedarlane.org/calendar/bot/2028-06-20/
CATEGORIES:Planning and Coordination
ATTACH;FMTTYPE=image/webp:https://cedarlane.org/wp-content/uploads/2025/10/Board-Meeting.webp
END:VEVENT
BEGIN:VEVENT
DTSTART;TZID=America/New_York:20280705T183000
DTEND;TZID=America/New_York:20280705T193000
DTSTAMP:20260425T083355
CREATED:20251029T173106Z
LAST-MODIFIED:20251101T214300Z
UID:10016227-1846434600-1846438200@cedarlane.org
SUMMARY:Executive Committee
DESCRIPTION:This meeting is closed to executive committee members.
URL:https://cedarlane.org/calendar/executive-committee-7/2028-07-05/
LOCATION:9601 Cedar Lane\, Bethesda\, MD\, 20814\, United States
CATEGORIES:Governance,Planning and Coordination
ATTACH;FMTTYPE=image/webp:https://cedarlane.org/wp-content/uploads/2025/10/ExComm.webp
END:VEVENT
BEGIN:VEVENT
DTSTART;TZID=America/New_York:20280718T190000
DTEND;TZID=America/New_York:20280718T210000
DTSTAMP:20260425T083355
CREATED:20250709T163120Z
LAST-MODIFIED:20251101T214306Z
UID:10015457-1847559600-1847566800@cedarlane.org
SUMMARY:Board Meeting
DESCRIPTION:
URL:https://cedarlane.org/calendar/bot/2028-07-18/
LOCATION:https://cedarlane.org/calendar/bot/2028-07-18/
CATEGORIES:Planning and Coordination
ATTACH;FMTTYPE=image/webp:https://cedarlane.org/wp-content/uploads/2025/10/Board-Meeting.webp
END:VEVENT
BEGIN:VEVENT
DTSTART;TZID=America/New_York:20280802T183000
DTEND;TZID=America/New_York:20280802T193000
DTSTAMP:20260425T083355
CREATED:20251029T173106Z
LAST-MODIFIED:20251101T214300Z
UID:10016228-1848853800-1848857400@cedarlane.org
SUMMARY:Executive Committee
DESCRIPTION:This meeting is closed to executive committee members.
URL:https://cedarlane.org/calendar/executive-committee-7/2028-08-02/
LOCATION:9601 Cedar Lane\, Bethesda\, MD\, 20814\, United States
CATEGORIES:Governance,Planning and Coordination
ATTACH;FMTTYPE=image/webp:https://cedarlane.org/wp-content/uploads/2025/10/ExComm.webp
END:VEVENT
BEGIN:VEVENT
DTSTART;TZID=America/New_York:20280815T190000
DTEND;TZID=America/New_York:20280815T210000
DTSTAMP:20260425T083355
CREATED:20250709T163120Z
LAST-MODIFIED:20251101T214306Z
UID:10015458-1849978800-1849986000@cedarlane.org
SUMMARY:Board Meeting
DESCRIPTION:
URL:https://cedarlane.org/calendar/bot/2028-08-15/
LOCATION:https://cedarlane.org/calendar/bot/2028-08-15/
CATEGORIES:Planning and Coordination
ATTACH;FMTTYPE=image/webp:https://cedarlane.org/wp-content/uploads/2025/10/Board-Meeting.webp
END:VEVENT
BEGIN:VEVENT
DTSTART;TZID=America/New_York:20280906T183000
DTEND;TZID=America/New_York:20280906T193000
DTSTAMP:20260425T083355
CREATED:20251029T173106Z
LAST-MODIFIED:20251101T214300Z
UID:10016229-1851877800-1851881400@cedarlane.org
SUMMARY:Executive Committee
DESCRIPTION:This meeting is closed to executive committee members.
URL:https://cedarlane.org/calendar/executive-committee-7/2028-09-06/
LOCATION:9601 Cedar Lane\, Bethesda\, MD\, 20814\, United States
CATEGORIES:Governance,Planning and Coordination
ATTACH;FMTTYPE=image/webp:https://cedarlane.org/wp-content/uploads/2025/10/ExComm.webp
END:VEVENT
BEGIN:VEVENT
DTSTART;TZID=America/New_York:20280919T190000
DTEND;TZID=America/New_York:20280919T210000
DTSTAMP:20260425T083355
CREATED:20250709T163120Z
LAST-MODIFIED:20251101T214306Z
UID:10015459-1853002800-1853010000@cedarlane.org
SUMMARY:Board Meeting
DESCRIPTION:
URL:https://cedarlane.org/calendar/bot/2028-09-19/
LOCATION:https://cedarlane.org/calendar/bot/2028-09-19/
CATEGORIES:Planning and Coordination
ATTACH;FMTTYPE=image/webp:https://cedarlane.org/wp-content/uploads/2025/10/Board-Meeting.webp
END:VEVENT
BEGIN:VEVENT
DTSTART;TZID=America/New_York:20281004T183000
DTEND;TZID=America/New_York:20281004T193000
DTSTAMP:20260425T083355
CREATED:20251029T173106Z
LAST-MODIFIED:20251101T214300Z
UID:10016230-1854297000-1854300600@cedarlane.org
SUMMARY:Executive Committee
DESCRIPTION:This meeting is closed to executive committee members.
URL:https://cedarlane.org/calendar/executive-committee-7/2028-10-04/
LOCATION:9601 Cedar Lane\, Bethesda\, MD\, 20814\, United States
CATEGORIES:Governance,Planning and Coordination
ATTACH;FMTTYPE=image/webp:https://cedarlane.org/wp-content/uploads/2025/10/ExComm.webp
END:VEVENT
BEGIN:VEVENT
DTSTART;TZID=America/New_York:20281017T190000
DTEND;TZID=America/New_York:20281017T210000
DTSTAMP:20260425T083355
CREATED:20250709T163120Z
LAST-MODIFIED:20251101T214306Z
UID:10015460-1855422000-1855429200@cedarlane.org
SUMMARY:Board Meeting
DESCRIPTION:
URL:https://cedarlane.org/calendar/bot/2028-10-17/
LOCATION:https://cedarlane.org/calendar/bot/2028-10-17/
CATEGORIES:Planning and Coordination
ATTACH;FMTTYPE=image/webp:https://cedarlane.org/wp-content/uploads/2025/10/Board-Meeting.webp
END:VEVENT
END:VCALENDAR