BEGIN:VCALENDAR
VERSION:2.0
PRODID:-//Cedar Lane Unitarian Universalist Congregation - ECPv6.15.20//NONSGML v1.0//EN
CALSCALE:GREGORIAN
METHOD:PUBLISH
X-ORIGINAL-URL:https://cedarlane.org
X-WR-CALDESC:Events for Cedar Lane Unitarian Universalist Congregation
REFRESH-INTERVAL;VALUE=DURATION:PT1H
X-Robots-Tag:noindex
X-PUBLISHED-TTL:PT1H
BEGIN:VTIMEZONE
TZID:America/New_York
BEGIN:DAYLIGHT
TZOFFSETFROM:-0500
TZOFFSETTO:-0400
TZNAME:EDT
DTSTART:20290311T070000
END:DAYLIGHT
BEGIN:STANDARD
TZOFFSETFROM:-0400
TZOFFSETTO:-0500
TZNAME:EST
DTSTART:20291104T060000
END:STANDARD
BEGIN:DAYLIGHT
TZOFFSETFROM:-0500
TZOFFSETTO:-0400
TZNAME:EDT
DTSTART:20300310T070000
END:DAYLIGHT
BEGIN:STANDARD
TZOFFSETFROM:-0400
TZOFFSETTO:-0500
TZNAME:EST
DTSTART:20301103T060000
END:STANDARD
BEGIN:DAYLIGHT
TZOFFSETFROM:-0500
TZOFFSETTO:-0400
TZNAME:EDT
DTSTART:20310309T070000
END:DAYLIGHT
BEGIN:STANDARD
TZOFFSETFROM:-0400
TZOFFSETTO:-0500
TZNAME:EST
DTSTART:20311102T060000
END:STANDARD
END:VTIMEZONE
BEGIN:VEVENT
DTSTART;TZID=America/New_York:20300221T184500
DTEND;TZID=America/New_York:20300221T201500
DTSTAMP:20260425T100349
CREATED:20250709T163135Z
LAST-MODIFIED:20251101T214306Z
UID:10015869-1897929900-1897935300@cedarlane.org
SUMMARY:Financial Policy Committee Meeting
DESCRIPTION:
URL:https://cedarlane.org/calendar/financial-policy/2030-02-21/
LOCATION:https://cedarlane.org/calendar/financial-policy/2030-02-21/
CATEGORIES:Planning and Coordination
ATTACH;FMTTYPE=image/webp:https://cedarlane.org/wp-content/uploads/2025/10/financial-policy.webp
END:VEVENT
BEGIN:VEVENT
DTSTART;TZID=America/New_York:20300321T184500
DTEND;TZID=America/New_York:20300321T201500
DTSTAMP:20260425T100349
CREATED:20250709T163135Z
LAST-MODIFIED:20251101T214306Z
UID:10015870-1900349100-1900354500@cedarlane.org
SUMMARY:Financial Policy Committee Meeting
DESCRIPTION:
URL:https://cedarlane.org/calendar/financial-policy/2030-03-21/
LOCATION:https://cedarlane.org/calendar/financial-policy/2030-03-21/
CATEGORIES:Planning and Coordination
ATTACH;FMTTYPE=image/webp:https://cedarlane.org/wp-content/uploads/2025/10/financial-policy.webp
END:VEVENT
BEGIN:VEVENT
DTSTART;TZID=America/New_York:20300418T184500
DTEND;TZID=America/New_York:20300418T201500
DTSTAMP:20260425T100349
CREATED:20250709T163135Z
LAST-MODIFIED:20251101T214306Z
UID:10015871-1902768300-1902773700@cedarlane.org
SUMMARY:Financial Policy Committee Meeting
DESCRIPTION:
URL:https://cedarlane.org/calendar/financial-policy/2030-04-18/
LOCATION:https://cedarlane.org/calendar/financial-policy/2030-04-18/
CATEGORIES:Planning and Coordination
ATTACH;FMTTYPE=image/webp:https://cedarlane.org/wp-content/uploads/2025/10/financial-policy.webp
END:VEVENT
BEGIN:VEVENT
DTSTART;TZID=America/New_York:20300516T184500
DTEND;TZID=America/New_York:20300516T201500
DTSTAMP:20260425T100349
CREATED:20250709T163135Z
LAST-MODIFIED:20251101T214306Z
UID:10015872-1905187500-1905192900@cedarlane.org
SUMMARY:Financial Policy Committee Meeting
DESCRIPTION:
URL:https://cedarlane.org/calendar/financial-policy/2030-05-16/
LOCATION:https://cedarlane.org/calendar/financial-policy/2030-05-16/
CATEGORIES:Planning and Coordination
ATTACH;FMTTYPE=image/webp:https://cedarlane.org/wp-content/uploads/2025/10/financial-policy.webp
END:VEVENT
BEGIN:VEVENT
DTSTART;TZID=America/New_York:20300620T184500
DTEND;TZID=America/New_York:20300620T201500
DTSTAMP:20260425T100349
CREATED:20250709T163135Z
LAST-MODIFIED:20251101T214306Z
UID:10015873-1908211500-1908216900@cedarlane.org
SUMMARY:Financial Policy Committee Meeting
DESCRIPTION:
URL:https://cedarlane.org/calendar/financial-policy/2030-06-20/
LOCATION:https://cedarlane.org/calendar/financial-policy/2030-06-20/
CATEGORIES:Planning and Coordination
ATTACH;FMTTYPE=image/webp:https://cedarlane.org/wp-content/uploads/2025/10/financial-policy.webp
END:VEVENT
BEGIN:VEVENT
DTSTART;TZID=America/New_York:20300718T184500
DTEND;TZID=America/New_York:20300718T201500
DTSTAMP:20260425T100349
CREATED:20250709T163135Z
LAST-MODIFIED:20251101T214306Z
UID:10015874-1910630700-1910636100@cedarlane.org
SUMMARY:Financial Policy Committee Meeting
DESCRIPTION:
URL:https://cedarlane.org/calendar/financial-policy/2030-07-18/
LOCATION:https://cedarlane.org/calendar/financial-policy/2030-07-18/
CATEGORIES:Planning and Coordination
ATTACH;FMTTYPE=image/webp:https://cedarlane.org/wp-content/uploads/2025/10/financial-policy.webp
END:VEVENT
BEGIN:VEVENT
DTSTART;TZID=America/New_York:20300815T184500
DTEND;TZID=America/New_York:20300815T201500
DTSTAMP:20260425T100349
CREATED:20250709T163135Z
LAST-MODIFIED:20251101T214306Z
UID:10015875-1913049900-1913055300@cedarlane.org
SUMMARY:Financial Policy Committee Meeting
DESCRIPTION:
URL:https://cedarlane.org/calendar/financial-policy/2030-08-15/
LOCATION:https://cedarlane.org/calendar/financial-policy/2030-08-15/
CATEGORIES:Planning and Coordination
ATTACH;FMTTYPE=image/webp:https://cedarlane.org/wp-content/uploads/2025/10/financial-policy.webp
END:VEVENT
BEGIN:VEVENT
DTSTART;TZID=America/New_York:20300919T184500
DTEND;TZID=America/New_York:20300919T201500
DTSTAMP:20260425T100349
CREATED:20250709T163135Z
LAST-MODIFIED:20251101T214306Z
UID:10015876-1916073900-1916079300@cedarlane.org
SUMMARY:Financial Policy Committee Meeting
DESCRIPTION:
URL:https://cedarlane.org/calendar/financial-policy/2030-09-19/
LOCATION:https://cedarlane.org/calendar/financial-policy/2030-09-19/
CATEGORIES:Planning and Coordination
ATTACH;FMTTYPE=image/webp:https://cedarlane.org/wp-content/uploads/2025/10/financial-policy.webp
END:VEVENT
END:VCALENDAR