BEGIN:VCALENDAR
VERSION:2.0
PRODID:-//Cedar Lane Unitarian Universalist Congregation - ECPv6.15.20//NONSGML v1.0//EN
CALSCALE:GREGORIAN
METHOD:PUBLISH
X-ORIGINAL-URL:https://cedarlane.org
X-WR-CALDESC:Events for Cedar Lane Unitarian Universalist Congregation
REFRESH-INTERVAL;VALUE=DURATION:PT1H
X-Robots-Tag:noindex
X-PUBLISHED-TTL:PT1H
BEGIN:VTIMEZONE
TZID:America/New_York
BEGIN:DAYLIGHT
TZOFFSETFROM:-0500
TZOFFSETTO:-0400
TZNAME:EDT
DTSTART:20240310T070000
END:DAYLIGHT
BEGIN:STANDARD
TZOFFSETFROM:-0400
TZOFFSETTO:-0500
TZNAME:EST
DTSTART:20241103T060000
END:STANDARD
BEGIN:DAYLIGHT
TZOFFSETFROM:-0500
TZOFFSETTO:-0400
TZNAME:EDT
DTSTART:20250309T070000
END:DAYLIGHT
BEGIN:STANDARD
TZOFFSETFROM:-0400
TZOFFSETTO:-0500
TZNAME:EST
DTSTART:20251102T060000
END:STANDARD
BEGIN:DAYLIGHT
TZOFFSETFROM:-0500
TZOFFSETTO:-0400
TZNAME:EDT
DTSTART:20260308T070000
END:DAYLIGHT
BEGIN:STANDARD
TZOFFSETFROM:-0400
TZOFFSETTO:-0500
TZNAME:EST
DTSTART:20261101T060000
END:STANDARD
BEGIN:DAYLIGHT
TZOFFSETFROM:-0500
TZOFFSETTO:-0400
TZNAME:EDT
DTSTART:20270314T070000
END:DAYLIGHT
BEGIN:STANDARD
TZOFFSETFROM:-0400
TZOFFSETTO:-0500
TZNAME:EST
DTSTART:20271107T060000
END:STANDARD
END:VTIMEZONE
BEGIN:VEVENT
DTSTART;TZID=America/New_York:20260419T120000
DTEND;TZID=America/New_York:20260419T130000
DTSTAMP:20260423T220613
CREATED:20250709T163151Z
LAST-MODIFIED:20251116T145317Z
UID:10015885-1776600000-1776603600@cedarlane.org
SUMMARY:Member Engagement and Connection Conversations
DESCRIPTION:
URL:https://cedarlane.org/calendar/member-connection/2026-04-19/
LOCATION:9601 Cedar Lane\, Bethesda\, MD\, 20814\, United States
CATEGORIES:After the Service,Newcomers
ATTACH;FMTTYPE=image/webp:https://cedarlane.org/wp-content/uploads/2025/10/newcomers.webp
END:VEVENT
BEGIN:VEVENT
DTSTART;TZID=America/New_York:20260315T120000
DTEND;TZID=America/New_York:20260315T130000
DTSTAMP:20260423T220613
CREATED:20250709T163151Z
LAST-MODIFIED:20251116T145317Z
UID:10015884-1773576000-1773579600@cedarlane.org
SUMMARY:Member Engagement and Connection Conversations
DESCRIPTION:
URL:https://cedarlane.org/calendar/member-connection/2026-03-15/
LOCATION:9601 Cedar Lane\, Bethesda\, MD\, 20814\, United States
CATEGORIES:After the Service,Newcomers
ATTACH;FMTTYPE=image/webp:https://cedarlane.org/wp-content/uploads/2025/10/newcomers.webp
END:VEVENT
BEGIN:VEVENT
DTSTART;TZID=America/New_York:20260215T120000
DTEND;TZID=America/New_York:20260215T130000
DTSTAMP:20260423T220613
CREATED:20250709T163151Z
LAST-MODIFIED:20251116T145317Z
UID:10015883-1771156800-1771160400@cedarlane.org
SUMMARY:Member Engagement and Connection Conversations
DESCRIPTION:
URL:https://cedarlane.org/calendar/member-connection/2026-02-15/
LOCATION:9601 Cedar Lane\, Bethesda\, MD\, 20814\, United States
CATEGORIES:After the Service,Newcomers
ATTACH;FMTTYPE=image/webp:https://cedarlane.org/wp-content/uploads/2025/10/newcomers.webp
END:VEVENT
BEGIN:VEVENT
DTSTART;TZID=America/New_York:20260118T120000
DTEND;TZID=America/New_York:20260118T130000
DTSTAMP:20260423T220613
CREATED:20250709T163151Z
LAST-MODIFIED:20251116T145317Z
UID:10015882-1768737600-1768741200@cedarlane.org
SUMMARY:Member Engagement and Connection Conversations
DESCRIPTION:
URL:https://cedarlane.org/calendar/member-connection/2026-01-18/
LOCATION:9601 Cedar Lane\, Bethesda\, MD\, 20814\, United States
CATEGORIES:After the Service,Newcomers
ATTACH;FMTTYPE=image/webp:https://cedarlane.org/wp-content/uploads/2025/10/newcomers.webp
END:VEVENT
BEGIN:VEVENT
DTSTART;TZID=America/New_York:20251221T120000
DTEND;TZID=America/New_York:20251221T130000
DTSTAMP:20260423T220613
CREATED:20250709T163151Z
LAST-MODIFIED:20251116T145317Z
UID:10015881-1766318400-1766322000@cedarlane.org
SUMMARY:Member Engagement and Connection Conversations
DESCRIPTION:
URL:https://cedarlane.org/calendar/member-connection/2025-12-21/
LOCATION:9601 Cedar Lane\, Bethesda\, MD\, 20814\, United States
CATEGORIES:After the Service,Newcomers
ATTACH;FMTTYPE=image/webp:https://cedarlane.org/wp-content/uploads/2025/10/newcomers.webp
END:VEVENT
BEGIN:VEVENT
DTSTART;TZID=America/New_York:20251116T120000
DTEND;TZID=America/New_York:20251116T130000
DTSTAMP:20260423T220613
CREATED:20250709T163151Z
LAST-MODIFIED:20251116T145317Z
UID:10015880-1763294400-1763298000@cedarlane.org
SUMMARY:Member Engagement and Connection Conversations
DESCRIPTION:
URL:https://cedarlane.org/calendar/member-connection/2025-11-16/
LOCATION:9601 Cedar Lane\, Bethesda\, MD\, 20814\, United States
CATEGORIES:After the Service,Newcomers
ATTACH;FMTTYPE=image/webp:https://cedarlane.org/wp-content/uploads/2025/10/newcomers.webp
END:VEVENT
BEGIN:VEVENT
DTSTART;TZID=America/New_York:20251109T120000
DTEND;TZID=America/New_York:20251109T133000
DTSTAMP:20260423T220613
CREATED:20251017T170933Z
LAST-MODIFIED:20251110T140623Z
UID:10016368-1762689600-1762695000@cedarlane.org
SUMMARY:Explore Cedar Lane
DESCRIPTION:Are you interested in learning more about Cedar Lane\, what membership means here\, and how you can become part of this vibrant community? \nIn this session\, we’ll explore what it means to be a member of Cedar Lane – the commitments we make to one another\, and the ways our community supports and nourishes its members. You’ll meet lay leaders and our Executive Director\, hear about the many ministries and teams that shape our life together\, from social justice to worship to community care\, and discover practical ways to get connected and involved. \nWe’ll also spend time getting to know one another\, sharing our own paths that brought us here\, connecting in small groups\, and enjoying snacks together after the service. \nWhether you are brand new to Cedar Lane or a longtime UU exploring membership\, this class will help you understand what membership looks like here and what it can mean for your spiritual journey. \nIf childcare is needed during the in-person program\, please let us know at least one week in advance by emailing nsinger@cedarlane.org. \n\n	\n		\n			\n				\n					RSVP
URL:https://cedarlane.org/calendar/explore-cedar-lane/
LOCATION:Chalice House\, 9601 Cedar Ln\, Bethesda\, MD\, 20814\, United States
CATEGORIES:After the Service,Connect & Engage,In the Spotlight,Learn and Grow,Newcomers,Path to Membership
ATTACH;FMTTYPE=image/jpeg:https://cedarlane.org/wp-content/uploads/2025/06/2017cedarlane-4619_0.jpg
ORGANIZER;CN="Nicolle Singer":MAILTO:nsinger@cedarlane.org
GEO:39.013542080457;-77.088487850511
X-APPLE-STRUCTURED-LOCATION;VALUE=URI;X-ADDRESS=Chalice House 9601 Cedar Ln Bethesda MD 20814 United States;X-APPLE-RADIUS=500;X-TITLE=9601 Cedar Ln:geo:-77.088487850511,39.013542080457
END:VEVENT
BEGIN:VEVENT
DTSTART;TZID=America/New_York:20251019T120000
DTEND;TZID=America/New_York:20251019T130000
DTSTAMP:20260423T220613
CREATED:20250709T163151Z
LAST-MODIFIED:20251116T145317Z
UID:10015879-1760875200-1760878800@cedarlane.org
SUMMARY:Member Engagement and Connection Conversations
DESCRIPTION:
URL:https://cedarlane.org/calendar/member-connection/2025-10-19/
LOCATION:9601 Cedar Lane\, Bethesda\, MD\, 20814\, United States
CATEGORIES:After the Service,Newcomers
ATTACH;FMTTYPE=image/webp:https://cedarlane.org/wp-content/uploads/2025/10/newcomers.webp
END:VEVENT
BEGIN:VEVENT
DTSTART;TZID=America/New_York:20251009T190000
DTEND;TZID=America/New_York:20251009T203000
DTSTAMP:20260423T220613
CREATED:20250822T182228Z
LAST-MODIFIED:20251104T161000Z
UID:10001496-1760036400-1760041800@cedarlane.org
SUMMARY:UU 101: Exploring Unitarian Universalism
DESCRIPTION:Join us for an engaging introduction to Unitarian Universalism. Led by Rev. Abhi Janamanchi\, this series is great for newcomers interested in learning more about our faith\, values\, and community. Drop-ins are welcome! \n  \nFor more information\, contact Nicolle Singer at nsinger@cedarlane.org or visit https://tinyurl.com/UU101Oct
URL:https://cedarlane.org/calendar/uu-101-exploring-unitarian-universalism/
LOCATION:9601 Cedar Lane\, Bethesda\, MD\, 20814\, United States
CATEGORIES:Learn and Grow,Newcomers,Path to Membership
ORGANIZER;CN="Nicolle Singer":MAILTO:nsinger@cedarlane.org
END:VEVENT
BEGIN:VEVENT
DTSTART;TZID=America/New_York:20250921T120000
DTEND;TZID=America/New_York:20250921T130000
DTSTAMP:20260423T220613
CREATED:20250709T163151Z
LAST-MODIFIED:20251116T145317Z
UID:10015878-1758456000-1758459600@cedarlane.org
SUMMARY:Member Engagement and Connection Conversations
DESCRIPTION:
URL:https://cedarlane.org/calendar/member-connection/2025-09-21/
LOCATION:9601 Cedar Lane\, Bethesda\, MD\, 20814\, United States
CATEGORIES:After the Service,Newcomers
ATTACH;FMTTYPE=image/webp:https://cedarlane.org/wp-content/uploads/2025/10/newcomers.webp
END:VEVENT
BEGIN:VEVENT
DTSTART;TZID=America/New_York:20250817T120000
DTEND;TZID=America/New_York:20250817T130000
DTSTAMP:20260423T220613
CREATED:20250709T163151Z
LAST-MODIFIED:20251116T145317Z
UID:10015877-1755432000-1755435600@cedarlane.org
SUMMARY:Member Engagement and Connection Conversations
DESCRIPTION:
URL:https://cedarlane.org/calendar/member-connection/2025-08-17/
LOCATION:9601 Cedar Lane\, Bethesda\, MD\, 20814\, United States
CATEGORIES:After the Service,Newcomers
ATTACH;FMTTYPE=image/webp:https://cedarlane.org/wp-content/uploads/2025/10/newcomers.webp
END:VEVENT
BEGIN:VEVENT
DTSTART;TZID=America/New_York:20250720T120000
DTEND;TZID=America/New_York:20250720T130000
DTSTAMP:20260423T220613
CREATED:20250709T163151Z
LAST-MODIFIED:20251116T145317Z
UID:10000304-1753012800-1753016400@cedarlane.org
SUMMARY:Member Engagement and Connection Conversations
DESCRIPTION:
URL:https://cedarlane.org/calendar/member-connection/2025-07-20/
LOCATION:9601 Cedar Lane\, Bethesda\, MD\, 20814\, United States
CATEGORIES:After the Service,Newcomers
ATTACH;FMTTYPE=image/webp:https://cedarlane.org/wp-content/uploads/2025/10/newcomers.webp
END:VEVENT
END:VCALENDAR