BEGIN:VCALENDAR
VERSION:2.0
PRODID:-//Cedar Lane Unitarian Universalist Congregation - ECPv6.15.20//NONSGML v1.0//EN
CALSCALE:GREGORIAN
METHOD:PUBLISH
X-WR-CALNAME:Cedar Lane Unitarian Universalist Congregation
X-ORIGINAL-URL:https://cedarlane.org
X-WR-CALDESC:Events for Cedar Lane Unitarian Universalist Congregation
REFRESH-INTERVAL;VALUE=DURATION:PT1H
X-Robots-Tag:noindex
X-PUBLISHED-TTL:PT1H
BEGIN:VTIMEZONE
TZID:America/New_York
BEGIN:DAYLIGHT
TZOFFSETFROM:-0500
TZOFFSETTO:-0400
TZNAME:EDT
DTSTART:20250309T070000
END:DAYLIGHT
BEGIN:STANDARD
TZOFFSETFROM:-0400
TZOFFSETTO:-0500
TZNAME:EST
DTSTART:20251102T060000
END:STANDARD
BEGIN:DAYLIGHT
TZOFFSETFROM:-0500
TZOFFSETTO:-0400
TZNAME:EDT
DTSTART:20260308T070000
END:DAYLIGHT
BEGIN:STANDARD
TZOFFSETFROM:-0400
TZOFFSETTO:-0500
TZNAME:EST
DTSTART:20261101T060000
END:STANDARD
BEGIN:DAYLIGHT
TZOFFSETFROM:-0500
TZOFFSETTO:-0400
TZNAME:EDT
DTSTART:20270314T070000
END:DAYLIGHT
BEGIN:STANDARD
TZOFFSETFROM:-0400
TZOFFSETTO:-0500
TZNAME:EST
DTSTART:20271107T060000
END:STANDARD
BEGIN:DAYLIGHT
TZOFFSETFROM:-0500
TZOFFSETTO:-0400
TZNAME:EDT
DTSTART:20280312T070000
END:DAYLIGHT
BEGIN:STANDARD
TZOFFSETFROM:-0400
TZOFFSETTO:-0500
TZNAME:EST
DTSTART:20281105T060000
END:STANDARD
END:VTIMEZONE
BEGIN:VEVENT
DTSTART;TZID=America/New_York:20260814T140000
DTEND;TZID=America/New_York:20260814T160000
DTSTAMP:20260424T195906
CREATED:20260406T203659Z
LAST-MODIFIED:20260406T203701Z
UID:10000791-1786716000-1786723200@cedarlane.org
SUMMARY:Fiber Arts Club
DESCRIPTION:Each Friday Cedar Lane fiber artists gather on zoom for 2 hours of creativity and connection. All are welcome! \n\n	\n		\n			\n				\n					Join via Zoom
URL:https://cedarlane.org/calendar/fiber-arts-club-6-2/2026-08-14/
CATEGORIES:Fun
ATTACH;FMTTYPE=image/webp:https://cedarlane.org/wp-content/uploads/2025/10/fiber-arts.webp
ORGANIZER;CN="Fiber Arts Coordinator":MAILTO:fiberarts@cedarlane.org
LOCATION:https://cedarlane.org/calendar/fiber-arts-club-6-2/2026-08-14/
END:VEVENT
BEGIN:VEVENT
DTSTART;TZID=America/New_York:20260821T140000
DTEND;TZID=America/New_York:20260821T160000
DTSTAMP:20260424T195906
CREATED:20260406T203659Z
LAST-MODIFIED:20260406T203701Z
UID:10000792-1787320800-1787328000@cedarlane.org
SUMMARY:Fiber Arts Club
DESCRIPTION:Each Friday Cedar Lane fiber artists gather on zoom for 2 hours of creativity and connection. All are welcome! \n\n	\n		\n			\n				\n					Join via Zoom
URL:https://cedarlane.org/calendar/fiber-arts-club-6-2/2026-08-21/
CATEGORIES:Fun
ATTACH;FMTTYPE=image/webp:https://cedarlane.org/wp-content/uploads/2025/10/fiber-arts.webp
ORGANIZER;CN="Fiber Arts Coordinator":MAILTO:fiberarts@cedarlane.org
LOCATION:https://cedarlane.org/calendar/fiber-arts-club-6-2/2026-08-21/
END:VEVENT
BEGIN:VEVENT
DTSTART;TZID=America/New_York:20260828T140000
DTEND;TZID=America/New_York:20260828T160000
DTSTAMP:20260424T195906
CREATED:20260406T203659Z
LAST-MODIFIED:20260406T203701Z
UID:10000793-1787925600-1787932800@cedarlane.org
SUMMARY:Fiber Arts Club
DESCRIPTION:Each Friday Cedar Lane fiber artists gather on zoom for 2 hours of creativity and connection. All are welcome! \n\n	\n		\n			\n				\n					Join via Zoom
URL:https://cedarlane.org/calendar/fiber-arts-club-6-2/2026-08-28/
CATEGORIES:Fun
ATTACH;FMTTYPE=image/webp:https://cedarlane.org/wp-content/uploads/2025/10/fiber-arts.webp
ORGANIZER;CN="Fiber Arts Coordinator":MAILTO:fiberarts@cedarlane.org
LOCATION:https://cedarlane.org/calendar/fiber-arts-club-6-2/2026-08-28/
END:VEVENT
BEGIN:VEVENT
DTSTART;TZID=America/New_York:20260904T140000
DTEND;TZID=America/New_York:20260904T160000
DTSTAMP:20260424T195906
CREATED:20260406T203659Z
LAST-MODIFIED:20260406T203701Z
UID:10000794-1788530400-1788537600@cedarlane.org
SUMMARY:Fiber Arts Club
DESCRIPTION:Each Friday Cedar Lane fiber artists gather on zoom for 2 hours of creativity and connection. All are welcome! \n\n	\n		\n			\n				\n					Join via Zoom
URL:https://cedarlane.org/calendar/fiber-arts-club-6-2/2026-09-04/
CATEGORIES:Fun
ATTACH;FMTTYPE=image/webp:https://cedarlane.org/wp-content/uploads/2025/10/fiber-arts.webp
ORGANIZER;CN="Fiber Arts Coordinator":MAILTO:fiberarts@cedarlane.org
LOCATION:https://cedarlane.org/calendar/fiber-arts-club-6-2/2026-09-04/
END:VEVENT
BEGIN:VEVENT
DTSTART;TZID=America/New_York:20260911T140000
DTEND;TZID=America/New_York:20260911T160000
DTSTAMP:20260424T195906
CREATED:20260406T203659Z
LAST-MODIFIED:20260406T203701Z
UID:10000795-1789135200-1789142400@cedarlane.org
SUMMARY:Fiber Arts Club
DESCRIPTION:Each Friday Cedar Lane fiber artists gather on zoom for 2 hours of creativity and connection. All are welcome! \n\n	\n		\n			\n				\n					Join via Zoom
URL:https://cedarlane.org/calendar/fiber-arts-club-6-2/2026-09-11/
CATEGORIES:Fun
ATTACH;FMTTYPE=image/webp:https://cedarlane.org/wp-content/uploads/2025/10/fiber-arts.webp
ORGANIZER;CN="Fiber Arts Coordinator":MAILTO:fiberarts@cedarlane.org
LOCATION:https://cedarlane.org/calendar/fiber-arts-club-6-2/2026-09-11/
END:VEVENT
BEGIN:VEVENT
DTSTART;TZID=America/New_York:20260918T140000
DTEND;TZID=America/New_York:20260918T160000
DTSTAMP:20260424T195906
CREATED:20260406T203659Z
LAST-MODIFIED:20260406T203701Z
UID:10000796-1789740000-1789747200@cedarlane.org
SUMMARY:Fiber Arts Club
DESCRIPTION:Each Friday Cedar Lane fiber artists gather on zoom for 2 hours of creativity and connection. All are welcome! \n\n	\n		\n			\n				\n					Join via Zoom
URL:https://cedarlane.org/calendar/fiber-arts-club-6-2/2026-09-18/
CATEGORIES:Fun
ATTACH;FMTTYPE=image/webp:https://cedarlane.org/wp-content/uploads/2025/10/fiber-arts.webp
ORGANIZER;CN="Fiber Arts Coordinator":MAILTO:fiberarts@cedarlane.org
LOCATION:https://cedarlane.org/calendar/fiber-arts-club-6-2/2026-09-18/
END:VEVENT
BEGIN:VEVENT
DTSTART;TZID=America/New_York:20260925T140000
DTEND;TZID=America/New_York:20260925T160000
DTSTAMP:20260424T195906
CREATED:20260406T203659Z
LAST-MODIFIED:20260406T203701Z
UID:10000797-1790344800-1790352000@cedarlane.org
SUMMARY:Fiber Arts Club
DESCRIPTION:Each Friday Cedar Lane fiber artists gather on zoom for 2 hours of creativity and connection. All are welcome! \n\n	\n		\n			\n				\n					Join via Zoom
URL:https://cedarlane.org/calendar/fiber-arts-club-6-2/2026-09-25/
CATEGORIES:Fun
ATTACH;FMTTYPE=image/webp:https://cedarlane.org/wp-content/uploads/2025/10/fiber-arts.webp
ORGANIZER;CN="Fiber Arts Coordinator":MAILTO:fiberarts@cedarlane.org
LOCATION:https://cedarlane.org/calendar/fiber-arts-club-6-2/2026-09-25/
END:VEVENT
BEGIN:VEVENT
DTSTART;TZID=America/New_York:20261002T140000
DTEND;TZID=America/New_York:20261002T160000
DTSTAMP:20260424T195906
CREATED:20260406T203659Z
LAST-MODIFIED:20260406T203701Z
UID:10000798-1790949600-1790956800@cedarlane.org
SUMMARY:Fiber Arts Club
DESCRIPTION:Each Friday Cedar Lane fiber artists gather on zoom for 2 hours of creativity and connection. All are welcome! \n\n	\n		\n			\n				\n					Join via Zoom
URL:https://cedarlane.org/calendar/fiber-arts-club-6-2/2026-10-02/
CATEGORIES:Fun
ATTACH;FMTTYPE=image/webp:https://cedarlane.org/wp-content/uploads/2025/10/fiber-arts.webp
ORGANIZER;CN="Fiber Arts Coordinator":MAILTO:fiberarts@cedarlane.org
LOCATION:https://cedarlane.org/calendar/fiber-arts-club-6-2/2026-10-02/
END:VEVENT
BEGIN:VEVENT
DTSTART;TZID=America/New_York:20261009T140000
DTEND;TZID=America/New_York:20261009T160000
DTSTAMP:20260424T195906
CREATED:20260406T203659Z
LAST-MODIFIED:20260406T203701Z
UID:10000799-1791554400-1791561600@cedarlane.org
SUMMARY:Fiber Arts Club
DESCRIPTION:Each Friday Cedar Lane fiber artists gather on zoom for 2 hours of creativity and connection. All are welcome! \n\n	\n		\n			\n				\n					Join via Zoom
URL:https://cedarlane.org/calendar/fiber-arts-club-6-2/2026-10-09/
CATEGORIES:Fun
ATTACH;FMTTYPE=image/webp:https://cedarlane.org/wp-content/uploads/2025/10/fiber-arts.webp
ORGANIZER;CN="Fiber Arts Coordinator":MAILTO:fiberarts@cedarlane.org
LOCATION:https://cedarlane.org/calendar/fiber-arts-club-6-2/2026-10-09/
END:VEVENT
BEGIN:VEVENT
DTSTART;TZID=America/New_York:20261016T140000
DTEND;TZID=America/New_York:20261016T160000
DTSTAMP:20260424T195906
CREATED:20260406T203659Z
LAST-MODIFIED:20260406T203701Z
UID:10000800-1792159200-1792166400@cedarlane.org
SUMMARY:Fiber Arts Club
DESCRIPTION:Each Friday Cedar Lane fiber artists gather on zoom for 2 hours of creativity and connection. All are welcome! \n\n	\n		\n			\n				\n					Join via Zoom
URL:https://cedarlane.org/calendar/fiber-arts-club-6-2/2026-10-16/
CATEGORIES:Fun
ATTACH;FMTTYPE=image/webp:https://cedarlane.org/wp-content/uploads/2025/10/fiber-arts.webp
ORGANIZER;CN="Fiber Arts Coordinator":MAILTO:fiberarts@cedarlane.org
LOCATION:https://cedarlane.org/calendar/fiber-arts-club-6-2/2026-10-16/
END:VEVENT
BEGIN:VEVENT
DTSTART;TZID=America/New_York:20261023T140000
DTEND;TZID=America/New_York:20261023T160000
DTSTAMP:20260424T195906
CREATED:20260406T203659Z
LAST-MODIFIED:20260406T203701Z
UID:10000801-1792764000-1792771200@cedarlane.org
SUMMARY:Fiber Arts Club
DESCRIPTION:Each Friday Cedar Lane fiber artists gather on zoom for 2 hours of creativity and connection. All are welcome! \n\n	\n		\n			\n				\n					Join via Zoom
URL:https://cedarlane.org/calendar/fiber-arts-club-6-2/2026-10-23/
CATEGORIES:Fun
ATTACH;FMTTYPE=image/webp:https://cedarlane.org/wp-content/uploads/2025/10/fiber-arts.webp
ORGANIZER;CN="Fiber Arts Coordinator":MAILTO:fiberarts@cedarlane.org
LOCATION:https://cedarlane.org/calendar/fiber-arts-club-6-2/2026-10-23/
END:VEVENT
BEGIN:VEVENT
DTSTART;TZID=America/New_York:20261030T140000
DTEND;TZID=America/New_York:20261030T160000
DTSTAMP:20260424T195906
CREATED:20260406T203659Z
LAST-MODIFIED:20260406T203701Z
UID:10000802-1793368800-1793376000@cedarlane.org
SUMMARY:Fiber Arts Club
DESCRIPTION:Each Friday Cedar Lane fiber artists gather on zoom for 2 hours of creativity and connection. All are welcome! \n\n	\n		\n			\n				\n					Join via Zoom
URL:https://cedarlane.org/calendar/fiber-arts-club-6-2/2026-10-30/
CATEGORIES:Fun
ATTACH;FMTTYPE=image/webp:https://cedarlane.org/wp-content/uploads/2025/10/fiber-arts.webp
ORGANIZER;CN="Fiber Arts Coordinator":MAILTO:fiberarts@cedarlane.org
LOCATION:https://cedarlane.org/calendar/fiber-arts-club-6-2/2026-10-30/
END:VEVENT
BEGIN:VEVENT
DTSTART;TZID=America/New_York:20261106T140000
DTEND;TZID=America/New_York:20261106T160000
DTSTAMP:20260424T195906
CREATED:20260406T203659Z
LAST-MODIFIED:20260406T203701Z
UID:10000803-1793973600-1793980800@cedarlane.org
SUMMARY:Fiber Arts Club
DESCRIPTION:Each Friday Cedar Lane fiber artists gather on zoom for 2 hours of creativity and connection. All are welcome! \n\n	\n		\n			\n				\n					Join via Zoom
URL:https://cedarlane.org/calendar/fiber-arts-club-6-2/2026-11-06/
CATEGORIES:Fun
ATTACH;FMTTYPE=image/webp:https://cedarlane.org/wp-content/uploads/2025/10/fiber-arts.webp
ORGANIZER;CN="Fiber Arts Coordinator":MAILTO:fiberarts@cedarlane.org
LOCATION:https://cedarlane.org/calendar/fiber-arts-club-6-2/2026-11-06/
END:VEVENT
BEGIN:VEVENT
DTSTART;TZID=America/New_York:20261113T140000
DTEND;TZID=America/New_York:20261113T160000
DTSTAMP:20260424T195906
CREATED:20260406T203659Z
LAST-MODIFIED:20260406T203701Z
UID:10000804-1794578400-1794585600@cedarlane.org
SUMMARY:Fiber Arts Club
DESCRIPTION:Each Friday Cedar Lane fiber artists gather on zoom for 2 hours of creativity and connection. All are welcome! \n\n	\n		\n			\n				\n					Join via Zoom
URL:https://cedarlane.org/calendar/fiber-arts-club-6-2/2026-11-13/
CATEGORIES:Fun
ATTACH;FMTTYPE=image/webp:https://cedarlane.org/wp-content/uploads/2025/10/fiber-arts.webp
ORGANIZER;CN="Fiber Arts Coordinator":MAILTO:fiberarts@cedarlane.org
LOCATION:https://cedarlane.org/calendar/fiber-arts-club-6-2/2026-11-13/
END:VEVENT
BEGIN:VEVENT
DTSTART;TZID=America/New_York:20261120T140000
DTEND;TZID=America/New_York:20261120T160000
DTSTAMP:20260424T195906
CREATED:20260406T203659Z
LAST-MODIFIED:20260406T203701Z
UID:10000805-1795183200-1795190400@cedarlane.org
SUMMARY:Fiber Arts Club
DESCRIPTION:Each Friday Cedar Lane fiber artists gather on zoom for 2 hours of creativity and connection. All are welcome! \n\n	\n		\n			\n				\n					Join via Zoom
URL:https://cedarlane.org/calendar/fiber-arts-club-6-2/2026-11-20/
CATEGORIES:Fun
ATTACH;FMTTYPE=image/webp:https://cedarlane.org/wp-content/uploads/2025/10/fiber-arts.webp
ORGANIZER;CN="Fiber Arts Coordinator":MAILTO:fiberarts@cedarlane.org
LOCATION:https://cedarlane.org/calendar/fiber-arts-club-6-2/2026-11-20/
END:VEVENT
BEGIN:VEVENT
DTSTART;TZID=America/New_York:20261127T140000
DTEND;TZID=America/New_York:20261127T160000
DTSTAMP:20260424T195906
CREATED:20260406T203659Z
LAST-MODIFIED:20260406T203701Z
UID:10000806-1795788000-1795795200@cedarlane.org
SUMMARY:Fiber Arts Club
DESCRIPTION:Each Friday Cedar Lane fiber artists gather on zoom for 2 hours of creativity and connection. All are welcome! \n\n	\n		\n			\n				\n					Join via Zoom
URL:https://cedarlane.org/calendar/fiber-arts-club-6-2/2026-11-27/
CATEGORIES:Fun
ATTACH;FMTTYPE=image/webp:https://cedarlane.org/wp-content/uploads/2025/10/fiber-arts.webp
ORGANIZER;CN="Fiber Arts Coordinator":MAILTO:fiberarts@cedarlane.org
LOCATION:https://cedarlane.org/calendar/fiber-arts-club-6-2/2026-11-27/
END:VEVENT
BEGIN:VEVENT
DTSTART;TZID=America/New_York:20261204T140000
DTEND;TZID=America/New_York:20261204T160000
DTSTAMP:20260424T195906
CREATED:20260406T203659Z
LAST-MODIFIED:20260406T203701Z
UID:10000807-1796392800-1796400000@cedarlane.org
SUMMARY:Fiber Arts Club
DESCRIPTION:Each Friday Cedar Lane fiber artists gather on zoom for 2 hours of creativity and connection. All are welcome! \n\n	\n		\n			\n				\n					Join via Zoom
URL:https://cedarlane.org/calendar/fiber-arts-club-6-2/2026-12-04/
CATEGORIES:Fun
ATTACH;FMTTYPE=image/webp:https://cedarlane.org/wp-content/uploads/2025/10/fiber-arts.webp
ORGANIZER;CN="Fiber Arts Coordinator":MAILTO:fiberarts@cedarlane.org
LOCATION:https://cedarlane.org/calendar/fiber-arts-club-6-2/2026-12-04/
END:VEVENT
BEGIN:VEVENT
DTSTART;TZID=America/New_York:20261211T140000
DTEND;TZID=America/New_York:20261211T160000
DTSTAMP:20260424T195906
CREATED:20260406T203659Z
LAST-MODIFIED:20260406T203701Z
UID:10000808-1796997600-1797004800@cedarlane.org
SUMMARY:Fiber Arts Club
DESCRIPTION:Each Friday Cedar Lane fiber artists gather on zoom for 2 hours of creativity and connection. All are welcome! \n\n	\n		\n			\n				\n					Join via Zoom
URL:https://cedarlane.org/calendar/fiber-arts-club-6-2/2026-12-11/
CATEGORIES:Fun
ATTACH;FMTTYPE=image/webp:https://cedarlane.org/wp-content/uploads/2025/10/fiber-arts.webp
ORGANIZER;CN="Fiber Arts Coordinator":MAILTO:fiberarts@cedarlane.org
LOCATION:https://cedarlane.org/calendar/fiber-arts-club-6-2/2026-12-11/
END:VEVENT
BEGIN:VEVENT
DTSTART;TZID=America/New_York:20261218T140000
DTEND;TZID=America/New_York:20261218T160000
DTSTAMP:20260424T195906
CREATED:20260406T203659Z
LAST-MODIFIED:20260406T203701Z
UID:10000809-1797602400-1797609600@cedarlane.org
SUMMARY:Fiber Arts Club
DESCRIPTION:Each Friday Cedar Lane fiber artists gather on zoom for 2 hours of creativity and connection. All are welcome! \n\n	\n		\n			\n				\n					Join via Zoom
URL:https://cedarlane.org/calendar/fiber-arts-club-6-2/2026-12-18/
CATEGORIES:Fun
ATTACH;FMTTYPE=image/webp:https://cedarlane.org/wp-content/uploads/2025/10/fiber-arts.webp
ORGANIZER;CN="Fiber Arts Coordinator":MAILTO:fiberarts@cedarlane.org
LOCATION:https://cedarlane.org/calendar/fiber-arts-club-6-2/2026-12-18/
END:VEVENT
BEGIN:VEVENT
DTSTART;TZID=America/New_York:20261225T140000
DTEND;TZID=America/New_York:20261225T160000
DTSTAMP:20260424T195906
CREATED:20260406T203659Z
LAST-MODIFIED:20260406T203701Z
UID:10000810-1798207200-1798214400@cedarlane.org
SUMMARY:Fiber Arts Club
DESCRIPTION:Each Friday Cedar Lane fiber artists gather on zoom for 2 hours of creativity and connection. All are welcome! \n\n	\n		\n			\n				\n					Join via Zoom
URL:https://cedarlane.org/calendar/fiber-arts-club-6-2/2026-12-25/
CATEGORIES:Fun
ATTACH;FMTTYPE=image/webp:https://cedarlane.org/wp-content/uploads/2025/10/fiber-arts.webp
ORGANIZER;CN="Fiber Arts Coordinator":MAILTO:fiberarts@cedarlane.org
LOCATION:https://cedarlane.org/calendar/fiber-arts-club-6-2/2026-12-25/
END:VEVENT
BEGIN:VEVENT
DTSTART;TZID=America/New_York:20270101T140000
DTEND;TZID=America/New_York:20270101T160000
DTSTAMP:20260424T195906
CREATED:20260406T203659Z
LAST-MODIFIED:20260406T203701Z
UID:10000811-1798812000-1798819200@cedarlane.org
SUMMARY:Fiber Arts Club
DESCRIPTION:Each Friday Cedar Lane fiber artists gather on zoom for 2 hours of creativity and connection. All are welcome! \n\n	\n		\n			\n				\n					Join via Zoom
URL:https://cedarlane.org/calendar/fiber-arts-club-6-2/2027-01-01/
CATEGORIES:Fun
ATTACH;FMTTYPE=image/webp:https://cedarlane.org/wp-content/uploads/2025/10/fiber-arts.webp
ORGANIZER;CN="Fiber Arts Coordinator":MAILTO:fiberarts@cedarlane.org
LOCATION:https://cedarlane.org/calendar/fiber-arts-club-6-2/2027-01-01/
END:VEVENT
BEGIN:VEVENT
DTSTART;TZID=America/New_York:20270108T140000
DTEND;TZID=America/New_York:20270108T160000
DTSTAMP:20260424T195906
CREATED:20260406T203659Z
LAST-MODIFIED:20260406T203701Z
UID:10000812-1799416800-1799424000@cedarlane.org
SUMMARY:Fiber Arts Club
DESCRIPTION:Each Friday Cedar Lane fiber artists gather on zoom for 2 hours of creativity and connection. All are welcome! \n\n	\n		\n			\n				\n					Join via Zoom
URL:https://cedarlane.org/calendar/fiber-arts-club-6-2/2027-01-08/
CATEGORIES:Fun
ATTACH;FMTTYPE=image/webp:https://cedarlane.org/wp-content/uploads/2025/10/fiber-arts.webp
ORGANIZER;CN="Fiber Arts Coordinator":MAILTO:fiberarts@cedarlane.org
LOCATION:https://cedarlane.org/calendar/fiber-arts-club-6-2/2027-01-08/
END:VEVENT
BEGIN:VEVENT
DTSTART;TZID=America/New_York:20270115T140000
DTEND;TZID=America/New_York:20270115T160000
DTSTAMP:20260424T195906
CREATED:20260406T203659Z
LAST-MODIFIED:20260406T203701Z
UID:10000813-1800021600-1800028800@cedarlane.org
SUMMARY:Fiber Arts Club
DESCRIPTION:Each Friday Cedar Lane fiber artists gather on zoom for 2 hours of creativity and connection. All are welcome! \n\n	\n		\n			\n				\n					Join via Zoom
URL:https://cedarlane.org/calendar/fiber-arts-club-6-2/2027-01-15/
CATEGORIES:Fun
ATTACH;FMTTYPE=image/webp:https://cedarlane.org/wp-content/uploads/2025/10/fiber-arts.webp
ORGANIZER;CN="Fiber Arts Coordinator":MAILTO:fiberarts@cedarlane.org
LOCATION:https://cedarlane.org/calendar/fiber-arts-club-6-2/2027-01-15/
END:VEVENT
BEGIN:VEVENT
DTSTART;TZID=America/New_York:20270122T140000
DTEND;TZID=America/New_York:20270122T160000
DTSTAMP:20260424T195906
CREATED:20260406T203659Z
LAST-MODIFIED:20260406T203701Z
UID:10000814-1800626400-1800633600@cedarlane.org
SUMMARY:Fiber Arts Club
DESCRIPTION:Each Friday Cedar Lane fiber artists gather on zoom for 2 hours of creativity and connection. All are welcome! \n\n	\n		\n			\n				\n					Join via Zoom
URL:https://cedarlane.org/calendar/fiber-arts-club-6-2/2027-01-22/
CATEGORIES:Fun
ATTACH;FMTTYPE=image/webp:https://cedarlane.org/wp-content/uploads/2025/10/fiber-arts.webp
ORGANIZER;CN="Fiber Arts Coordinator":MAILTO:fiberarts@cedarlane.org
LOCATION:https://cedarlane.org/calendar/fiber-arts-club-6-2/2027-01-22/
END:VEVENT
BEGIN:VEVENT
DTSTART;TZID=America/New_York:20270129T140000
DTEND;TZID=America/New_York:20270129T160000
DTSTAMP:20260424T195906
CREATED:20260406T203659Z
LAST-MODIFIED:20260406T203701Z
UID:10000815-1801231200-1801238400@cedarlane.org
SUMMARY:Fiber Arts Club
DESCRIPTION:Each Friday Cedar Lane fiber artists gather on zoom for 2 hours of creativity and connection. All are welcome! \n\n	\n		\n			\n				\n					Join via Zoom
URL:https://cedarlane.org/calendar/fiber-arts-club-6-2/2027-01-29/
CATEGORIES:Fun
ATTACH;FMTTYPE=image/webp:https://cedarlane.org/wp-content/uploads/2025/10/fiber-arts.webp
ORGANIZER;CN="Fiber Arts Coordinator":MAILTO:fiberarts@cedarlane.org
LOCATION:https://cedarlane.org/calendar/fiber-arts-club-6-2/2027-01-29/
END:VEVENT
BEGIN:VEVENT
DTSTART;TZID=America/New_York:20270205T140000
DTEND;TZID=America/New_York:20270205T160000
DTSTAMP:20260424T195906
CREATED:20260406T203659Z
LAST-MODIFIED:20260406T203701Z
UID:10000816-1801836000-1801843200@cedarlane.org
SUMMARY:Fiber Arts Club
DESCRIPTION:Each Friday Cedar Lane fiber artists gather on zoom for 2 hours of creativity and connection. All are welcome! \n\n	\n		\n			\n				\n					Join via Zoom
URL:https://cedarlane.org/calendar/fiber-arts-club-6-2/2027-02-05/
CATEGORIES:Fun
ATTACH;FMTTYPE=image/webp:https://cedarlane.org/wp-content/uploads/2025/10/fiber-arts.webp
ORGANIZER;CN="Fiber Arts Coordinator":MAILTO:fiberarts@cedarlane.org
LOCATION:https://cedarlane.org/calendar/fiber-arts-club-6-2/2027-02-05/
END:VEVENT
BEGIN:VEVENT
DTSTART;TZID=America/New_York:20270212T140000
DTEND;TZID=America/New_York:20270212T160000
DTSTAMP:20260424T195906
CREATED:20260406T203659Z
LAST-MODIFIED:20260406T203701Z
UID:10000817-1802440800-1802448000@cedarlane.org
SUMMARY:Fiber Arts Club
DESCRIPTION:Each Friday Cedar Lane fiber artists gather on zoom for 2 hours of creativity and connection. All are welcome! \n\n	\n		\n			\n				\n					Join via Zoom
URL:https://cedarlane.org/calendar/fiber-arts-club-6-2/2027-02-12/
CATEGORIES:Fun
ATTACH;FMTTYPE=image/webp:https://cedarlane.org/wp-content/uploads/2025/10/fiber-arts.webp
ORGANIZER;CN="Fiber Arts Coordinator":MAILTO:fiberarts@cedarlane.org
LOCATION:https://cedarlane.org/calendar/fiber-arts-club-6-2/2027-02-12/
END:VEVENT
BEGIN:VEVENT
DTSTART;TZID=America/New_York:20270219T140000
DTEND;TZID=America/New_York:20270219T160000
DTSTAMP:20260424T195906
CREATED:20260406T203659Z
LAST-MODIFIED:20260406T203701Z
UID:10000818-1803045600-1803052800@cedarlane.org
SUMMARY:Fiber Arts Club
DESCRIPTION:Each Friday Cedar Lane fiber artists gather on zoom for 2 hours of creativity and connection. All are welcome! \n\n	\n		\n			\n				\n					Join via Zoom
URL:https://cedarlane.org/calendar/fiber-arts-club-6-2/2027-02-19/
CATEGORIES:Fun
ATTACH;FMTTYPE=image/webp:https://cedarlane.org/wp-content/uploads/2025/10/fiber-arts.webp
ORGANIZER;CN="Fiber Arts Coordinator":MAILTO:fiberarts@cedarlane.org
LOCATION:https://cedarlane.org/calendar/fiber-arts-club-6-2/2027-02-19/
END:VEVENT
BEGIN:VEVENT
DTSTART;TZID=America/New_York:20270226T140000
DTEND;TZID=America/New_York:20270226T160000
DTSTAMP:20260424T195906
CREATED:20260406T203659Z
LAST-MODIFIED:20260406T203701Z
UID:10000819-1803650400-1803657600@cedarlane.org
SUMMARY:Fiber Arts Club
DESCRIPTION:Each Friday Cedar Lane fiber artists gather on zoom for 2 hours of creativity and connection. All are welcome! \n\n	\n		\n			\n				\n					Join via Zoom
URL:https://cedarlane.org/calendar/fiber-arts-club-6-2/2027-02-26/
CATEGORIES:Fun
ATTACH;FMTTYPE=image/webp:https://cedarlane.org/wp-content/uploads/2025/10/fiber-arts.webp
ORGANIZER;CN="Fiber Arts Coordinator":MAILTO:fiberarts@cedarlane.org
LOCATION:https://cedarlane.org/calendar/fiber-arts-club-6-2/2027-02-26/
END:VEVENT
BEGIN:VEVENT
DTSTART;TZID=America/New_York:20270305T140000
DTEND;TZID=America/New_York:20270305T160000
DTSTAMP:20260424T195906
CREATED:20260406T203659Z
LAST-MODIFIED:20260406T203701Z
UID:10000820-1804255200-1804262400@cedarlane.org
SUMMARY:Fiber Arts Club
DESCRIPTION:Each Friday Cedar Lane fiber artists gather on zoom for 2 hours of creativity and connection. All are welcome! \n\n	\n		\n			\n				\n					Join via Zoom
URL:https://cedarlane.org/calendar/fiber-arts-club-6-2/2027-03-05/
CATEGORIES:Fun
ATTACH;FMTTYPE=image/webp:https://cedarlane.org/wp-content/uploads/2025/10/fiber-arts.webp
ORGANIZER;CN="Fiber Arts Coordinator":MAILTO:fiberarts@cedarlane.org
LOCATION:https://cedarlane.org/calendar/fiber-arts-club-6-2/2027-03-05/
END:VEVENT
END:VCALENDAR