BEGIN:VCALENDAR
VERSION:2.0
PRODID:-//Cedar Lane Unitarian Universalist Congregation - ECPv6.15.20//NONSGML v1.0//EN
CALSCALE:GREGORIAN
METHOD:PUBLISH
X-ORIGINAL-URL:https://cedarlane.org
X-WR-CALDESC:Events for Cedar Lane Unitarian Universalist Congregation
REFRESH-INTERVAL;VALUE=DURATION:PT1H
X-Robots-Tag:noindex
X-PUBLISHED-TTL:PT1H
BEGIN:VTIMEZONE
TZID:America/New_York
BEGIN:DAYLIGHT
TZOFFSETFROM:-0500
TZOFFSETTO:-0400
TZNAME:EDT
DTSTART:20240310T070000
END:DAYLIGHT
BEGIN:STANDARD
TZOFFSETFROM:-0400
TZOFFSETTO:-0500
TZNAME:EST
DTSTART:20241103T060000
END:STANDARD
BEGIN:DAYLIGHT
TZOFFSETFROM:-0500
TZOFFSETTO:-0400
TZNAME:EDT
DTSTART:20250309T070000
END:DAYLIGHT
BEGIN:STANDARD
TZOFFSETFROM:-0400
TZOFFSETTO:-0500
TZNAME:EST
DTSTART:20251102T060000
END:STANDARD
BEGIN:DAYLIGHT
TZOFFSETFROM:-0500
TZOFFSETTO:-0400
TZNAME:EDT
DTSTART:20260308T070000
END:DAYLIGHT
BEGIN:STANDARD
TZOFFSETFROM:-0400
TZOFFSETTO:-0500
TZNAME:EST
DTSTART:20261101T060000
END:STANDARD
BEGIN:DAYLIGHT
TZOFFSETFROM:-0500
TZOFFSETTO:-0400
TZNAME:EDT
DTSTART:20270314T070000
END:DAYLIGHT
BEGIN:STANDARD
TZOFFSETFROM:-0400
TZOFFSETTO:-0500
TZNAME:EST
DTSTART:20271107T060000
END:STANDARD
END:VTIMEZONE
BEGIN:VEVENT
DTSTART;TZID=America/New_York:20260403T110000
DTEND;TZID=America/New_York:20260403T130000
DTSTAMP:20260425T200930
CREATED:20251029T004852Z
LAST-MODIFIED:20251101T214258Z
UID:10016637-1775214000-1775221200@cedarlane.org
SUMMARY:Alliance Book Club
DESCRIPTION:We gather on first Friday afternoon in the Library. Join us sometime!
URL:https://cedarlane.org/calendar/alliance-book-club/2026-04-03/
LOCATION:Library\, 9601 Cedar Ln\, Bethesda\, MD\, 20814\, United States
CATEGORIES:Fun
ATTACH;FMTTYPE=image/webp:https://cedarlane.org/wp-content/uploads/2025/10/shelby-murphy-figueroa-zezw9q2bc9E-unsplash-scaled.webp
ORGANIZER;CN="Helen Pechacek":MAILTO:helenpechacek@gmail.com
END:VEVENT
BEGIN:VEVENT
DTSTART;TZID=America/New_York:20260306T110000
DTEND;TZID=America/New_York:20260306T130000
DTSTAMP:20260425T200930
CREATED:20251029T004852Z
LAST-MODIFIED:20251101T214258Z
UID:10016636-1772794800-1772802000@cedarlane.org
SUMMARY:Alliance Book Club
DESCRIPTION:We gather on first Friday afternoon in the Library. Join us sometime!
URL:https://cedarlane.org/calendar/alliance-book-club/2026-03-06/
LOCATION:Library\, 9601 Cedar Ln\, Bethesda\, MD\, 20814\, United States
CATEGORIES:Fun
ATTACH;FMTTYPE=image/webp:https://cedarlane.org/wp-content/uploads/2025/10/shelby-murphy-figueroa-zezw9q2bc9E-unsplash-scaled.webp
ORGANIZER;CN="Helen Pechacek":MAILTO:helenpechacek@gmail.com
END:VEVENT
BEGIN:VEVENT
DTSTART;TZID=America/New_York:20260206T110000
DTEND;TZID=America/New_York:20260206T130000
DTSTAMP:20260425T200930
CREATED:20251029T004852Z
LAST-MODIFIED:20251101T214258Z
UID:10016635-1770375600-1770382800@cedarlane.org
SUMMARY:Alliance Book Club
DESCRIPTION:We gather on first Friday afternoon in the Library. Join us sometime!
URL:https://cedarlane.org/calendar/alliance-book-club/2026-02-06/
LOCATION:Library\, 9601 Cedar Ln\, Bethesda\, MD\, 20814\, United States
CATEGORIES:Fun
ATTACH;FMTTYPE=image/webp:https://cedarlane.org/wp-content/uploads/2025/10/shelby-murphy-figueroa-zezw9q2bc9E-unsplash-scaled.webp
ORGANIZER;CN="Helen Pechacek":MAILTO:helenpechacek@gmail.com
END:VEVENT
BEGIN:VEVENT
DTSTART;TZID=America/New_York:20260102T110000
DTEND;TZID=America/New_York:20260102T130000
DTSTAMP:20260425T200930
CREATED:20251029T004852Z
LAST-MODIFIED:20251101T214258Z
UID:10016634-1767351600-1767358800@cedarlane.org
SUMMARY:Alliance Book Club
DESCRIPTION:We gather on first Friday afternoon in the Library. Join us sometime!
URL:https://cedarlane.org/calendar/alliance-book-club/2026-01-02/
LOCATION:Library\, 9601 Cedar Ln\, Bethesda\, MD\, 20814\, United States
CATEGORIES:Fun
ATTACH;FMTTYPE=image/webp:https://cedarlane.org/wp-content/uploads/2025/10/shelby-murphy-figueroa-zezw9q2bc9E-unsplash-scaled.webp
ORGANIZER;CN="Helen Pechacek":MAILTO:helenpechacek@gmail.com
END:VEVENT
BEGIN:VEVENT
DTSTART;TZID=America/New_York:20251205T110000
DTEND;TZID=America/New_York:20251205T130000
DTSTAMP:20260425T200930
CREATED:20251029T004852Z
LAST-MODIFIED:20251101T214258Z
UID:10016633-1764932400-1764939600@cedarlane.org
SUMMARY:Alliance Book Club
DESCRIPTION:We gather on first Friday afternoon in the Library. Join us sometime!
URL:https://cedarlane.org/calendar/alliance-book-club/2025-12-05/
LOCATION:Library\, 9601 Cedar Ln\, Bethesda\, MD\, 20814\, United States
CATEGORIES:Fun
ATTACH;FMTTYPE=image/webp:https://cedarlane.org/wp-content/uploads/2025/10/shelby-murphy-figueroa-zezw9q2bc9E-unsplash-scaled.webp
ORGANIZER;CN="Helen Pechacek":MAILTO:helenpechacek@gmail.com
END:VEVENT
BEGIN:VEVENT
DTSTART;TZID=America/New_York:20251107T110000
DTEND;TZID=America/New_York:20251107T130000
DTSTAMP:20260425T200930
CREATED:20251031T192734Z
LAST-MODIFIED:20251101T214300Z
UID:10016632-1762513200-1762520400@cedarlane.org
SUMMARY:Alliance Book Club - My Brilliant Friend by Elena Ferrante
DESCRIPTION:We gather on first Friday afternoon in the Library. Join us sometime! \nNovember Book: \nMy Brilliant Friend\, Elena Ferrante Fiction 331 pages Pub 2012 Beginning in the 1950s in a poor neighborhood near Naples\, Lila and Elena maintain a complex and conflicted friends hip. First in a series\, this follows them from age 10 through adolescence. NYT calls it the best book so far of the 21st Century! (Robin Larkin)
URL:https://cedarlane.org/calendar/alliance-book-club-2/
LOCATION:Library\, 9601 Cedar Ln\, Bethesda\, MD\, 20814\, United States
CATEGORIES:Fun
ATTACH;FMTTYPE=image/webp:https://cedarlane.org/wp-content/uploads/2025/10/IMG_3086.webp
ORGANIZER;CN="Helen Pechacek":MAILTO:helenpechacek@gmail.com
END:VEVENT
END:VCALENDAR