BEGIN:VCALENDAR
VERSION:2.0
PRODID:-//Cedar Lane Unitarian Universalist Congregation - ECPv6.15.20//NONSGML v1.0//EN
CALSCALE:GREGORIAN
METHOD:PUBLISH
X-ORIGINAL-URL:https://cedarlane.org
X-WR-CALDESC:Events for Cedar Lane Unitarian Universalist Congregation
REFRESH-INTERVAL;VALUE=DURATION:PT1H
X-Robots-Tag:noindex
X-PUBLISHED-TTL:PT1H
BEGIN:VTIMEZONE
TZID:America/New_York
BEGIN:DAYLIGHT
TZOFFSETFROM:-0500
TZOFFSETTO:-0400
TZNAME:EDT
DTSTART:20270314T070000
END:DAYLIGHT
BEGIN:STANDARD
TZOFFSETFROM:-0400
TZOFFSETTO:-0500
TZNAME:EST
DTSTART:20271107T060000
END:STANDARD
BEGIN:DAYLIGHT
TZOFFSETFROM:-0500
TZOFFSETTO:-0400
TZNAME:EDT
DTSTART:20280312T070000
END:DAYLIGHT
BEGIN:STANDARD
TZOFFSETFROM:-0400
TZOFFSETTO:-0500
TZNAME:EST
DTSTART:20281105T060000
END:STANDARD
BEGIN:DAYLIGHT
TZOFFSETFROM:-0500
TZOFFSETTO:-0400
TZNAME:EDT
DTSTART:20290311T070000
END:DAYLIGHT
BEGIN:STANDARD
TZOFFSETFROM:-0400
TZOFFSETTO:-0500
TZNAME:EST
DTSTART:20291104T060000
END:STANDARD
BEGIN:DAYLIGHT
TZOFFSETFROM:-0500
TZOFFSETTO:-0400
TZNAME:EDT
DTSTART:20300310T070000
END:DAYLIGHT
BEGIN:STANDARD
TZOFFSETFROM:-0400
TZOFFSETTO:-0500
TZNAME:EST
DTSTART:20301103T060000
END:STANDARD
BEGIN:DAYLIGHT
TZOFFSETFROM:-0500
TZOFFSETTO:-0400
TZNAME:EDT
DTSTART:20310309T070000
END:DAYLIGHT
BEGIN:STANDARD
TZOFFSETFROM:-0400
TZOFFSETTO:-0500
TZNAME:EST
DTSTART:20311102T060000
END:STANDARD
END:VTIMEZONE
BEGIN:VEVENT
DTSTART;TZID=America/New_York:20281107T190000
DTEND;TZID=America/New_York:20281107T200000
DTSTAMP:20260425T085917
CREATED:20250709T162955Z
LAST-MODIFIED:20251101T214337Z
UID:10016168-1857236400-1857240000@cedarlane.org
SUMMARY:Environmental Justice Ministry Team
DESCRIPTION:We meet online on the first Tuesday of each month. \nTo get connected to this group\, contact a coordinator.
URL:https://cedarlane.org/calendar/environmental-justice-meeting/2028-11-07/
CATEGORIES:Activism & Justice,Planning and Coordination
ATTACH;FMTTYPE=image/webp:https://cedarlane.org/wp-content/uploads/2025/10/EJM.webp
ORGANIZER;CN="Kathleen Holmay and Nancy Wilkerson":MAILTO:EJMT@cedarlane.org
LOCATION:https://cedarlane.org/calendar/environmental-justice-meeting/2028-11-07/
END:VEVENT
BEGIN:VEVENT
DTSTART;TZID=America/New_York:20281205T190000
DTEND;TZID=America/New_York:20281205T200000
DTSTAMP:20260425T085917
CREATED:20250709T162955Z
LAST-MODIFIED:20251101T214337Z
UID:10016169-1859655600-1859659200@cedarlane.org
SUMMARY:Environmental Justice Ministry Team
DESCRIPTION:We meet online on the first Tuesday of each month. \nTo get connected to this group\, contact a coordinator.
URL:https://cedarlane.org/calendar/environmental-justice-meeting/2028-12-05/
CATEGORIES:Activism & Justice,Planning and Coordination
ATTACH;FMTTYPE=image/webp:https://cedarlane.org/wp-content/uploads/2025/10/EJM.webp
ORGANIZER;CN="Kathleen Holmay and Nancy Wilkerson":MAILTO:EJMT@cedarlane.org
LOCATION:https://cedarlane.org/calendar/environmental-justice-meeting/2028-12-05/
END:VEVENT
BEGIN:VEVENT
DTSTART;TZID=America/New_York:20290102T190000
DTEND;TZID=America/New_York:20290102T200000
DTSTAMP:20260425T085917
CREATED:20250709T162955Z
LAST-MODIFIED:20251101T214337Z
UID:10016170-1862074800-1862078400@cedarlane.org
SUMMARY:Environmental Justice Ministry Team
DESCRIPTION:We meet online on the first Tuesday of each month. \nTo get connected to this group\, contact a coordinator.
URL:https://cedarlane.org/calendar/environmental-justice-meeting/2029-01-02/
CATEGORIES:Activism & Justice,Planning and Coordination
ATTACH;FMTTYPE=image/webp:https://cedarlane.org/wp-content/uploads/2025/10/EJM.webp
ORGANIZER;CN="Kathleen Holmay and Nancy Wilkerson":MAILTO:EJMT@cedarlane.org
LOCATION:https://cedarlane.org/calendar/environmental-justice-meeting/2029-01-02/
END:VEVENT
BEGIN:VEVENT
DTSTART;TZID=America/New_York:20290206T190000
DTEND;TZID=America/New_York:20290206T200000
DTSTAMP:20260425T085917
CREATED:20250709T162955Z
LAST-MODIFIED:20251101T214337Z
UID:10016171-1865098800-1865102400@cedarlane.org
SUMMARY:Environmental Justice Ministry Team
DESCRIPTION:We meet online on the first Tuesday of each month. \nTo get connected to this group\, contact a coordinator.
URL:https://cedarlane.org/calendar/environmental-justice-meeting/2029-02-06/
CATEGORIES:Activism & Justice,Planning and Coordination
ATTACH;FMTTYPE=image/webp:https://cedarlane.org/wp-content/uploads/2025/10/EJM.webp
ORGANIZER;CN="Kathleen Holmay and Nancy Wilkerson":MAILTO:EJMT@cedarlane.org
LOCATION:https://cedarlane.org/calendar/environmental-justice-meeting/2029-02-06/
END:VEVENT
BEGIN:VEVENT
DTSTART;TZID=America/New_York:20290306T190000
DTEND;TZID=America/New_York:20290306T200000
DTSTAMP:20260425T085917
CREATED:20250709T162955Z
LAST-MODIFIED:20251101T214337Z
UID:10016172-1867518000-1867521600@cedarlane.org
SUMMARY:Environmental Justice Ministry Team
DESCRIPTION:We meet online on the first Tuesday of each month. \nTo get connected to this group\, contact a coordinator.
URL:https://cedarlane.org/calendar/environmental-justice-meeting/2029-03-06/
CATEGORIES:Activism & Justice,Planning and Coordination
ATTACH;FMTTYPE=image/webp:https://cedarlane.org/wp-content/uploads/2025/10/EJM.webp
ORGANIZER;CN="Kathleen Holmay and Nancy Wilkerson":MAILTO:EJMT@cedarlane.org
LOCATION:https://cedarlane.org/calendar/environmental-justice-meeting/2029-03-06/
END:VEVENT
BEGIN:VEVENT
DTSTART;TZID=America/New_York:20290403T190000
DTEND;TZID=America/New_York:20290403T200000
DTSTAMP:20260425T085917
CREATED:20250709T162955Z
LAST-MODIFIED:20251101T214337Z
UID:10016173-1869937200-1869940800@cedarlane.org
SUMMARY:Environmental Justice Ministry Team
DESCRIPTION:We meet online on the first Tuesday of each month. \nTo get connected to this group\, contact a coordinator.
URL:https://cedarlane.org/calendar/environmental-justice-meeting/2029-04-03/
CATEGORIES:Activism & Justice,Planning and Coordination
ATTACH;FMTTYPE=image/webp:https://cedarlane.org/wp-content/uploads/2025/10/EJM.webp
ORGANIZER;CN="Kathleen Holmay and Nancy Wilkerson":MAILTO:EJMT@cedarlane.org
LOCATION:https://cedarlane.org/calendar/environmental-justice-meeting/2029-04-03/
END:VEVENT
BEGIN:VEVENT
DTSTART;TZID=America/New_York:20290501T190000
DTEND;TZID=America/New_York:20290501T200000
DTSTAMP:20260425T085917
CREATED:20250709T162955Z
LAST-MODIFIED:20251101T214337Z
UID:10016174-1872356400-1872360000@cedarlane.org
SUMMARY:Environmental Justice Ministry Team
DESCRIPTION:We meet online on the first Tuesday of each month. \nTo get connected to this group\, contact a coordinator.
URL:https://cedarlane.org/calendar/environmental-justice-meeting/2029-05-01/
CATEGORIES:Activism & Justice,Planning and Coordination
ATTACH;FMTTYPE=image/webp:https://cedarlane.org/wp-content/uploads/2025/10/EJM.webp
ORGANIZER;CN="Kathleen Holmay and Nancy Wilkerson":MAILTO:EJMT@cedarlane.org
LOCATION:https://cedarlane.org/calendar/environmental-justice-meeting/2029-05-01/
END:VEVENT
BEGIN:VEVENT
DTSTART;TZID=America/New_York:20290605T190000
DTEND;TZID=America/New_York:20290605T200000
DTSTAMP:20260425T085917
CREATED:20250709T162955Z
LAST-MODIFIED:20251101T214337Z
UID:10016175-1875380400-1875384000@cedarlane.org
SUMMARY:Environmental Justice Ministry Team
DESCRIPTION:We meet online on the first Tuesday of each month. \nTo get connected to this group\, contact a coordinator.
URL:https://cedarlane.org/calendar/environmental-justice-meeting/2029-06-05/
CATEGORIES:Activism & Justice,Planning and Coordination
ATTACH;FMTTYPE=image/webp:https://cedarlane.org/wp-content/uploads/2025/10/EJM.webp
ORGANIZER;CN="Kathleen Holmay and Nancy Wilkerson":MAILTO:EJMT@cedarlane.org
LOCATION:https://cedarlane.org/calendar/environmental-justice-meeting/2029-06-05/
END:VEVENT
BEGIN:VEVENT
DTSTART;TZID=America/New_York:20290703T190000
DTEND;TZID=America/New_York:20290703T200000
DTSTAMP:20260425T085917
CREATED:20250709T162955Z
LAST-MODIFIED:20251101T214337Z
UID:10016176-1877799600-1877803200@cedarlane.org
SUMMARY:Environmental Justice Ministry Team
DESCRIPTION:We meet online on the first Tuesday of each month. \nTo get connected to this group\, contact a coordinator.
URL:https://cedarlane.org/calendar/environmental-justice-meeting/2029-07-03/
CATEGORIES:Activism & Justice,Planning and Coordination
ATTACH;FMTTYPE=image/webp:https://cedarlane.org/wp-content/uploads/2025/10/EJM.webp
ORGANIZER;CN="Kathleen Holmay and Nancy Wilkerson":MAILTO:EJMT@cedarlane.org
LOCATION:https://cedarlane.org/calendar/environmental-justice-meeting/2029-07-03/
END:VEVENT
BEGIN:VEVENT
DTSTART;TZID=America/New_York:20290807T190000
DTEND;TZID=America/New_York:20290807T200000
DTSTAMP:20260425T085917
CREATED:20250709T162955Z
LAST-MODIFIED:20251101T214337Z
UID:10016177-1880823600-1880827200@cedarlane.org
SUMMARY:Environmental Justice Ministry Team
DESCRIPTION:We meet online on the first Tuesday of each month. \nTo get connected to this group\, contact a coordinator.
URL:https://cedarlane.org/calendar/environmental-justice-meeting/2029-08-07/
CATEGORIES:Activism & Justice,Planning and Coordination
ATTACH;FMTTYPE=image/webp:https://cedarlane.org/wp-content/uploads/2025/10/EJM.webp
ORGANIZER;CN="Kathleen Holmay and Nancy Wilkerson":MAILTO:EJMT@cedarlane.org
LOCATION:https://cedarlane.org/calendar/environmental-justice-meeting/2029-08-07/
END:VEVENT
BEGIN:VEVENT
DTSTART;TZID=America/New_York:20290904T190000
DTEND;TZID=America/New_York:20290904T200000
DTSTAMP:20260425T085917
CREATED:20250709T162955Z
LAST-MODIFIED:20251101T214337Z
UID:10016178-1883242800-1883246400@cedarlane.org
SUMMARY:Environmental Justice Ministry Team
DESCRIPTION:We meet online on the first Tuesday of each month. \nTo get connected to this group\, contact a coordinator.
URL:https://cedarlane.org/calendar/environmental-justice-meeting/2029-09-04/
CATEGORIES:Activism & Justice,Planning and Coordination
ATTACH;FMTTYPE=image/webp:https://cedarlane.org/wp-content/uploads/2025/10/EJM.webp
ORGANIZER;CN="Kathleen Holmay and Nancy Wilkerson":MAILTO:EJMT@cedarlane.org
LOCATION:https://cedarlane.org/calendar/environmental-justice-meeting/2029-09-04/
END:VEVENT
BEGIN:VEVENT
DTSTART;TZID=America/New_York:20291002T190000
DTEND;TZID=America/New_York:20291002T200000
DTSTAMP:20260425T085917
CREATED:20250709T162955Z
LAST-MODIFIED:20251101T214337Z
UID:10016179-1885662000-1885665600@cedarlane.org
SUMMARY:Environmental Justice Ministry Team
DESCRIPTION:We meet online on the first Tuesday of each month. \nTo get connected to this group\, contact a coordinator.
URL:https://cedarlane.org/calendar/environmental-justice-meeting/2029-10-02/
CATEGORIES:Activism & Justice,Planning and Coordination
ATTACH;FMTTYPE=image/webp:https://cedarlane.org/wp-content/uploads/2025/10/EJM.webp
ORGANIZER;CN="Kathleen Holmay and Nancy Wilkerson":MAILTO:EJMT@cedarlane.org
LOCATION:https://cedarlane.org/calendar/environmental-justice-meeting/2029-10-02/
END:VEVENT
BEGIN:VEVENT
DTSTART;TZID=America/New_York:20291106T190000
DTEND;TZID=America/New_York:20291106T200000
DTSTAMP:20260425T085917
CREATED:20250709T162955Z
LAST-MODIFIED:20251101T214337Z
UID:10016180-1888686000-1888689600@cedarlane.org
SUMMARY:Environmental Justice Ministry Team
DESCRIPTION:We meet online on the first Tuesday of each month. \nTo get connected to this group\, contact a coordinator.
URL:https://cedarlane.org/calendar/environmental-justice-meeting/2029-11-06/
CATEGORIES:Activism & Justice,Planning and Coordination
ATTACH;FMTTYPE=image/webp:https://cedarlane.org/wp-content/uploads/2025/10/EJM.webp
ORGANIZER;CN="Kathleen Holmay and Nancy Wilkerson":MAILTO:EJMT@cedarlane.org
LOCATION:https://cedarlane.org/calendar/environmental-justice-meeting/2029-11-06/
END:VEVENT
BEGIN:VEVENT
DTSTART;TZID=America/New_York:20291204T190000
DTEND;TZID=America/New_York:20291204T200000
DTSTAMP:20260425T085917
CREATED:20250709T162955Z
LAST-MODIFIED:20251101T214337Z
UID:10016181-1891105200-1891108800@cedarlane.org
SUMMARY:Environmental Justice Ministry Team
DESCRIPTION:We meet online on the first Tuesday of each month. \nTo get connected to this group\, contact a coordinator.
URL:https://cedarlane.org/calendar/environmental-justice-meeting/2029-12-04/
CATEGORIES:Activism & Justice,Planning and Coordination
ATTACH;FMTTYPE=image/webp:https://cedarlane.org/wp-content/uploads/2025/10/EJM.webp
ORGANIZER;CN="Kathleen Holmay and Nancy Wilkerson":MAILTO:EJMT@cedarlane.org
LOCATION:https://cedarlane.org/calendar/environmental-justice-meeting/2029-12-04/
END:VEVENT
BEGIN:VEVENT
DTSTART;TZID=America/New_York:20300101T190000
DTEND;TZID=America/New_York:20300101T200000
DTSTAMP:20260425T085917
CREATED:20250709T162955Z
LAST-MODIFIED:20251101T214337Z
UID:10016182-1893524400-1893528000@cedarlane.org
SUMMARY:Environmental Justice Ministry Team
DESCRIPTION:We meet online on the first Tuesday of each month. \nTo get connected to this group\, contact a coordinator.
URL:https://cedarlane.org/calendar/environmental-justice-meeting/2030-01-01/
CATEGORIES:Activism & Justice,Planning and Coordination
ATTACH;FMTTYPE=image/webp:https://cedarlane.org/wp-content/uploads/2025/10/EJM.webp
ORGANIZER;CN="Kathleen Holmay and Nancy Wilkerson":MAILTO:EJMT@cedarlane.org
LOCATION:https://cedarlane.org/calendar/environmental-justice-meeting/2030-01-01/
END:VEVENT
BEGIN:VEVENT
DTSTART;TZID=America/New_York:20300205T190000
DTEND;TZID=America/New_York:20300205T200000
DTSTAMP:20260425T085917
CREATED:20250709T162955Z
LAST-MODIFIED:20251101T214337Z
UID:10016183-1896548400-1896552000@cedarlane.org
SUMMARY:Environmental Justice Ministry Team
DESCRIPTION:We meet online on the first Tuesday of each month. \nTo get connected to this group\, contact a coordinator.
URL:https://cedarlane.org/calendar/environmental-justice-meeting/2030-02-05/
CATEGORIES:Activism & Justice,Planning and Coordination
ATTACH;FMTTYPE=image/webp:https://cedarlane.org/wp-content/uploads/2025/10/EJM.webp
ORGANIZER;CN="Kathleen Holmay and Nancy Wilkerson":MAILTO:EJMT@cedarlane.org
LOCATION:https://cedarlane.org/calendar/environmental-justice-meeting/2030-02-05/
END:VEVENT
BEGIN:VEVENT
DTSTART;TZID=America/New_York:20300305T190000
DTEND;TZID=America/New_York:20300305T200000
DTSTAMP:20260425T085917
CREATED:20250709T162955Z
LAST-MODIFIED:20251101T214337Z
UID:10016184-1898967600-1898971200@cedarlane.org
SUMMARY:Environmental Justice Ministry Team
DESCRIPTION:We meet online on the first Tuesday of each month. \nTo get connected to this group\, contact a coordinator.
URL:https://cedarlane.org/calendar/environmental-justice-meeting/2030-03-05/
CATEGORIES:Activism & Justice,Planning and Coordination
ATTACH;FMTTYPE=image/webp:https://cedarlane.org/wp-content/uploads/2025/10/EJM.webp
ORGANIZER;CN="Kathleen Holmay and Nancy Wilkerson":MAILTO:EJMT@cedarlane.org
LOCATION:https://cedarlane.org/calendar/environmental-justice-meeting/2030-03-05/
END:VEVENT
BEGIN:VEVENT
DTSTART;TZID=America/New_York:20300402T190000
DTEND;TZID=America/New_York:20300402T200000
DTSTAMP:20260425T085917
CREATED:20250709T162955Z
LAST-MODIFIED:20251101T214337Z
UID:10016185-1901386800-1901390400@cedarlane.org
SUMMARY:Environmental Justice Ministry Team
DESCRIPTION:We meet online on the first Tuesday of each month. \nTo get connected to this group\, contact a coordinator.
URL:https://cedarlane.org/calendar/environmental-justice-meeting/2030-04-02/
CATEGORIES:Activism & Justice,Planning and Coordination
ATTACH;FMTTYPE=image/webp:https://cedarlane.org/wp-content/uploads/2025/10/EJM.webp
ORGANIZER;CN="Kathleen Holmay and Nancy Wilkerson":MAILTO:EJMT@cedarlane.org
LOCATION:https://cedarlane.org/calendar/environmental-justice-meeting/2030-04-02/
END:VEVENT
BEGIN:VEVENT
DTSTART;TZID=America/New_York:20300507T190000
DTEND;TZID=America/New_York:20300507T200000
DTSTAMP:20260425T085917
CREATED:20250709T162955Z
LAST-MODIFIED:20251101T214337Z
UID:10016186-1904410800-1904414400@cedarlane.org
SUMMARY:Environmental Justice Ministry Team
DESCRIPTION:We meet online on the first Tuesday of each month. \nTo get connected to this group\, contact a coordinator.
URL:https://cedarlane.org/calendar/environmental-justice-meeting/2030-05-07/
CATEGORIES:Activism & Justice,Planning and Coordination
ATTACH;FMTTYPE=image/webp:https://cedarlane.org/wp-content/uploads/2025/10/EJM.webp
ORGANIZER;CN="Kathleen Holmay and Nancy Wilkerson":MAILTO:EJMT@cedarlane.org
LOCATION:https://cedarlane.org/calendar/environmental-justice-meeting/2030-05-07/
END:VEVENT
BEGIN:VEVENT
DTSTART;TZID=America/New_York:20300604T190000
DTEND;TZID=America/New_York:20300604T200000
DTSTAMP:20260425T085917
CREATED:20250709T162955Z
LAST-MODIFIED:20251101T214337Z
UID:10016187-1906830000-1906833600@cedarlane.org
SUMMARY:Environmental Justice Ministry Team
DESCRIPTION:We meet online on the first Tuesday of each month. \nTo get connected to this group\, contact a coordinator.
URL:https://cedarlane.org/calendar/environmental-justice-meeting/2030-06-04/
CATEGORIES:Activism & Justice,Planning and Coordination
ATTACH;FMTTYPE=image/webp:https://cedarlane.org/wp-content/uploads/2025/10/EJM.webp
ORGANIZER;CN="Kathleen Holmay and Nancy Wilkerson":MAILTO:EJMT@cedarlane.org
LOCATION:https://cedarlane.org/calendar/environmental-justice-meeting/2030-06-04/
END:VEVENT
BEGIN:VEVENT
DTSTART;TZID=America/New_York:20300702T190000
DTEND;TZID=America/New_York:20300702T200000
DTSTAMP:20260425T085917
CREATED:20250709T162955Z
LAST-MODIFIED:20251101T214337Z
UID:10016188-1909249200-1909252800@cedarlane.org
SUMMARY:Environmental Justice Ministry Team
DESCRIPTION:We meet online on the first Tuesday of each month. \nTo get connected to this group\, contact a coordinator.
URL:https://cedarlane.org/calendar/environmental-justice-meeting/2030-07-02/
CATEGORIES:Activism & Justice,Planning and Coordination
ATTACH;FMTTYPE=image/webp:https://cedarlane.org/wp-content/uploads/2025/10/EJM.webp
ORGANIZER;CN="Kathleen Holmay and Nancy Wilkerson":MAILTO:EJMT@cedarlane.org
LOCATION:https://cedarlane.org/calendar/environmental-justice-meeting/2030-07-02/
END:VEVENT
BEGIN:VEVENT
DTSTART;TZID=America/New_York:20300806T190000
DTEND;TZID=America/New_York:20300806T200000
DTSTAMP:20260425T085917
CREATED:20250709T162955Z
LAST-MODIFIED:20251101T214337Z
UID:10016189-1912273200-1912276800@cedarlane.org
SUMMARY:Environmental Justice Ministry Team
DESCRIPTION:We meet online on the first Tuesday of each month. \nTo get connected to this group\, contact a coordinator.
URL:https://cedarlane.org/calendar/environmental-justice-meeting/2030-08-06/
CATEGORIES:Activism & Justice,Planning and Coordination
ATTACH;FMTTYPE=image/webp:https://cedarlane.org/wp-content/uploads/2025/10/EJM.webp
ORGANIZER;CN="Kathleen Holmay and Nancy Wilkerson":MAILTO:EJMT@cedarlane.org
LOCATION:https://cedarlane.org/calendar/environmental-justice-meeting/2030-08-06/
END:VEVENT
BEGIN:VEVENT
DTSTART;TZID=America/New_York:20300903T190000
DTEND;TZID=America/New_York:20300903T200000
DTSTAMP:20260425T085917
CREATED:20250709T162955Z
LAST-MODIFIED:20251101T214337Z
UID:10016190-1914692400-1914696000@cedarlane.org
SUMMARY:Environmental Justice Ministry Team
DESCRIPTION:We meet online on the first Tuesday of each month. \nTo get connected to this group\, contact a coordinator.
URL:https://cedarlane.org/calendar/environmental-justice-meeting/2030-09-03/
CATEGORIES:Activism & Justice,Planning and Coordination
ATTACH;FMTTYPE=image/webp:https://cedarlane.org/wp-content/uploads/2025/10/EJM.webp
ORGANIZER;CN="Kathleen Holmay and Nancy Wilkerson":MAILTO:EJMT@cedarlane.org
LOCATION:https://cedarlane.org/calendar/environmental-justice-meeting/2030-09-03/
END:VEVENT
BEGIN:VEVENT
DTSTART;TZID=America/New_York:20301001T190000
DTEND;TZID=America/New_York:20301001T200000
DTSTAMP:20260425T085917
CREATED:20250709T162955Z
LAST-MODIFIED:20251101T214337Z
UID:10016191-1917111600-1917115200@cedarlane.org
SUMMARY:Environmental Justice Ministry Team
DESCRIPTION:We meet online on the first Tuesday of each month. \nTo get connected to this group\, contact a coordinator.
URL:https://cedarlane.org/calendar/environmental-justice-meeting/2030-10-01/
CATEGORIES:Activism & Justice,Planning and Coordination
ATTACH;FMTTYPE=image/webp:https://cedarlane.org/wp-content/uploads/2025/10/EJM.webp
ORGANIZER;CN="Kathleen Holmay and Nancy Wilkerson":MAILTO:EJMT@cedarlane.org
LOCATION:https://cedarlane.org/calendar/environmental-justice-meeting/2030-10-01/
END:VEVENT
END:VCALENDAR