BEGIN:VCALENDAR
VERSION:2.0
PRODID:-//Cedar Lane Unitarian Universalist Congregation - ECPv6.15.20//NONSGML v1.0//EN
CALSCALE:GREGORIAN
METHOD:PUBLISH
X-WR-CALNAME:Cedar Lane Unitarian Universalist Congregation
X-ORIGINAL-URL:https://cedarlane.org
X-WR-CALDESC:Events for Cedar Lane Unitarian Universalist Congregation
REFRESH-INTERVAL;VALUE=DURATION:PT1H
X-Robots-Tag:noindex
X-PUBLISHED-TTL:PT1H
BEGIN:VTIMEZONE
TZID:America/New_York
BEGIN:DAYLIGHT
TZOFFSETFROM:-0500
TZOFFSETTO:-0400
TZNAME:EDT
DTSTART:20250309T070000
END:DAYLIGHT
BEGIN:STANDARD
TZOFFSETFROM:-0400
TZOFFSETTO:-0500
TZNAME:EST
DTSTART:20251102T060000
END:STANDARD
BEGIN:DAYLIGHT
TZOFFSETFROM:-0500
TZOFFSETTO:-0400
TZNAME:EDT
DTSTART:20260308T070000
END:DAYLIGHT
BEGIN:STANDARD
TZOFFSETFROM:-0400
TZOFFSETTO:-0500
TZNAME:EST
DTSTART:20261101T060000
END:STANDARD
BEGIN:DAYLIGHT
TZOFFSETFROM:-0500
TZOFFSETTO:-0400
TZNAME:EDT
DTSTART:20270314T070000
END:DAYLIGHT
BEGIN:STANDARD
TZOFFSETFROM:-0400
TZOFFSETTO:-0500
TZNAME:EST
DTSTART:20271107T060000
END:STANDARD
BEGIN:DAYLIGHT
TZOFFSETFROM:-0500
TZOFFSETTO:-0400
TZNAME:EDT
DTSTART:20280312T070000
END:DAYLIGHT
BEGIN:STANDARD
TZOFFSETFROM:-0400
TZOFFSETTO:-0500
TZNAME:EST
DTSTART:20281105T060000
END:STANDARD
BEGIN:DAYLIGHT
TZOFFSETFROM:-0500
TZOFFSETTO:-0400
TZNAME:EDT
DTSTART:20290311T070000
END:DAYLIGHT
BEGIN:STANDARD
TZOFFSETFROM:-0400
TZOFFSETTO:-0500
TZNAME:EST
DTSTART:20291104T060000
END:STANDARD
END:VTIMEZONE
BEGIN:VEVENT
DTSTART;TZID=America/New_York:20260508T100000
DTEND;TZID=America/New_York:20260508T113000
DTSTAMP:20260425T123638
CREATED:20250709T164026Z
LAST-MODIFIED:20251101T214302Z
UID:10014970-1778234400-1778239800@cedarlane.org
SUMMARY:Dementia / Alzheimer's Caregivers Support Group
DESCRIPTION:An online support group for family and caregivers of loved ones with memory decline. \nMeets every on the second Friday of each month. Contact Kay for more information.
URL:https://cedarlane.org/calendar/dementia-alzheimes/2026-05-08/
CATEGORIES:Healing
ATTACH;FMTTYPE=image/webp:https://cedarlane.org/wp-content/uploads/2025/10/Caregivers-Support.webp
ORGANIZER;CN="Kay Gottesman":MAILTO:kgottesman@verizon.net
END:VEVENT
BEGIN:VEVENT
DTSTART;TZID=America/New_York:20260612T100000
DTEND;TZID=America/New_York:20260612T113000
DTSTAMP:20260425T123638
CREATED:20250709T164026Z
LAST-MODIFIED:20251101T214302Z
UID:10014971-1781258400-1781263800@cedarlane.org
SUMMARY:Dementia / Alzheimer's Caregivers Support Group
DESCRIPTION:An online support group for family and caregivers of loved ones with memory decline. \nMeets every on the second Friday of each month. Contact Kay for more information.
URL:https://cedarlane.org/calendar/dementia-alzheimes/2026-06-12/
CATEGORIES:Healing
ATTACH;FMTTYPE=image/webp:https://cedarlane.org/wp-content/uploads/2025/10/Caregivers-Support.webp
ORGANIZER;CN="Kay Gottesman":MAILTO:kgottesman@verizon.net
END:VEVENT
BEGIN:VEVENT
DTSTART;TZID=America/New_York:20260710T100000
DTEND;TZID=America/New_York:20260710T113000
DTSTAMP:20260425T123638
CREATED:20250709T164026Z
LAST-MODIFIED:20251101T214302Z
UID:10014972-1783677600-1783683000@cedarlane.org
SUMMARY:Dementia / Alzheimer's Caregivers Support Group
DESCRIPTION:An online support group for family and caregivers of loved ones with memory decline. \nMeets every on the second Friday of each month. Contact Kay for more information.
URL:https://cedarlane.org/calendar/dementia-alzheimes/2026-07-10/
CATEGORIES:Healing
ATTACH;FMTTYPE=image/webp:https://cedarlane.org/wp-content/uploads/2025/10/Caregivers-Support.webp
ORGANIZER;CN="Kay Gottesman":MAILTO:kgottesman@verizon.net
END:VEVENT
BEGIN:VEVENT
DTSTART;TZID=America/New_York:20260814T100000
DTEND;TZID=America/New_York:20260814T113000
DTSTAMP:20260425T123638
CREATED:20250709T164026Z
LAST-MODIFIED:20251101T214302Z
UID:10014973-1786701600-1786707000@cedarlane.org
SUMMARY:Dementia / Alzheimer's Caregivers Support Group
DESCRIPTION:An online support group for family and caregivers of loved ones with memory decline. \nMeets every on the second Friday of each month. Contact Kay for more information.
URL:https://cedarlane.org/calendar/dementia-alzheimes/2026-08-14/
CATEGORIES:Healing
ATTACH;FMTTYPE=image/webp:https://cedarlane.org/wp-content/uploads/2025/10/Caregivers-Support.webp
ORGANIZER;CN="Kay Gottesman":MAILTO:kgottesman@verizon.net
END:VEVENT
BEGIN:VEVENT
DTSTART;TZID=America/New_York:20260911T100000
DTEND;TZID=America/New_York:20260911T113000
DTSTAMP:20260425T123638
CREATED:20250709T164026Z
LAST-MODIFIED:20251101T214302Z
UID:10014974-1789120800-1789126200@cedarlane.org
SUMMARY:Dementia / Alzheimer's Caregivers Support Group
DESCRIPTION:An online support group for family and caregivers of loved ones with memory decline. \nMeets every on the second Friday of each month. Contact Kay for more information.
URL:https://cedarlane.org/calendar/dementia-alzheimes/2026-09-11/
CATEGORIES:Healing
ATTACH;FMTTYPE=image/webp:https://cedarlane.org/wp-content/uploads/2025/10/Caregivers-Support.webp
ORGANIZER;CN="Kay Gottesman":MAILTO:kgottesman@verizon.net
END:VEVENT
BEGIN:VEVENT
DTSTART;TZID=America/New_York:20261009T100000
DTEND;TZID=America/New_York:20261009T113000
DTSTAMP:20260425T123638
CREATED:20250709T164026Z
LAST-MODIFIED:20251101T214302Z
UID:10014975-1791540000-1791545400@cedarlane.org
SUMMARY:Dementia / Alzheimer's Caregivers Support Group
DESCRIPTION:An online support group for family and caregivers of loved ones with memory decline. \nMeets every on the second Friday of each month. Contact Kay for more information.
URL:https://cedarlane.org/calendar/dementia-alzheimes/2026-10-09/
CATEGORIES:Healing
ATTACH;FMTTYPE=image/webp:https://cedarlane.org/wp-content/uploads/2025/10/Caregivers-Support.webp
ORGANIZER;CN="Kay Gottesman":MAILTO:kgottesman@verizon.net
END:VEVENT
BEGIN:VEVENT
DTSTART;TZID=America/New_York:20261113T100000
DTEND;TZID=America/New_York:20261113T113000
DTSTAMP:20260425T123638
CREATED:20250709T164026Z
LAST-MODIFIED:20251101T214302Z
UID:10014976-1794564000-1794569400@cedarlane.org
SUMMARY:Dementia / Alzheimer's Caregivers Support Group
DESCRIPTION:An online support group for family and caregivers of loved ones with memory decline. \nMeets every on the second Friday of each month. Contact Kay for more information.
URL:https://cedarlane.org/calendar/dementia-alzheimes/2026-11-13/
CATEGORIES:Healing
ATTACH;FMTTYPE=image/webp:https://cedarlane.org/wp-content/uploads/2025/10/Caregivers-Support.webp
ORGANIZER;CN="Kay Gottesman":MAILTO:kgottesman@verizon.net
END:VEVENT
BEGIN:VEVENT
DTSTART;TZID=America/New_York:20261211T100000
DTEND;TZID=America/New_York:20261211T113000
DTSTAMP:20260425T123638
CREATED:20250709T164026Z
LAST-MODIFIED:20251101T214302Z
UID:10014977-1796983200-1796988600@cedarlane.org
SUMMARY:Dementia / Alzheimer's Caregivers Support Group
DESCRIPTION:An online support group for family and caregivers of loved ones with memory decline. \nMeets every on the second Friday of each month. Contact Kay for more information.
URL:https://cedarlane.org/calendar/dementia-alzheimes/2026-12-11/
CATEGORIES:Healing
ATTACH;FMTTYPE=image/webp:https://cedarlane.org/wp-content/uploads/2025/10/Caregivers-Support.webp
ORGANIZER;CN="Kay Gottesman":MAILTO:kgottesman@verizon.net
END:VEVENT
BEGIN:VEVENT
DTSTART;TZID=America/New_York:20270108T100000
DTEND;TZID=America/New_York:20270108T113000
DTSTAMP:20260425T123638
CREATED:20250709T164026Z
LAST-MODIFIED:20251101T214302Z
UID:10014978-1799402400-1799407800@cedarlane.org
SUMMARY:Dementia / Alzheimer's Caregivers Support Group
DESCRIPTION:An online support group for family and caregivers of loved ones with memory decline. \nMeets every on the second Friday of each month. Contact Kay for more information.
URL:https://cedarlane.org/calendar/dementia-alzheimes/2027-01-08/
CATEGORIES:Healing
ATTACH;FMTTYPE=image/webp:https://cedarlane.org/wp-content/uploads/2025/10/Caregivers-Support.webp
ORGANIZER;CN="Kay Gottesman":MAILTO:kgottesman@verizon.net
END:VEVENT
BEGIN:VEVENT
DTSTART;TZID=America/New_York:20270212T100000
DTEND;TZID=America/New_York:20270212T113000
DTSTAMP:20260425T123638
CREATED:20250709T164026Z
LAST-MODIFIED:20251101T214302Z
UID:10014979-1802426400-1802431800@cedarlane.org
SUMMARY:Dementia / Alzheimer's Caregivers Support Group
DESCRIPTION:An online support group for family and caregivers of loved ones with memory decline. \nMeets every on the second Friday of each month. Contact Kay for more information.
URL:https://cedarlane.org/calendar/dementia-alzheimes/2027-02-12/
CATEGORIES:Healing
ATTACH;FMTTYPE=image/webp:https://cedarlane.org/wp-content/uploads/2025/10/Caregivers-Support.webp
ORGANIZER;CN="Kay Gottesman":MAILTO:kgottesman@verizon.net
END:VEVENT
BEGIN:VEVENT
DTSTART;TZID=America/New_York:20270312T100000
DTEND;TZID=America/New_York:20270312T113000
DTSTAMP:20260425T123638
CREATED:20250709T164026Z
LAST-MODIFIED:20251101T214302Z
UID:10014980-1804845600-1804851000@cedarlane.org
SUMMARY:Dementia / Alzheimer's Caregivers Support Group
DESCRIPTION:An online support group for family and caregivers of loved ones with memory decline. \nMeets every on the second Friday of each month. Contact Kay for more information.
URL:https://cedarlane.org/calendar/dementia-alzheimes/2027-03-12/
CATEGORIES:Healing
ATTACH;FMTTYPE=image/webp:https://cedarlane.org/wp-content/uploads/2025/10/Caregivers-Support.webp
ORGANIZER;CN="Kay Gottesman":MAILTO:kgottesman@verizon.net
END:VEVENT
BEGIN:VEVENT
DTSTART;TZID=America/New_York:20270409T100000
DTEND;TZID=America/New_York:20270409T113000
DTSTAMP:20260425T123638
CREATED:20250709T164026Z
LAST-MODIFIED:20251101T214302Z
UID:10014981-1807264800-1807270200@cedarlane.org
SUMMARY:Dementia / Alzheimer's Caregivers Support Group
DESCRIPTION:An online support group for family and caregivers of loved ones with memory decline. \nMeets every on the second Friday of each month. Contact Kay for more information.
URL:https://cedarlane.org/calendar/dementia-alzheimes/2027-04-09/
CATEGORIES:Healing
ATTACH;FMTTYPE=image/webp:https://cedarlane.org/wp-content/uploads/2025/10/Caregivers-Support.webp
ORGANIZER;CN="Kay Gottesman":MAILTO:kgottesman@verizon.net
END:VEVENT
BEGIN:VEVENT
DTSTART;TZID=America/New_York:20270514T100000
DTEND;TZID=America/New_York:20270514T113000
DTSTAMP:20260425T123638
CREATED:20250709T164026Z
LAST-MODIFIED:20251101T214302Z
UID:10014982-1810288800-1810294200@cedarlane.org
SUMMARY:Dementia / Alzheimer's Caregivers Support Group
DESCRIPTION:An online support group for family and caregivers of loved ones with memory decline. \nMeets every on the second Friday of each month. Contact Kay for more information.
URL:https://cedarlane.org/calendar/dementia-alzheimes/2027-05-14/
CATEGORIES:Healing
ATTACH;FMTTYPE=image/webp:https://cedarlane.org/wp-content/uploads/2025/10/Caregivers-Support.webp
ORGANIZER;CN="Kay Gottesman":MAILTO:kgottesman@verizon.net
END:VEVENT
BEGIN:VEVENT
DTSTART;TZID=America/New_York:20270611T100000
DTEND;TZID=America/New_York:20270611T113000
DTSTAMP:20260425T123638
CREATED:20250709T164026Z
LAST-MODIFIED:20251101T214302Z
UID:10014983-1812708000-1812713400@cedarlane.org
SUMMARY:Dementia / Alzheimer's Caregivers Support Group
DESCRIPTION:An online support group for family and caregivers of loved ones with memory decline. \nMeets every on the second Friday of each month. Contact Kay for more information.
URL:https://cedarlane.org/calendar/dementia-alzheimes/2027-06-11/
CATEGORIES:Healing
ATTACH;FMTTYPE=image/webp:https://cedarlane.org/wp-content/uploads/2025/10/Caregivers-Support.webp
ORGANIZER;CN="Kay Gottesman":MAILTO:kgottesman@verizon.net
END:VEVENT
BEGIN:VEVENT
DTSTART;TZID=America/New_York:20270709T100000
DTEND;TZID=America/New_York:20270709T113000
DTSTAMP:20260425T123638
CREATED:20250709T164026Z
LAST-MODIFIED:20251101T214302Z
UID:10014984-1815127200-1815132600@cedarlane.org
SUMMARY:Dementia / Alzheimer's Caregivers Support Group
DESCRIPTION:An online support group for family and caregivers of loved ones with memory decline. \nMeets every on the second Friday of each month. Contact Kay for more information.
URL:https://cedarlane.org/calendar/dementia-alzheimes/2027-07-09/
CATEGORIES:Healing
ATTACH;FMTTYPE=image/webp:https://cedarlane.org/wp-content/uploads/2025/10/Caregivers-Support.webp
ORGANIZER;CN="Kay Gottesman":MAILTO:kgottesman@verizon.net
END:VEVENT
BEGIN:VEVENT
DTSTART;TZID=America/New_York:20270813T100000
DTEND;TZID=America/New_York:20270813T113000
DTSTAMP:20260425T123638
CREATED:20250709T164026Z
LAST-MODIFIED:20251101T214302Z
UID:10014985-1818151200-1818156600@cedarlane.org
SUMMARY:Dementia / Alzheimer's Caregivers Support Group
DESCRIPTION:An online support group for family and caregivers of loved ones with memory decline. \nMeets every on the second Friday of each month. Contact Kay for more information.
URL:https://cedarlane.org/calendar/dementia-alzheimes/2027-08-13/
CATEGORIES:Healing
ATTACH;FMTTYPE=image/webp:https://cedarlane.org/wp-content/uploads/2025/10/Caregivers-Support.webp
ORGANIZER;CN="Kay Gottesman":MAILTO:kgottesman@verizon.net
END:VEVENT
BEGIN:VEVENT
DTSTART;TZID=America/New_York:20270910T100000
DTEND;TZID=America/New_York:20270910T113000
DTSTAMP:20260425T123638
CREATED:20250709T164026Z
LAST-MODIFIED:20251101T214302Z
UID:10014986-1820570400-1820575800@cedarlane.org
SUMMARY:Dementia / Alzheimer's Caregivers Support Group
DESCRIPTION:An online support group for family and caregivers of loved ones with memory decline. \nMeets every on the second Friday of each month. Contact Kay for more information.
URL:https://cedarlane.org/calendar/dementia-alzheimes/2027-09-10/
CATEGORIES:Healing
ATTACH;FMTTYPE=image/webp:https://cedarlane.org/wp-content/uploads/2025/10/Caregivers-Support.webp
ORGANIZER;CN="Kay Gottesman":MAILTO:kgottesman@verizon.net
END:VEVENT
BEGIN:VEVENT
DTSTART;TZID=America/New_York:20271008T100000
DTEND;TZID=America/New_York:20271008T113000
DTSTAMP:20260425T123638
CREATED:20250709T164026Z
LAST-MODIFIED:20251101T214302Z
UID:10014987-1822989600-1822995000@cedarlane.org
SUMMARY:Dementia / Alzheimer's Caregivers Support Group
DESCRIPTION:An online support group for family and caregivers of loved ones with memory decline. \nMeets every on the second Friday of each month. Contact Kay for more information.
URL:https://cedarlane.org/calendar/dementia-alzheimes/2027-10-08/
CATEGORIES:Healing
ATTACH;FMTTYPE=image/webp:https://cedarlane.org/wp-content/uploads/2025/10/Caregivers-Support.webp
ORGANIZER;CN="Kay Gottesman":MAILTO:kgottesman@verizon.net
END:VEVENT
BEGIN:VEVENT
DTSTART;TZID=America/New_York:20271112T100000
DTEND;TZID=America/New_York:20271112T113000
DTSTAMP:20260425T123638
CREATED:20250709T164026Z
LAST-MODIFIED:20251101T214302Z
UID:10014988-1826013600-1826019000@cedarlane.org
SUMMARY:Dementia / Alzheimer's Caregivers Support Group
DESCRIPTION:An online support group for family and caregivers of loved ones with memory decline. \nMeets every on the second Friday of each month. Contact Kay for more information.
URL:https://cedarlane.org/calendar/dementia-alzheimes/2027-11-12/
CATEGORIES:Healing
ATTACH;FMTTYPE=image/webp:https://cedarlane.org/wp-content/uploads/2025/10/Caregivers-Support.webp
ORGANIZER;CN="Kay Gottesman":MAILTO:kgottesman@verizon.net
END:VEVENT
BEGIN:VEVENT
DTSTART;TZID=America/New_York:20271210T100000
DTEND;TZID=America/New_York:20271210T113000
DTSTAMP:20260425T123638
CREATED:20250709T164026Z
LAST-MODIFIED:20251101T214302Z
UID:10014989-1828432800-1828438200@cedarlane.org
SUMMARY:Dementia / Alzheimer's Caregivers Support Group
DESCRIPTION:An online support group for family and caregivers of loved ones with memory decline. \nMeets every on the second Friday of each month. Contact Kay for more information.
URL:https://cedarlane.org/calendar/dementia-alzheimes/2027-12-10/
CATEGORIES:Healing
ATTACH;FMTTYPE=image/webp:https://cedarlane.org/wp-content/uploads/2025/10/Caregivers-Support.webp
ORGANIZER;CN="Kay Gottesman":MAILTO:kgottesman@verizon.net
END:VEVENT
BEGIN:VEVENT
DTSTART;TZID=America/New_York:20280114T100000
DTEND;TZID=America/New_York:20280114T113000
DTSTAMP:20260425T123638
CREATED:20250709T164026Z
LAST-MODIFIED:20251101T214302Z
UID:10014990-1831456800-1831462200@cedarlane.org
SUMMARY:Dementia / Alzheimer's Caregivers Support Group
DESCRIPTION:An online support group for family and caregivers of loved ones with memory decline. \nMeets every on the second Friday of each month. Contact Kay for more information.
URL:https://cedarlane.org/calendar/dementia-alzheimes/2028-01-14/
CATEGORIES:Healing
ATTACH;FMTTYPE=image/webp:https://cedarlane.org/wp-content/uploads/2025/10/Caregivers-Support.webp
ORGANIZER;CN="Kay Gottesman":MAILTO:kgottesman@verizon.net
END:VEVENT
BEGIN:VEVENT
DTSTART;TZID=America/New_York:20280211T100000
DTEND;TZID=America/New_York:20280211T113000
DTSTAMP:20260425T123638
CREATED:20250709T164026Z
LAST-MODIFIED:20251101T214302Z
UID:10014991-1833876000-1833881400@cedarlane.org
SUMMARY:Dementia / Alzheimer's Caregivers Support Group
DESCRIPTION:An online support group for family and caregivers of loved ones with memory decline. \nMeets every on the second Friday of each month. Contact Kay for more information.
URL:https://cedarlane.org/calendar/dementia-alzheimes/2028-02-11/
CATEGORIES:Healing
ATTACH;FMTTYPE=image/webp:https://cedarlane.org/wp-content/uploads/2025/10/Caregivers-Support.webp
ORGANIZER;CN="Kay Gottesman":MAILTO:kgottesman@verizon.net
END:VEVENT
BEGIN:VEVENT
DTSTART;TZID=America/New_York:20280310T100000
DTEND;TZID=America/New_York:20280310T113000
DTSTAMP:20260425T123638
CREATED:20250709T164026Z
LAST-MODIFIED:20251101T214302Z
UID:10014992-1836295200-1836300600@cedarlane.org
SUMMARY:Dementia / Alzheimer's Caregivers Support Group
DESCRIPTION:An online support group for family and caregivers of loved ones with memory decline. \nMeets every on the second Friday of each month. Contact Kay for more information.
URL:https://cedarlane.org/calendar/dementia-alzheimes/2028-03-10/
CATEGORIES:Healing
ATTACH;FMTTYPE=image/webp:https://cedarlane.org/wp-content/uploads/2025/10/Caregivers-Support.webp
ORGANIZER;CN="Kay Gottesman":MAILTO:kgottesman@verizon.net
END:VEVENT
BEGIN:VEVENT
DTSTART;TZID=America/New_York:20280414T100000
DTEND;TZID=America/New_York:20280414T113000
DTSTAMP:20260425T123638
CREATED:20250709T164026Z
LAST-MODIFIED:20251101T214302Z
UID:10014993-1839319200-1839324600@cedarlane.org
SUMMARY:Dementia / Alzheimer's Caregivers Support Group
DESCRIPTION:An online support group for family and caregivers of loved ones with memory decline. \nMeets every on the second Friday of each month. Contact Kay for more information.
URL:https://cedarlane.org/calendar/dementia-alzheimes/2028-04-14/
CATEGORIES:Healing
ATTACH;FMTTYPE=image/webp:https://cedarlane.org/wp-content/uploads/2025/10/Caregivers-Support.webp
ORGANIZER;CN="Kay Gottesman":MAILTO:kgottesman@verizon.net
END:VEVENT
BEGIN:VEVENT
DTSTART;TZID=America/New_York:20280512T100000
DTEND;TZID=America/New_York:20280512T113000
DTSTAMP:20260425T123638
CREATED:20250709T164026Z
LAST-MODIFIED:20251101T214302Z
UID:10014994-1841738400-1841743800@cedarlane.org
SUMMARY:Dementia / Alzheimer's Caregivers Support Group
DESCRIPTION:An online support group for family and caregivers of loved ones with memory decline. \nMeets every on the second Friday of each month. Contact Kay for more information.
URL:https://cedarlane.org/calendar/dementia-alzheimes/2028-05-12/
CATEGORIES:Healing
ATTACH;FMTTYPE=image/webp:https://cedarlane.org/wp-content/uploads/2025/10/Caregivers-Support.webp
ORGANIZER;CN="Kay Gottesman":MAILTO:kgottesman@verizon.net
END:VEVENT
BEGIN:VEVENT
DTSTART;TZID=America/New_York:20280609T100000
DTEND;TZID=America/New_York:20280609T113000
DTSTAMP:20260425T123638
CREATED:20250709T164026Z
LAST-MODIFIED:20251101T214302Z
UID:10014995-1844157600-1844163000@cedarlane.org
SUMMARY:Dementia / Alzheimer's Caregivers Support Group
DESCRIPTION:An online support group for family and caregivers of loved ones with memory decline. \nMeets every on the second Friday of each month. Contact Kay for more information.
URL:https://cedarlane.org/calendar/dementia-alzheimes/2028-06-09/
CATEGORIES:Healing
ATTACH;FMTTYPE=image/webp:https://cedarlane.org/wp-content/uploads/2025/10/Caregivers-Support.webp
ORGANIZER;CN="Kay Gottesman":MAILTO:kgottesman@verizon.net
END:VEVENT
BEGIN:VEVENT
DTSTART;TZID=America/New_York:20280714T100000
DTEND;TZID=America/New_York:20280714T113000
DTSTAMP:20260425T123638
CREATED:20250709T164026Z
LAST-MODIFIED:20251101T214302Z
UID:10014996-1847181600-1847187000@cedarlane.org
SUMMARY:Dementia / Alzheimer's Caregivers Support Group
DESCRIPTION:An online support group for family and caregivers of loved ones with memory decline. \nMeets every on the second Friday of each month. Contact Kay for more information.
URL:https://cedarlane.org/calendar/dementia-alzheimes/2028-07-14/
CATEGORIES:Healing
ATTACH;FMTTYPE=image/webp:https://cedarlane.org/wp-content/uploads/2025/10/Caregivers-Support.webp
ORGANIZER;CN="Kay Gottesman":MAILTO:kgottesman@verizon.net
END:VEVENT
BEGIN:VEVENT
DTSTART;TZID=America/New_York:20280811T100000
DTEND;TZID=America/New_York:20280811T113000
DTSTAMP:20260425T123638
CREATED:20250709T164026Z
LAST-MODIFIED:20251101T214302Z
UID:10014997-1849600800-1849606200@cedarlane.org
SUMMARY:Dementia / Alzheimer's Caregivers Support Group
DESCRIPTION:An online support group for family and caregivers of loved ones with memory decline. \nMeets every on the second Friday of each month. Contact Kay for more information.
URL:https://cedarlane.org/calendar/dementia-alzheimes/2028-08-11/
CATEGORIES:Healing
ATTACH;FMTTYPE=image/webp:https://cedarlane.org/wp-content/uploads/2025/10/Caregivers-Support.webp
ORGANIZER;CN="Kay Gottesman":MAILTO:kgottesman@verizon.net
END:VEVENT
BEGIN:VEVENT
DTSTART;TZID=America/New_York:20280908T100000
DTEND;TZID=America/New_York:20280908T113000
DTSTAMP:20260425T123638
CREATED:20250709T164026Z
LAST-MODIFIED:20251101T214302Z
UID:10014998-1852020000-1852025400@cedarlane.org
SUMMARY:Dementia / Alzheimer's Caregivers Support Group
DESCRIPTION:An online support group for family and caregivers of loved ones with memory decline. \nMeets every on the second Friday of each month. Contact Kay for more information.
URL:https://cedarlane.org/calendar/dementia-alzheimes/2028-09-08/
CATEGORIES:Healing
ATTACH;FMTTYPE=image/webp:https://cedarlane.org/wp-content/uploads/2025/10/Caregivers-Support.webp
ORGANIZER;CN="Kay Gottesman":MAILTO:kgottesman@verizon.net
END:VEVENT
BEGIN:VEVENT
DTSTART;TZID=America/New_York:20281013T100000
DTEND;TZID=America/New_York:20281013T113000
DTSTAMP:20260425T123638
CREATED:20250709T164026Z
LAST-MODIFIED:20251101T214302Z
UID:10014999-1855044000-1855049400@cedarlane.org
SUMMARY:Dementia / Alzheimer's Caregivers Support Group
DESCRIPTION:An online support group for family and caregivers of loved ones with memory decline. \nMeets every on the second Friday of each month. Contact Kay for more information.
URL:https://cedarlane.org/calendar/dementia-alzheimes/2028-10-13/
CATEGORIES:Healing
ATTACH;FMTTYPE=image/webp:https://cedarlane.org/wp-content/uploads/2025/10/Caregivers-Support.webp
ORGANIZER;CN="Kay Gottesman":MAILTO:kgottesman@verizon.net
END:VEVENT
END:VCALENDAR