BEGIN:VCALENDAR
VERSION:2.0
PRODID:-//Cedar Lane Unitarian Universalist Congregation - ECPv6.15.20//NONSGML v1.0//EN
CALSCALE:GREGORIAN
METHOD:PUBLISH
X-WR-CALNAME:Cedar Lane Unitarian Universalist Congregation
X-ORIGINAL-URL:https://cedarlane.org
X-WR-CALDESC:Events for Cedar Lane Unitarian Universalist Congregation
REFRESH-INTERVAL;VALUE=DURATION:PT1H
X-Robots-Tag:noindex
X-PUBLISHED-TTL:PT1H
BEGIN:VTIMEZONE
TZID:America/New_York
BEGIN:DAYLIGHT
TZOFFSETFROM:-0500
TZOFFSETTO:-0400
TZNAME:EDT
DTSTART:20240310T070000
END:DAYLIGHT
BEGIN:STANDARD
TZOFFSETFROM:-0400
TZOFFSETTO:-0500
TZNAME:EST
DTSTART:20241103T060000
END:STANDARD
BEGIN:DAYLIGHT
TZOFFSETFROM:-0500
TZOFFSETTO:-0400
TZNAME:EDT
DTSTART:20250309T070000
END:DAYLIGHT
BEGIN:STANDARD
TZOFFSETFROM:-0400
TZOFFSETTO:-0500
TZNAME:EST
DTSTART:20251102T060000
END:STANDARD
BEGIN:DAYLIGHT
TZOFFSETFROM:-0500
TZOFFSETTO:-0400
TZNAME:EDT
DTSTART:20260308T070000
END:DAYLIGHT
BEGIN:STANDARD
TZOFFSETFROM:-0400
TZOFFSETTO:-0500
TZNAME:EST
DTSTART:20261101T060000
END:STANDARD
BEGIN:DAYLIGHT
TZOFFSETFROM:-0500
TZOFFSETTO:-0400
TZNAME:EDT
DTSTART:20270314T070000
END:DAYLIGHT
BEGIN:STANDARD
TZOFFSETFROM:-0400
TZOFFSETTO:-0500
TZNAME:EST
DTSTART:20271107T060000
END:STANDARD
END:VTIMEZONE
BEGIN:VEVENT
DTSTART;TZID=America/New_York:20260324T190000
DTEND;TZID=America/New_York:20260324T203000
DTSTAMP:20260425T081009
CREATED:20250813T175818Z
LAST-MODIFIED:20251101T214305Z
UID:10001007-1774378800-1774384200@cedarlane.org
SUMMARY:Diverse Voices Book Club
DESCRIPTION:This discussion group meets on the 4th Tuesday of each month on zoom. To get more information or join the group\, reach out to Sandy Shaw.
URL:https://cedarlane.org/calendar/diverse-voices-book-club/2026-03-24/
CATEGORIES:Learn and Grow
ATTACH;FMTTYPE=image/webp:https://cedarlane.org/wp-content/uploads/2025/10/diversevoices.webp
ORGANIZER;CN="Sandy Shaw":MAILTO:DVBC@cedarlane.org
LOCATION:https://cedarlane.org/calendar/diverse-voices-book-club/2026-03-24/
END:VEVENT
BEGIN:VEVENT
DTSTART;TZID=America/New_York:20260224T190000
DTEND;TZID=America/New_York:20260224T203000
DTSTAMP:20260425T081009
CREATED:20250813T175818Z
LAST-MODIFIED:20251101T214305Z
UID:10001006-1771959600-1771965000@cedarlane.org
SUMMARY:Diverse Voices Book Club
DESCRIPTION:This discussion group meets on the 4th Tuesday of each month on zoom. To get more information or join the group\, reach out to Sandy Shaw.
URL:https://cedarlane.org/calendar/diverse-voices-book-club/2026-02-24/
CATEGORIES:Learn and Grow
ATTACH;FMTTYPE=image/webp:https://cedarlane.org/wp-content/uploads/2025/10/diversevoices.webp
ORGANIZER;CN="Sandy Shaw":MAILTO:DVBC@cedarlane.org
LOCATION:https://cedarlane.org/calendar/diverse-voices-book-club/2026-02-24/
END:VEVENT
BEGIN:VEVENT
DTSTART;TZID=America/New_York:20260127T190000
DTEND;TZID=America/New_York:20260127T203000
DTSTAMP:20260425T081009
CREATED:20251120T220528Z
LAST-MODIFIED:20251120T220528Z
UID:10001005-1769540400-1769545800@cedarlane.org
SUMMARY:Diverse Voices Book Club
DESCRIPTION:This discussion group meets on the 4th Tuesday of each month on zoom. To get more information or join the group\, reach out to Sandy Shaw. \nOur book for January is Dream Count by Chimamanda Ngozi Adichie.
URL:https://cedarlane.org/calendar/diverse-voices-book-club-3/
CATEGORIES:Learn and Grow
ATTACH;FMTTYPE=image/webp:https://cedarlane.org/wp-content/uploads/2025/11/ngozi.webp
ORGANIZER;CN="Sandy Shaw":MAILTO:DVBC@cedarlane.org
LOCATION:https://cedarlane.org/calendar/diverse-voices-book-club-3/
END:VEVENT
BEGIN:VEVENT
DTSTART;TZID=America/New_York:20251219T190000
DTEND;TZID=America/New_York:20251219T203000
DTSTAMP:20260425T081009
CREATED:20251120T215422Z
LAST-MODIFIED:20251121T194409Z
UID:10001004-1766170800-1766176200@cedarlane.org
SUMMARY:Diverse Voices Book Club
DESCRIPTION:For December\, we will be reading Life and Death are Wearing Me Out by Nobel Prize winner Mo Yan… satirical look at China’s history 1950s-2000s. Stripped of his possessions and executed as a result of Mao’s Land Reform Movement in 1948\, benevolent landowner Ximen Nao finds himself endlessly tortured in Hell before he is systematically reborn on Earth. \nNext Month’s Selection: Dream Count by Chimamanda Ngozi Adichie.  \nContact the organizer for the zoom link.
URL:https://cedarlane.org/calendar/diverse-voices-book-club-2/
CATEGORIES:Learn and Grow
ATTACH;FMTTYPE=image/webp:https://cedarlane.org/wp-content/uploads/2025/11/s-l1200-e1763675905175.webp
ORGANIZER;CN="Sandy Shaw":MAILTO:DVBC@cedarlane.org
LOCATION:https://cedarlane.org/calendar/diverse-voices-book-club-2/
END:VEVENT
BEGIN:VEVENT
DTSTART;TZID=America/New_York:20251125T190000
DTEND;TZID=America/New_York:20251125T203000
DTSTAMP:20260425T081009
CREATED:20250813T175818Z
LAST-MODIFIED:20251101T214305Z
UID:10001003-1764097200-1764102600@cedarlane.org
SUMMARY:Diverse Voices Book Club
DESCRIPTION:This discussion group meets on the 4th Tuesday of each month on zoom. To get more information or join the group\, reach out to Sandy Shaw.
URL:https://cedarlane.org/calendar/diverse-voices-book-club/2025-11-25/
CATEGORIES:Learn and Grow
ATTACH;FMTTYPE=image/webp:https://cedarlane.org/wp-content/uploads/2025/10/diversevoices.webp
ORGANIZER;CN="Sandy Shaw":MAILTO:DVBC@cedarlane.org
LOCATION:https://cedarlane.org/calendar/diverse-voices-book-club/2025-11-25/
END:VEVENT
BEGIN:VEVENT
DTSTART;TZID=America/New_York:20251028T190000
DTEND;TZID=America/New_York:20251028T203000
DTSTAMP:20260425T081009
CREATED:20250813T175818Z
LAST-MODIFIED:20251101T214305Z
UID:10001002-1761678000-1761683400@cedarlane.org
SUMMARY:Diverse Voices Book Club
DESCRIPTION:This discussion group meets on the 4th Tuesday of each month on zoom. To get more information or join the group\, reach out to Sandy Shaw.
URL:https://cedarlane.org/calendar/diverse-voices-book-club/2025-10-28/
CATEGORIES:Learn and Grow
ATTACH;FMTTYPE=image/webp:https://cedarlane.org/wp-content/uploads/2025/10/diversevoices.webp
ORGANIZER;CN="Sandy Shaw":MAILTO:DVBC@cedarlane.org
LOCATION:https://cedarlane.org/calendar/diverse-voices-book-club/2025-10-28/
END:VEVENT
BEGIN:VEVENT
DTSTART;TZID=America/New_York:20250923T190000
DTEND;TZID=America/New_York:20250923T203000
DTSTAMP:20260425T081009
CREATED:20250813T175818Z
LAST-MODIFIED:20251101T214305Z
UID:10001001-1758654000-1758659400@cedarlane.org
SUMMARY:Diverse Voices Book Club
DESCRIPTION:This discussion group meets on the 4th Tuesday of each month on zoom. To get more information or join the group\, reach out to Sandy Shaw.
URL:https://cedarlane.org/calendar/diverse-voices-book-club/2025-09-23/
CATEGORIES:Learn and Grow
ATTACH;FMTTYPE=image/webp:https://cedarlane.org/wp-content/uploads/2025/10/diversevoices.webp
ORGANIZER;CN="Sandy Shaw":MAILTO:DVBC@cedarlane.org
LOCATION:https://cedarlane.org/calendar/diverse-voices-book-club/2025-09-23/
END:VEVENT
BEGIN:VEVENT
DTSTART;TZID=America/New_York:20250826T190000
DTEND;TZID=America/New_York:20250826T203000
DTSTAMP:20260425T081009
CREATED:20250813T175818Z
LAST-MODIFIED:20251101T214305Z
UID:10001000-1756234800-1756240200@cedarlane.org
SUMMARY:Diverse Voices Book Club
DESCRIPTION:This discussion group meets on the 4th Tuesday of each month on zoom. To get more information or join the group\, reach out to Sandy Shaw.
URL:https://cedarlane.org/calendar/diverse-voices-book-club/2025-08-26/
CATEGORIES:Learn and Grow
ATTACH;FMTTYPE=image/webp:https://cedarlane.org/wp-content/uploads/2025/10/diversevoices.webp
ORGANIZER;CN="Sandy Shaw":MAILTO:DVBC@cedarlane.org
LOCATION:https://cedarlane.org/calendar/diverse-voices-book-club/2025-08-26/
END:VEVENT
END:VCALENDAR